Workbook

Sheet Славянка
B1: 31 | C1: 32 | F1: 33 | G1: 34 | J1: 35 | K1: 36 | N1: 37 | O1: 38 | R1: 39 | S1: 40 | V1: 25 | W1: 26 | AA1: 29 | AB1: 30 | AE1: 27 | AF1: 28 | AI1: 21 | AJ1: 22 | AM1: 23 | AN1: 24 | AQ1: 41 | AR1: 42 | AU1: 11 | AV1: 12 | AZ1: 9 | BA1: 10 | BD1: 5 | BE1: 6 | BH1: 19 | BI1: 20 | BL1: 12 | BM1: 12 | BP1: 91 | BQ1: 92 | BT1: 17 | BU1: 18
A2: замера нагрузок в контрольный день | G2: =CONCATENATE(TEXT(Данные!$B$1,"ДД ММММ ГГГГ"), " г.") -> 20 Декабрь 2023 г. | K2: В Е Д О М О С Т Ь | Q2: по | R2: АО "Дальневосточная ресурсоснабжающая компания" | Z2: замера нагрузок в контрольный день | AF2: =CONCATENATE(TEXT(Данные!$B$1,"ДД ММММ ГГГГ"), " г.") -> 20 Декабрь 2023 г. | AJ2: В Е Д О М О С Т Ь | AP2: по | AQ2: АО "Дальневосточная ресурсоснабжающая компания" | AY2: замера нагрузок в контрольный день | BE2: =CONCATENATE(TEXT(Данные!$B$1,"ДД ММММ ГГГГ"), " г.") -> 20 Декабрь 2023 г. | BH2: ВЕДОМОСТЬ | BX2: АО "ДВ РСК"
F3: число, месяц | U3: наименование предприятия | AE3: число, месяц | AT3: наименование предприятия | BB3: число, месяц
A4: п-ст | C4: п/с "Славянка" | K4: напряжение в сети | O4: 10 | Q4: кВ | Z4: п-ст | AB4: п/с "Славянка" | AJ4: напряжение в сети | AN4: 10 | AP4: кВ | AY4: п-ст | BA4: п/с "Славянка" | BE4: напряжение в сети | BI4: 10 | BJ4: кВ
B5: наименование п-ст и ее принадлежность | AA5: наименование п-ст и ее принадлежность | AZ5: наименование п-ст и ее принадлежность
A6: В ремя замера нагрузок | B6: Фидер № | D6: 20 | F6: Фидер № | H6: 25 | J6: Фидер № | L6: 31 | N6: Фидер № | P6: 5 | R6: Фидер № | T6: 6 | V6: Фидер № | X6: 16 | Z6: В ремя замера нагрузок | AA6: Фидер № | AC6: 19 | AE6: Фидер № | AG6: 18 | AI6: Фидер № | AK6: 10 | AM6: Фидер № | AO6: 12 | AQ6: Фидер № | AS6: 8 | AU6: Фидер № | AW6: 26 | AY6: В ремя замера нагрузок | AZ6: Фидер № | BB6: 14 | BD6: Фидер № | BF6: 4 | BH6: Фидер № | BJ6: 4 | BL6: Фидер № | BP6: Фидер № | BR6: 34 | BT6: ПС Славянка Фидер № 34 | BX6: В ремя замера нагрузок
B7: Кто питается | F7: Кто питается | J7: Кто питается | N7: Кто питается | R7: Кто питается | V7: Кто питается | AA7: Кто питается | AE7: Кто питается | AI7: Кто питается | AM7: Кто питается | AQ7: Кто питается | AU7: Кто питается | AZ7: Кто питается | BD7: Кто питается | BH7: Кто питается | BJ7: оп 80 | BL7: Кто питается | BP7: Кто питается | BT7: Кто питается
AW8: ТП-24 | BB8: ТП - 35 | BF8: ТП-47 | BJ8: ТП-21 | BN8: KТП-24 | BR8: ТП-5А | BT8: РП-1 (СРЗ) ТП5А ЗАО "Восток бункер" | BY8: Итого
B9: Т-р тока____________________ | C9: 200/5 | F9: Т-р тока____________________ | G9: 200/5 | J9: Т-р тока____________________ | K9: 200/5 | N9: Т-р тока____________________ | O9: 200/5 | R9: Т-р тока____________________ | S9: 200/5 | V9: Т-р тока____________________ | W9: 200/5 | AA9: Т-р тока____________________ | AB9: 200/5 | AE9: Т-р тока____________________ | AF9: 200/5 | AI9: Т-р тока____________________ | AJ9: 200/5 | AM9: Т-р тока____________________ | AN9: 200/5 | AQ9: Т-р тока____________________ | AR9: 300/5 | AU9: Т-р тока____________________ | AV9: 10/5 | AZ9: Т-р тока____________________ | BD9: Т-р тока____________________ | BE9: 10/5 | BH9: Т-р тока____________________ | BL9: Т-р тока____________________ | BP9: Т-р тока____________________ | BT9: Т-р тока____________________ | BU9: 200/5 | BY9: по фидерам
B10: Расчетный коэф.____________ | D10: 4000 | F10: Расчетный коэф.____________ | H10: 4000 | J10: Расчетный коэф.____________ | L10: 4000 | N10: Расчетный коэф.____________ | P10: 4000 | R10: Расчетный коэф.____________ | T10: 4000 | V10: Расчетный коэф.____________ | X10: 4000 | AA10: Расчетный коэф.____________ | AC10: 4000 | AE10: Расчетный коэф.____________ | AG10: 6000 | AI10: Расчетный коэф.____________ | AK10: 4000 | AM10: Расчетный коэф.____________ | AO10: 4000 | AQ10: Расчетный коэф.____________ | AS10: 6000 | AU10: Расчетный коэф.____________ | AW10: 600 | AZ10: Расчетный коэф.____________ | BB10: 300 | BD10: Расчетный коэф.____________ | BF10: 600 | BH10: Расчетный коэф.____________ | BJ10: 3000 | BL10: Расчетный коэф.____________ | BN10: 600 | BP10: Расчетный коэф.____________ | BR10: 4000 | BT10: Расчетный коэф. | BV10: 4000
B11: показания | D11: нагрузка | F11: показания | H11: нагрузка | J11: показания | L11: нагрузка | N11: показания | P11: нагрузка | R11: показания | T11: нагрузка | V11: показания | X11: нагрузка | AA11: показания | AC11: нагрузка | AE11: показания | AG11: нагрузка | AI11: показания | AK11: нагрузка | AM11: показания | AO11: нагрузка | AQ11: показания | AS11: нагрузка | AU11: показания | AW11: нагрузка | AZ11: показания | BB11: нагрузка | BD11: показания | BF11: нагрузка | BH11: показания | BJ11: нагрузка | BL11: показания | BN11: нагрузка | BP11: показания | BR11: нагрузка | BT11: показания | BV11: нагрузка
B12: эл.счетчиков | F12: эл.счетчиков | J12: эл.счетчиков | N12: эл.счетчиков | R12: эл.счетчиков | V12: эл.счетчиков | AA12: эл.счетчиков | AE12: эл.счетчиков | AI12: эл.счетчиков | AM12: эл.счетчиков | AQ12: эл.счетчиков | AU12: эл.счетчиков | AZ12: эл.счетчиков | BD12: эл.счетчиков | BH12: эл.счетчиков | BL12: эл.счетчиков | BP12: эл.счетчиков | BT12: эл.счетчиков
B13: актив- | C13: реак- | D13: актив. | E13: реакт. | F13: актив- | G13: реак- | H13: актив. | I13: реакт. | J13: актив- | K13: реак- | L13: актив. | M13: реакт. | N13: актив- | O13: реак- | P13: актив. | Q13: реакт. | R13: актив- | S13: реак- | T13: актив. | U13: реакт. | V13: актив- | W13: реак- | X13: актив. | Y13: реакт. | AA13: актив- | AB13: реак- | AC13: актив. | AD13: реакт. | AE13: актив- | AF13: реак- | AG13: актив. | AH13: реакт. | AI13: актив- | AJ13: реак- | AK13: актив. | AL13: реакт. | AM13: актив- | AN13: реак- | AO13: актив. | AP13: реакт. | AQ13: актив- | AR13: реак- | AS13: актив. | AT13: реакт. | AU13: актив- | AV13: реак- | AW13: актив. | AX13: реакт. | AZ13: актив- | BA13: реак- | BB13: актив. | BC13: реакт. | BD13: актив- | BE13: реак- | BF13: актив. | BG13: реакт. | BH13: актив- | BI13: реак- | BJ13: актив. | BK13: реакт. | BL13: актив- | BM13: реак- | BN13: актив. | BO13: реакт. | BP13: актив- | BQ13: реак- | BR13: актив. | BS13: реакт. | BT13: актив- | BU13: реак- | BV13: актив. | BW13: реакт. | BY13: актив. | BZ13: реакт.
B14: ного | C14: тивного | D14: кВт | E14: кВар | F14: ного | G14: тивного | H14: кВт | I14: кВар | J14: ного | K14: тивного | L14: кВт | M14: кВар | N14: ного | O14: тивного | P14: кВт | Q14: кВар | R14: ного | S14: тивного | T14: кВт | U14: кВар | V14: ного | W14: тивного | X14: кВт | Y14: кВар | AA14: ного | AB14: тивного | AC14: кВт | AD14: кВар | AE14: ного | AF14: тивного | AG14: кВт | AH14: кВар | AI14: ного | AJ14: тивного | AK14: кВт | AL14: кВар | AM14: ного | AN14: тивного | AO14: кВт | AP14: кВар | AQ14: ного | AR14: тивного | AS14: кВт | AT14: кВар | AU14: ного | AV14: тивного | AW14: кВт | AX14: кВар | AZ14: ного | BA14: тивного | BB14: кВт | BC14: кВар | BD14: ного | BE14: тивного | BF14: кВт | BG14: кВар | BH14: ного | BI14: тивного | BJ14: кВт | BK14: кВар | BL14: ного | BM14: тивного | BN14: кВт | BO14: кВар | BP14: ного | BQ14: тивного | BR14: кВт | BS14: кВар | BT14: ного+ | BU14: тивного+ | BV14: кВт | BW14: кВар | BY14: кВт | BZ14: кВар
A15: =INDIRECT(ADDRESS(Данные!$A7,4,1,1,"Данные"), 1) -> 45280 | B15: =ROUND(INDIRECT(ADDRESS(Данные!$A7,B$1,1,1,"Данные"), 1),2) -> 12174.93 | C15: =ROUND(INDIRECT(ADDRESS(Данные!$A7,C$1,1,1,"Данные"), 1),2) -> 5254.63 | F15: =ROUND(INDIRECT(ADDRESS(Данные!$A7,F$1,1,1,"Данные"), 1),2) -> 41018.28 | G15: =ROUND(INDIRECT(ADDRESS(Данные!$A7,G$1,1,1,"Данные"), 1),2) -> 9015.95 | J15: =ROUND(INDIRECT(ADDRESS(Данные!$A7,J$1,1,1,"Данные"), 1),2) -> 16047.89 | K15: =ROUND(INDIRECT(ADDRESS(Данные!$A7,K$1,1,1,"Данные"), 1),2) -> 3847.83 | N15: =ROUND(INDIRECT(ADDRESS(Данные!$A7,N$1,1,1,"Данные"), 1),2) -> 6366.54 | O15: =ROUND(INDIRECT(ADDRESS(Данные!$A7,O$1,1,1,"Данные"), 1),2) -> 1168.05 | R15: =ROUND(INDIRECT(ADDRESS(Данные!$A7,R$1,1,1,"Данные"), 1),2) -> 6460.19 | S15: =ROUND(INDIRECT(ADDRESS(Данные!$A7,S$1,1,1,"Данные"), 1),2) -> 3041.54 | V15: =ROUND(INDIRECT(ADDRESS(Данные!$A7,V$1,1,1,"Данные"), 1),2) -> 3097.88 | W15: =ROUND(INDIRECT(ADDRESS(Данные!$A7,W$1,1,1,"Данные"), 1),2) -> 1217.34 | Z15: =INDIRECT(ADDRESS(Данные!$A7,4,1,1,"Данные"), 1) -> 45280 | AA15: =ROUND(INDIRECT(ADDRESS(Данные!$A7,AA$1,1,1,"Данные"), 1),2) -> 14072.62 | AB15: =ROUND(INDIRECT(ADDRESS(Данные!$A7,AB$1,1,1,"Данные"), 1),2) -> 2863.79 | AE15: =ROUND(INDIRECT(ADDRESS(Данные!$A7,AE$1,1,1,"Данные"), 1),2) -> 14162.65 | AF15: =ROUND(INDIRECT(ADDRESS(Данные!$A7,AF$1,1,1,"Данные"), 1),2) -> 4579.62 | AI15: =ROUND(INDIRECT(ADDRESS(Данные!$A7,AI$1,1,1,"Данные"), 1),2) -> 1357.29 | AJ15: =ROUND(INDIRECT(ADDRESS(Данные!$A7,AJ$1,1,1,"Данные"), 1),2) -> 387.72 | AM15: =ROUND(INDIRECT(ADDRESS(Данные!$A7,AM$1,1,1,"Данные"), 1),2) -> 19413.69 | AN15: =ROUND(INDIRECT(ADDRESS(Данные!$A7,AN$1,1,1,"Данные"), 1),2) -> 7650.47 | AQ15: =ROUND(INDIRECT(ADDRESS(Данные!$A7,AQ$1,1,1,"Данные"), 1),2) -> 15511.47 | AR15: =ROUND(INDIRECT(ADDRESS(Данные!$A7,AR$1,1,1,"Данные"), 1),2) -> 4021.51 | AU15: =ROUND(INDIRECT(ADDRESS(Данные!$A7,AU$1,1,1,"Данные"), 1),2) -> 2787.55 | AV15: =ROUND(INDIRECT(ADDRESS(Данные!$A7,AV$1,1,1,"Данные"), 1),2) -> 1238.2 | AY15: =INDIRECT(ADDRESS(Данные!$A7,4,1,1,"Данные"), 1) -> 45280 | AZ15: =ROUND(INDIRECT(ADDRESS(Данные!$A7,AZ$1,1,1,"Данные"), 1),2) -> 2526.91 | BA15: =ROUND(INDIRECT(ADDRESS(Данные!$A7,BA$1,1,1,"Данные"), 1),2) -> 0 | BD15: =ROUND(INDIRECT(ADDRESS(Данные!$A7,BD$1,1,1,"Данные"), 1),2) -> 7201.21 | BE15: =ROUND(INDIRECT(ADDRESS(Данные!$A7,BE$1,1,1,"Данные"), 1),2) -> 4698.23 | BH15: =ROUND(INDIRECT(ADDRESS(Данные!$A7,BH$1,1,1,"Данные"), 1),2) -> 89.23 | BI15: =ROUND(INDIRECT(ADDRESS(Данные!$A7,BI$1,1,1,"Данные"), 1),2) -> 52.02 | BL15: =ROUND(INDIRECT(ADDRESS(Данные!$A7,BL$1,1,1,"Данные"), 1),2) -> 1238.2 | BM15: =ROUND(INDIRECT(ADDRESS(Данные!$A7,BM$1,1,1,"Данные"), 1),2) -> 1238.2 | BP15: =ROUND(INDIRECT(ADDRESS(Данные!$A7,BP$1,1,1,"Данные"), 1),2) -> 7616.51 | BQ15: =ROUND(INDIRECT(ADDRESS(Данные!$A7,BQ$1,1,1,"Данные"), 1),2) -> 2342.98 | BT15: =ROUND(INDIRECT(ADDRESS(Данные!$A7,BT$1,1,1,"Данные"), 1),2) -> 107.63 | BU15: =ROUND(INDIRECT(ADDRESS(Данные!$A7,BU$1,1,1,"Данные"), 1),2) -> 6.96 | BX15: =$A15 -> 45280
A16: =INDIRECT(ADDRESS(Данные!$A8,4,1,1,"Данные"), 1) -> 45280.021 | B16: =ROUND(INDIRECT(ADDRESS(Данные!$A8,B$1,1,1,"Данные"), 1),2) -> 12174.99 | C16: =ROUND(INDIRECT(ADDRESS(Данные!$A8,C$1,1,1,"Данные"), 1),2) -> 5254.64 | D16: =(B16-B15)*D$10 -> 240 | E16: =(C16-C15)*D$10 -> 40 | F16: =ROUND(INDIRECT(ADDRESS(Данные!$A8,F$1,1,1,"Данные"), 1),2) -> 41018.44 | G16: =ROUND(INDIRECT(ADDRESS(Данные!$A8,G$1,1,1,"Данные"), 1),2) -> 9015.97 | H16: =(F16-F15)*H$10 -> 640 | I16: =(G16-G15)*H$10 -> 80 | J16: =ROUND(INDIRECT(ADDRESS(Данные!$A8,J$1,1,1,"Данные"), 1),2) -> 16048 | K16: =ROUND(INDIRECT(ADDRESS(Данные!$A8,K$1,1,1,"Данные"), 1),2) -> 3847.84 | L16: =(J16-J15)*L$10 -> 440 | M16: =(K16-K15)*L$10 -> 40 | N16: =ROUND(INDIRECT(ADDRESS(Данные!$A8,N$1,1,1,"Данные"), 1),2) -> 6366.68 | O16: =ROUND(INDIRECT(ADDRESS(Данные!$A8,O$1,1,1,"Данные"), 1),2) -> 1168.06 | P16: =(N16-N15)*P$10 -> 560 | Q16: =(O16-O15)*P$10 -> 40 | R16: =ROUND(INDIRECT(ADDRESS(Данные!$A8,R$1,1,1,"Данные"), 1),2) -> 6460.35 | S16: =ROUND(INDIRECT(ADDRESS(Данные!$A8,S$1,1,1,"Данные"), 1),2) -> 3041.59 | T16: =(R16-R15)*T$10 -> 640 | U16: =(S16-S15)*T$10 -> 200 | V16: =ROUND(INDIRECT(ADDRESS(Данные!$A8,V$1,1,1,"Данные"), 1),2) -> 3097.9 | W16: =ROUND(INDIRECT(ADDRESS(Данные!$A8,W$1,1,1,"Данные"), 1),2) -> 1217.34 | X16: =(V16-V15)*X$10 -> 80 | Y16: =(W16-W15)*X$10 -> 0 | Z16: =INDIRECT(ADDRESS(Данные!$A8,4,1,1,"Данные"), 1) -> 45280.021 | AA16: =ROUND(INDIRECT(ADDRESS(Данные!$A8,AA$1,1,1,"Данные"), 1),2) -> 14072.82 | AB16: =ROUND(INDIRECT(ADDRESS(Данные!$A8,AB$1,1,1,"Данные"), 1),2) -> 2863.81 | AC16: =(AA16-AA15)*AC$10 -> 800 | AD16: =(AB16-AB15)*AC$10 -> 80 | AE16: =ROUND(INDIRECT(ADDRESS(Данные!$A8,AE$1,1,1,"Данные"), 1),2) -> 14162.72 | AF16: =ROUND(INDIRECT(ADDRESS(Данные!$A8,AF$1,1,1,"Данные"), 1),2) -> 4579.63 | AG16: =(AE16-AE15)*AG$10 -> 420 | AH16: =(AF16-AF15)*AG$10 -> 60 | AI16: =ROUND(INDIRECT(ADDRESS(Данные!$A8,AI$1,1,1,"Данные"), 1),2) -> 1357.41 | AJ16: =ROUND(INDIRECT(ADDRESS(Данные!$A8,AJ$1,1,1,"Данные"), 1),2) -> 387.73 | AK16: =(AI16-AI15)*AK$10 -> 480 | AL16: =(AJ16-AJ15)*AK$10 -> 40 | AM16: =ROUND(INDIRECT(ADDRESS(Данные!$A8,AM$1,1,1,"Данные"), 1),2) -> 19413.82 | AN16: =ROUND(INDIRECT(ADDRESS(Данные!$A8,AN$1,1,1,"Данные"), 1),2) -> 7650.49 | AO16: =(AM16-AM15)*AO$10 -> 520 | AP16: =(AN16-AN15)*AO$10 -> 80 | AQ16: =ROUND(INDIRECT(ADDRESS(Данные!$A8,AQ$1,1,1,"Данные"), 1),2) -> 15511.56 | AR16: =ROUND(INDIRECT(ADDRESS(Данные!$A8,AR$1,1,1,"Данные"), 1),2) -> 4021.52 | AS16: =(AQ16-AQ15)*AS$10 -> 540 | AT16: =(AR16-AR15)*AS$10 -> 60 | AU16: =ROUND(INDIRECT(ADDRESS(Данные!$A8,AU$1,1,1,"Данные"), 1),2) -> 2787.61 | AV16: =ROUND(INDIRECT(ADDRESS(Данные!$A8,AV$1,1,1,"Данные"), 1),2) -> 1238.21 | AW16: =(AU16-AU15)*AW$10 -> 36 | AX16: =(AV16-AV15)*AW$10 -> 6 | AY16: =INDIRECT(ADDRESS(Данные!$A8,4,1,1,"Данные"), 1) -> 45280.021 | AZ16: =ROUND(INDIRECT(ADDRESS(Данные!$A8,AZ$1,1,1,"Данные"), 1),2) -> 2527.19 | BA16: =ROUND(INDIRECT(ADDRESS(Данные!$A8,BA$1,1,1,"Данные"), 1),2) -> 0 | BB16: =(AZ16-AZ15)*BB$10 -> 84 | BC16: =(BA16-BA15)*BB$10 -> 0 | BD16: =ROUND(INDIRECT(ADDRESS(Данные!$A8,BD$1,1,1,"Данные"), 1),2) -> 7201.25 | BE16: =ROUND(INDIRECT(ADDRESS(Данные!$A8,BE$1,1,1,"Данные"), 1),2) -> 4698.24 | BF16: =(BD16-BD15)*BF$10 -> 24 | BG16: =(BE16-BE15)*BF$10 -> 6 | BH16: =ROUND(INDIRECT(ADDRESS(Данные!$A8,BH$1,1,1,"Данные"), 1),2) -> 89.23 | BI16: =ROUND(INDIRECT(ADDRESS(Данные!$A8,BI$1,1,1,"Данные"), 1),2) -> 52.02 | BJ16: =(BH16-BH15)*BJ$10 -> 0 | BK16: =(BI16-BI15)*BJ$10 -> 0 | BL16: =ROUND(INDIRECT(ADDRESS(Данные!$A8,BL$1,1,1,"Данные"), 1),2) -> 1238.21 | BM16: =ROUND(INDIRECT(ADDRESS(Данные!$A8,BM$1,1,1,"Данные"), 1),2) -> 1238.21 | BN16: =(BL16-BL15)*BN$10 -> 6 | BO16: =(BM16-BM15)*BN$10 -> 6 | BP16: =ROUND(INDIRECT(ADDRESS(Данные!$A8,BP$1,1,1,"Данные"), 1),2) -> 7616.51 | BQ16: =ROUND(INDIRECT(ADDRESS(Данные!$A8,BQ$1,1,1,"Данные"), 1),2) -> 2342.98 | BR16: =(BP16-BP15)*BR$10 -> 0 | BS16: =(BQ16-BQ15)*BR$10 -> 0 | BT16: =ROUND(INDIRECT(ADDRESS(Данные!$A8,BT$1,1,1,"Данные"), 1),2) -> 107.63 | BU16: =ROUND(INDIRECT(ADDRESS(Данные!$A8,BU$1,1,1,"Данные"), 1),2) -> 6.96 | BV16: =(BT16-BT15)*BV$10 -> 0 | BW16: =(BU16-BU15)*BV$10 -> 0 | BX16: =$A16 -> 45280.021 | BY16: =D16+H16+L16+P16+T16+X16+AC16+AG16+AK16+AO16+AS16+AW16+ BB16+BJ16+BF16+BN16+BR16+BV16 -> 5510 | BZ16: =E16+I16+M16+Q16+U16+Y16+AD16+AH16+AL16+AP16+AT16+AX16+ BC16+BK16+BG16+BO16+BS16+BW16 -> 738
A17: =INDIRECT(ADDRESS(Данные!$A9,4,1,1,"Данные"), 1) -> 45280.042 | B17: =ROUND(INDIRECT(ADDRESS(Данные!$A9,B$1,1,1,"Данные"), 1),2) -> 12175.05 | C17: =ROUND(INDIRECT(ADDRESS(Данные!$A9,C$1,1,1,"Данные"), 1),2) -> 5254.64 | D17: =(B17-B15)*D$10 -> 480 | E17: =(C17-C15)*D$10 -> 40 | F17: =ROUND(INDIRECT(ADDRESS(Данные!$A9,F$1,1,1,"Данные"), 1),2) -> 41018.59 | G17: =ROUND(INDIRECT(ADDRESS(Данные!$A9,G$1,1,1,"Данные"), 1),2) -> 9015.99 | H17: =(F17-F15)*H$10 -> 1240 | I17: =(G17-G15)*H$10 -> 160 | J17: =ROUND(INDIRECT(ADDRESS(Данные!$A9,J$1,1,1,"Данные"), 1),2) -> 16048.11 | K17: =ROUND(INDIRECT(ADDRESS(Данные!$A9,K$1,1,1,"Данные"), 1),2) -> 3847.85 | L17: =(J17-J15)*L$10 -> 880 | M17: =(K17-K15)*L$10 -> 80 | N17: =ROUND(INDIRECT(ADDRESS(Данные!$A9,N$1,1,1,"Данные"), 1),2) -> 6366.81 | O17: =ROUND(INDIRECT(ADDRESS(Данные!$A9,O$1,1,1,"Данные"), 1),2) -> 1168.07 | P17: =(N17-N15)*P$10 -> 1080 | Q17: =(O17-O15)*P$10 -> 80 | R17: =ROUND(INDIRECT(ADDRESS(Данные!$A9,R$1,1,1,"Данные"), 1),2) -> 6460.5 | S17: =ROUND(INDIRECT(ADDRESS(Данные!$A9,S$1,1,1,"Данные"), 1),2) -> 3041.65 | T17: =(R17-R15)*T$10 -> 1240 | U17: =(S17-S15)*T$10 -> 440 | V17: =ROUND(INDIRECT(ADDRESS(Данные!$A9,V$1,1,1,"Данные"), 1),2) -> 3097.91 | W17: =ROUND(INDIRECT(ADDRESS(Данные!$A9,W$1,1,1,"Данные"), 1),2) -> 1217.35 | X17: =(V17-V15)*X$10 -> 120 | Y17: =(W17-W15)*X$10 -> 40 | Z17: =INDIRECT(ADDRESS(Данные!$A9,4,1,1,"Данные"), 1) -> 45280.042 | AA17: =ROUND(INDIRECT(ADDRESS(Данные!$A9,AA$1,1,1,"Данные"), 1),2) -> 14073.01 | AB17: =ROUND(INDIRECT(ADDRESS(Данные!$A9,AB$1,1,1,"Данные"), 1),2) -> 2863.83 | AC17: =(AA17-AA15)*AC$10 -> 1560 | AD17: =(AB17-AB15)*AC$10 -> 160 | AE17: =ROUND(INDIRECT(ADDRESS(Данные!$A9,AE$1,1,1,"Данные"), 1),2) -> 14162.78 | AF17: =ROUND(INDIRECT(ADDRESS(Данные!$A9,AF$1,1,1,"Данные"), 1),2) -> 4579.64 | AG17: =(AE17-AE15)*AG$10 -> 780 | AH17: =(AF17-AF15)*AG$10 -> 120 | AI17: =ROUND(INDIRECT(ADDRESS(Данные!$A9,AI$1,1,1,"Данные"), 1),2) -> 1357.53 | AJ17: =ROUND(INDIRECT(ADDRESS(Данные!$A9,AJ$1,1,1,"Данные"), 1),2) -> 387.75 | AK17: =(AI17-AI15)*AK$10 -> 960 | AL17: =(AJ17-AJ15)*AK$10 -> 120 | AM17: =ROUND(INDIRECT(ADDRESS(Данные!$A9,AM$1,1,1,"Данные"), 1),2) -> 19413.96 | AN17: =ROUND(INDIRECT(ADDRESS(Данные!$A9,AN$1,1,1,"Данные"), 1),2) -> 7650.51 | AO17: =(AM17-AM15)*AO$10 -> 1080 | AP17: =(AN17-AN15)*AO$10 -> 160 | AQ17: =ROUND(INDIRECT(ADDRESS(Данные!$A9,AQ$1,1,1,"Данные"), 1),2) -> 15511.65 | AR17: =ROUND(INDIRECT(ADDRESS(Данные!$A9,AR$1,1,1,"Данные"), 1),2) -> 4021.54 | AS17: =(AQ17-AQ15)*AS$10 -> 1080 | AT17: =(AR17-AR15)*AS$10 -> 180 | AU17: =ROUND(INDIRECT(ADDRESS(Данные!$A9,AU$1,1,1,"Данные"), 1),2) -> 2787.68 | AV17: =ROUND(INDIRECT(ADDRESS(Данные!$A9,AV$1,1,1,"Данные"), 1),2) -> 1238.21 | AW17: =(AU17-AU15)*AW$10 -> 78 | AX17: =(AV17-AV15)*AW$10 -> 6 | AY17: =INDIRECT(ADDRESS(Данные!$A9,4,1,1,"Данные"), 1) -> 45280.042 | AZ17: =ROUND(INDIRECT(ADDRESS(Данные!$A9,AZ$1,1,1,"Данные"), 1),2) -> 2527.47 | BA17: =ROUND(INDIRECT(ADDRESS(Данные!$A9,BA$1,1,1,"Данные"), 1),2) -> 0 | BB17: =(AZ17-AZ15)*BB$10 -> 168 | BC17: =(BA17-BA15)*BB$10 -> 0 | BD17: =ROUND(INDIRECT(ADDRESS(Данные!$A9,BD$1,1,1,"Данные"), 1),2) -> 7201.28 | BE17: =ROUND(INDIRECT(ADDRESS(Данные!$A9,BE$1,1,1,"Данные"), 1),2) -> 4698.25 | BF17: =(BD17-BD15)*BF$10 -> 42 | BG17: =(BE17-BE15)*BF$10 -> 12 | BH17: =ROUND(INDIRECT(ADDRESS(Данные!$A9,BH$1,1,1,"Данные"), 1),2) -> 89.23 | BI17: =ROUND(INDIRECT(ADDRESS(Данные!$A9,BI$1,1,1,"Данные"), 1),2) -> 52.02 | BJ17: =(BH17-BH15)*BJ$10 -> 0 | BK17: =(BI17-BI15)*BJ$10 -> 0 | BL17: =ROUND(INDIRECT(ADDRESS(Данные!$A9,BL$1,1,1,"Данные"), 1),2) -> 1238.21 | BM17: =ROUND(INDIRECT(ADDRESS(Данные!$A9,BM$1,1,1,"Данные"), 1),2) -> 1238.21 | BN17: =(BL17-BL15)*BN$10 -> 6 | BO17: =(BM17-BM15)*BN$10 -> 6 | BP17: =ROUND(INDIRECT(ADDRESS(Данные!$A9,BP$1,1,1,"Данные"), 1),2) -> 7616.51 | BQ17: =ROUND(INDIRECT(ADDRESS(Данные!$A9,BQ$1,1,1,"Данные"), 1),2) -> 2342.98 | BR17: =(BP17-BP15)*BR$10 -> 0 | BS17: =(BQ17-BQ15)*BR$10 -> 0 | BT17: =ROUND(INDIRECT(ADDRESS(Данные!$A9,BT$1,1,1,"Данные"), 1),2) -> 107.63 | BU17: =ROUND(INDIRECT(ADDRESS(Данные!$A9,BU$1,1,1,"Данные"), 1),2) -> 6.96 | BV17: =(BT17-BT15)*BV$10 -> 0 | BW17: =(BU17-BU15)*BV$10 -> 0 | BX17: =$A17 -> 45280.042 | BY17: =D17+H17+L17+P17+T17+X17+AC17+AG17+AK17+AO17+AS17+AW17+ BB17+BJ17+BF17+BN17+BR17+BV17 -> 10794 | BZ17: =E17+I17+M17+Q17+U17+Y17+AD17+AH17+AL17+AP17+AT17+AX17+ BC17+BK17+BG17+BO17+BS17+BW17 -> 1604
A18: =INDIRECT(ADDRESS(Данные!$A10,4,1,1,"Данные"), 1) -> 45280.062 | B18: =ROUND(INDIRECT(ADDRESS(Данные!$A10,B$1,1,1,"Данные"), 1),2) -> 12175.11 | C18: =ROUND(INDIRECT(ADDRESS(Данные!$A10,C$1,1,1,"Данные"), 1),2) -> 5254.64 | D18: =(B18-B17)*D$10 -> 240 | E18: =(C18-C17)*D$10 -> 0 | F18: =ROUND(INDIRECT(ADDRESS(Данные!$A10,F$1,1,1,"Данные"), 1),2) -> 41018.73 | G18: =ROUND(INDIRECT(ADDRESS(Данные!$A10,G$1,1,1,"Данные"), 1),2) -> 9016 | H18: =(F18-F17)*H$10 -> 560 | I18: =(G18-G17)*H$10 -> 40 | J18: =ROUND(INDIRECT(ADDRESS(Данные!$A10,J$1,1,1,"Данные"), 1),2) -> 16048.22 | K18: =ROUND(INDIRECT(ADDRESS(Данные!$A10,K$1,1,1,"Данные"), 1),2) -> 3847.86 | L18: =(J18-J17)*L$10 -> 440 | M18: =(K18-K17)*L$10 -> 40 | N18: =ROUND(INDIRECT(ADDRESS(Данные!$A10,N$1,1,1,"Данные"), 1),2) -> 6366.94 | O18: =ROUND(INDIRECT(ADDRESS(Данные!$A10,O$1,1,1,"Данные"), 1),2) -> 1168.08 | P18: =(N18-N17)*P$10 -> 520 | Q18: =(O18-O17)*P$10 -> 40 | R18: =ROUND(INDIRECT(ADDRESS(Данные!$A10,R$1,1,1,"Данные"), 1),2) -> 6460.65 | S18: =ROUND(INDIRECT(ADDRESS(Данные!$A10,S$1,1,1,"Данные"), 1),2) -> 3041.71 | T18: =(R18-R17)*T$10 -> 600 | U18: =(S18-S17)*T$10 -> 240 | V18: =ROUND(INDIRECT(ADDRESS(Данные!$A10,V$1,1,1,"Данные"), 1),2) -> 3097.92 | W18: =ROUND(INDIRECT(ADDRESS(Данные!$A10,W$1,1,1,"Данные"), 1),2) -> 1217.35 | X18: =(V18-V17)*X$10 -> 40 | Y18: =(W18-W17)*X$10 -> 0 | Z18: =INDIRECT(ADDRESS(Данные!$A10,4,1,1,"Данные"), 1) -> 45280.062 | AA18: =ROUND(INDIRECT(ADDRESS(Данные!$A10,AA$1,1,1,"Данные"), 1),2) -> 14073.19 | AB18: =ROUND(INDIRECT(ADDRESS(Данные!$A10,AB$1,1,1,"Данные"), 1),2) -> 2863.84 | AC18: =(AA18-AA17)*AC$10 -> 720 | AD18: =(AB18-AB17)*AC$10 -> 40 | AE18: =ROUND(INDIRECT(ADDRESS(Данные!$A10,AE$1,1,1,"Данные"), 1),2) -> 14162.85 | AF18: =ROUND(INDIRECT(ADDRESS(Данные!$A10,AF$1,1,1,"Данные"), 1),2) -> 4579.65 | AG18: =(AE18-AE17)*AG$10 -> 420 | AH18: =(AF18-AF17)*AG$10 -> 60 | AI18: =ROUND(INDIRECT(ADDRESS(Данные!$A10,AI$1,1,1,"Данные"), 1),2) -> 1357.63 | AJ18: =ROUND(INDIRECT(ADDRESS(Данные!$A10,AJ$1,1,1,"Данные"), 1),2) -> 387.77 | AK18: =(AI18-AI17)*AK$10 -> 400 | AL18: =(AJ18-AJ17)*AK$10 -> 80 | AM18: =ROUND(INDIRECT(ADDRESS(Данные!$A10,AM$1,1,1,"Данные"), 1),2) -> 19414.09 | AN18: =ROUND(INDIRECT(ADDRESS(Данные!$A10,AN$1,1,1,"Данные"), 1),2) -> 7650.53 | AO18: =(AM18-AM17)*AO$10 -> 520 | AP18: =(AN18-AN17)*AO$10 -> 80 | AQ18: =ROUND(INDIRECT(ADDRESS(Данные!$A10,AQ$1,1,1,"Данные"), 1),2) -> 15511.73 | AR18: =ROUND(INDIRECT(ADDRESS(Данные!$A10,AR$1,1,1,"Данные"), 1),2) -> 4021.55 | AS18: =(AQ18-AQ17)*AS$10 -> 480 | AT18: =(AR18-AR17)*AS$10 -> 60 | AU18: =ROUND(INDIRECT(ADDRESS(Данные!$A10,AU$1,1,1,"Данные"), 1),2) -> 2787.75 | AV18: =ROUND(INDIRECT(ADDRESS(Данные!$A10,AV$1,1,1,"Данные"), 1),2) -> 1238.22 | AW18: =(AU18-AU17)*AW$10 -> 42 | AX18: =(AV18-AV17)*AW$10 -> 6 | AY18: =INDIRECT(ADDRESS(Данные!$A10,4,1,1,"Данные"), 1) -> 45280.062 | AZ18: =ROUND(INDIRECT(ADDRESS(Данные!$A10,AZ$1,1,1,"Данные"), 1),2) -> 2527.76 | BA18: =ROUND(INDIRECT(ADDRESS(Данные!$A10,BA$1,1,1,"Данные"), 1),2) -> 0 | BB18: =(AZ18-AZ17)*BB$10 -> 87 | BC18: =(BA18-BA17)*BB$10 -> 0 | BD18: =ROUND(INDIRECT(ADDRESS(Данные!$A10,BD$1,1,1,"Данные"), 1),2) -> 7201.32 | BE18: =ROUND(INDIRECT(ADDRESS(Данные!$A10,BE$1,1,1,"Данные"), 1),2) -> 4698.25 | BF18: =(BD18-BD17)*BF$10 -> 24 | BG18: =(BE18-BE17)*BF$10 -> 0 | BH18: =ROUND(INDIRECT(ADDRESS(Данные!$A10,BH$1,1,1,"Данные"), 1),2) -> 89.23 | BI18: =ROUND(INDIRECT(ADDRESS(Данные!$A10,BI$1,1,1,"Данные"), 1),2) -> 52.02 | BJ18: =(BH18-BH17)*BJ$10 -> 0 | BK18: =(BI18-BI17)*BJ$10 -> 0 | BL18: =ROUND(INDIRECT(ADDRESS(Данные!$A10,BL$1,1,1,"Данные"), 1),2) -> 1238.22 | BM18: =ROUND(INDIRECT(ADDRESS(Данные!$A10,BM$1,1,1,"Данные"), 1),2) -> 1238.22 | BN18: =(BL18-BL17)*BN$10 -> 6 | BO18: =(BM18-BM17)*BN$10 -> 6 | BP18: =ROUND(INDIRECT(ADDRESS(Данные!$A10,BP$1,1,1,"Данные"), 1),2) -> 7616.51 | BQ18: =ROUND(INDIRECT(ADDRESS(Данные!$A10,BQ$1,1,1,"Данные"), 1),2) -> 2342.98 | BR18: =(BP18-BP17)*BR$10 -> 0 | BS18: =(BQ18-BQ17)*BR$10 -> 0 | BT18: =ROUND(INDIRECT(ADDRESS(Данные!$A10,BT$1,1,1,"Данные"), 1),2) -> 107.63 | BU18: =ROUND(INDIRECT(ADDRESS(Данные!$A10,BU$1,1,1,"Данные"), 1),2) -> 6.96 | BV18: =(BT18-BT17)*BV$10 -> 0 | BW18: =(BU18-BU17)*BV$10 -> 0 | BX18: =$A18 -> 45280.062 | BY18: =D18+H18+L18+P18+T18+X18+AC18+AG18+AK18+AO18+AS18+AW18+ BB18+BJ18+BF18+BN18+BR18+BV18 -> 5099 | BZ18: =E18+I18+M18+Q18+U18+Y18+AD18+AH18+AL18+AP18+AT18+AX18+ BC18+BK18+BG18+BO18+BS18+BW18 -> 692
A19: =INDIRECT(ADDRESS(Данные!$A11,4,1,1,"Данные"), 1) -> 45280.083 | B19: =ROUND(INDIRECT(ADDRESS(Данные!$A11,B$1,1,1,"Данные"), 1),2) -> 12175.17 | C19: =ROUND(INDIRECT(ADDRESS(Данные!$A11,C$1,1,1,"Данные"), 1),2) -> 5254.65 | D19: =(B19-B17)*D$10 -> 480 | E19: =(C19-C17)*D$10 -> 40 | F19: =ROUND(INDIRECT(ADDRESS(Данные!$A11,F$1,1,1,"Данные"), 1),2) -> 41018.87 | G19: =ROUND(INDIRECT(ADDRESS(Данные!$A11,G$1,1,1,"Данные"), 1),2) -> 9016.02 | H19: =(F19-F17)*H$10 -> 1120 | I19: =(G19-G17)*H$10 -> 120 | J19: =ROUND(INDIRECT(ADDRESS(Данные!$A11,J$1,1,1,"Данные"), 1),2) -> 16048.32 | K19: =ROUND(INDIRECT(ADDRESS(Данные!$A11,K$1,1,1,"Данные"), 1),2) -> 3847.87 | L19: =(J19-J17)*L$10 -> 840 | M19: =(K19-K17)*L$10 -> 80 | N19: =ROUND(INDIRECT(ADDRESS(Данные!$A11,N$1,1,1,"Данные"), 1),2) -> 6367.07 | O19: =ROUND(INDIRECT(ADDRESS(Данные!$A11,O$1,1,1,"Данные"), 1),2) -> 1168.09 | P19: =(N19-N17)*P$10 -> 1040 | Q19: =(O19-O17)*P$10 -> 80 | R19: =ROUND(INDIRECT(ADDRESS(Данные!$A11,R$1,1,1,"Данные"), 1),2) -> 6460.8 | S19: =ROUND(INDIRECT(ADDRESS(Данные!$A11,S$1,1,1,"Данные"), 1),2) -> 3041.76 | T19: =(R19-R17)*T$10 -> 1200 | U19: =(S19-S17)*T$10 -> 440 | V19: =ROUND(INDIRECT(ADDRESS(Данные!$A11,V$1,1,1,"Данные"), 1),2) -> 3097.93 | W19: =ROUND(INDIRECT(ADDRESS(Данные!$A11,W$1,1,1,"Данные"), 1),2) -> 1217.36 | X19: =(V19-V17)*X$10 -> 80 | Y19: =(W19-W17)*X$10 -> 40 | Z19: =INDIRECT(ADDRESS(Данные!$A11,4,1,1,"Данные"), 1) -> 45280.083 | AA19: =ROUND(INDIRECT(ADDRESS(Данные!$A11,AA$1,1,1,"Данные"), 1),2) -> 14073.38 | AB19: =ROUND(INDIRECT(ADDRESS(Данные!$A11,AB$1,1,1,"Данные"), 1),2) -> 2863.86 | AC19: =(AA19-AA17)*AC$10 -> 1480 | AD19: =(AB19-AB17)*AC$10 -> 120 | AE19: =ROUND(INDIRECT(ADDRESS(Данные!$A11,AE$1,1,1,"Данные"), 1),2) -> 14162.92 | AF19: =ROUND(INDIRECT(ADDRESS(Данные!$A11,AF$1,1,1,"Данные"), 1),2) -> 4579.66 | AG19: =(AE19-AE17)*AG$10 -> 840 | AH19: =(AF19-AF17)*AG$10 -> 120 | AI19: =ROUND(INDIRECT(ADDRESS(Данные!$A11,AI$1,1,1,"Данные"), 1),2) -> 1357.74 | AJ19: =ROUND(INDIRECT(ADDRESS(Данные!$A11,AJ$1,1,1,"Данные"), 1),2) -> 387.79 | AK19: =(AI19-AI17)*AK$10 -> 840 | AL19: =(AJ19-AJ17)*AK$10 -> 160 | AM19: =ROUND(INDIRECT(ADDRESS(Данные!$A11,AM$1,1,1,"Данные"), 1),2) -> 19414.22 | AN19: =ROUND(INDIRECT(ADDRESS(Данные!$A11,AN$1,1,1,"Данные"), 1),2) -> 7650.55 | AO19: =(AM19-AM17)*AO$10 -> 1040 | AP19: =(AN19-AN17)*AO$10 -> 160 | AQ19: =ROUND(INDIRECT(ADDRESS(Данные!$A11,AQ$1,1,1,"Данные"), 1),2) -> 15511.82 | AR19: =ROUND(INDIRECT(ADDRESS(Данные!$A11,AR$1,1,1,"Данные"), 1),2) -> 4021.56 | AS19: =(AQ19-AQ17)*AS$10 -> 1020 | AT19: =(AR19-AR17)*AS$10 -> 120 | AU19: =ROUND(INDIRECT(ADDRESS(Данные!$A11,AU$1,1,1,"Данные"), 1),2) -> 2787.82 | AV19: =ROUND(INDIRECT(ADDRESS(Данные!$A11,AV$1,1,1,"Данные"), 1),2) -> 1238.23 | AW19: =(AU19-AU17)*AW$10 -> 84 | AX19: =(AV19-AV17)*AW$10 -> 12 | AY19: =INDIRECT(ADDRESS(Данные!$A11,4,1,1,"Данные"), 1) -> 45280.083 | AZ19: =ROUND(INDIRECT(ADDRESS(Данные!$A11,AZ$1,1,1,"Данные"), 1),2) -> 2528.03 | BA19: =ROUND(INDIRECT(ADDRESS(Данные!$A11,BA$1,1,1,"Данные"), 1),2) -> 0 | BB19: =(AZ19-AZ17)*BB$10 -> 168 | BC19: =(BA19-BA17)*BB$10 -> 0 | BD19: =ROUND(INDIRECT(ADDRESS(Данные!$A11,BD$1,1,1,"Данные"), 1),2) -> 7201.36 | BE19: =ROUND(INDIRECT(ADDRESS(Данные!$A11,BE$1,1,1,"Данные"), 1),2) -> 4698.26 | BF19: =(BD19-BD17)*BF$10 -> 48 | BG19: =(BE19-BE17)*BF$10 -> 6 | BH19: =ROUND(INDIRECT(ADDRESS(Данные!$A11,BH$1,1,1,"Данные"), 1),2) -> 89.23 | BI19: =ROUND(INDIRECT(ADDRESS(Данные!$A11,BI$1,1,1,"Данные"), 1),2) -> 52.02 | BJ19: =(BH19-BH17)*BJ$10 -> 0 | BK19: =(BI19-BI17)*BJ$10 -> 0 | BL19: =ROUND(INDIRECT(ADDRESS(Данные!$A11,BL$1,1,1,"Данные"), 1),2) -> 1238.23 | BM19: =ROUND(INDIRECT(ADDRESS(Данные!$A11,BM$1,1,1,"Данные"), 1),2) -> 1238.23 | BN19: =(BL19-BL17)*BN$10 -> 12 | BO19: =(BM19-BM17)*BN$10 -> 12 | BP19: =ROUND(INDIRECT(ADDRESS(Данные!$A11,BP$1,1,1,"Данные"), 1),2) -> 7616.51 | BQ19: =ROUND(INDIRECT(ADDRESS(Данные!$A11,BQ$1,1,1,"Данные"), 1),2) -> 2342.98 | BR19: =(BP19-BP17)*BR$10 -> 0 | BS19: =(BQ19-BQ17)*BR$10 -> 0 | BT19: =ROUND(INDIRECT(ADDRESS(Данные!$A11,BT$1,1,1,"Данные"), 1),2) -> 107.63 | BU19: =ROUND(INDIRECT(ADDRESS(Данные!$A11,BU$1,1,1,"Данные"), 1),2) -> 6.96 | BV19: =(BT19-BT17)*BV$10 -> 0 | BW19: =(BU19-BU17)*BV$10 -> 0 | BX19: =$A19 -> 45280.083 | BY19: =D19+H19+L19+P19+T19+X19+AC19+AG19+AK19+AO19+AS19+AW19+ BB19+BJ19+BF19+BN19+BR19+BV19 -> 10292 | BZ19: =E19+I19+M19+Q19+U19+Y19+AD19+AH19+AL19+AP19+AT19+AX19+ BC19+BK19+BG19+BO19+BS19+BW19 -> 1510
A20: =INDIRECT(ADDRESS(Данные!$A12,4,1,1,"Данные"), 1) -> 45280.104 | B20: =ROUND(INDIRECT(ADDRESS(Данные!$A12,B$1,1,1,"Данные"), 1),2) -> 12175.23 | C20: =ROUND(INDIRECT(ADDRESS(Данные!$A12,C$1,1,1,"Данные"), 1),2) -> 5254.65 | D20: =(B20-B19)*D$10 -> 240 | E20: =(C20-C19)*D$10 -> 0 | F20: =ROUND(INDIRECT(ADDRESS(Данные!$A12,F$1,1,1,"Данные"), 1),2) -> 41019 | G20: =ROUND(INDIRECT(ADDRESS(Данные!$A12,G$1,1,1,"Данные"), 1),2) -> 9016.04 | H20: =(F20-F19)*H$10 -> 520 | I20: =(G20-G19)*H$10 -> 80 | J20: =ROUND(INDIRECT(ADDRESS(Данные!$A12,J$1,1,1,"Данные"), 1),2) -> 16048.43 | K20: =ROUND(INDIRECT(ADDRESS(Данные!$A12,K$1,1,1,"Данные"), 1),2) -> 3847.89 | L20: =(J20-J19)*L$10 -> 440 | M20: =(K20-K19)*L$10 -> 80 | N20: =ROUND(INDIRECT(ADDRESS(Данные!$A12,N$1,1,1,"Данные"), 1),2) -> 6367.19 | O20: =ROUND(INDIRECT(ADDRESS(Данные!$A12,O$1,1,1,"Данные"), 1),2) -> 1168.09 | P20: =(N20-N19)*P$10 -> 480 | Q20: =(O20-O19)*P$10 -> 0 | R20: =ROUND(INDIRECT(ADDRESS(Данные!$A12,R$1,1,1,"Данные"), 1),2) -> 6460.96 | S20: =ROUND(INDIRECT(ADDRESS(Данные!$A12,S$1,1,1,"Данные"), 1),2) -> 3041.82 | T20: =(R20-R19)*T$10 -> 640 | U20: =(S20-S19)*T$10 -> 240 | V20: =ROUND(INDIRECT(ADDRESS(Данные!$A12,V$1,1,1,"Данные"), 1),2) -> 3097.94 | W20: =ROUND(INDIRECT(ADDRESS(Данные!$A12,W$1,1,1,"Данные"), 1),2) -> 1217.36 | X20: =(V20-V19)*X$10 -> 40 | Y20: =(W20-W19)*X$10 -> 0 | Z20: =INDIRECT(ADDRESS(Данные!$A12,4,1,1,"Данные"), 1) -> 45280.104 | AA20: =ROUND(INDIRECT(ADDRESS(Данные!$A12,AA$1,1,1,"Данные"), 1),2) -> 14073.56 | AB20: =ROUND(INDIRECT(ADDRESS(Данные!$A12,AB$1,1,1,"Данные"), 1),2) -> 2863.87 | AC20: =(AA20-AA19)*AC$10 -> 720 | AD20: =(AB20-AB19)*AC$10 -> 40 | AE20: =ROUND(INDIRECT(ADDRESS(Данные!$A12,AE$1,1,1,"Данные"), 1),2) -> 14162.98 | AF20: =ROUND(INDIRECT(ADDRESS(Данные!$A12,AF$1,1,1,"Данные"), 1),2) -> 4579.67 | AG20: =(AE20-AE19)*AG$10 -> 360 | AH20: =(AF20-AF19)*AG$10 -> 60 | AI20: =ROUND(INDIRECT(ADDRESS(Данные!$A12,AI$1,1,1,"Данные"), 1),2) -> 1357.83 | AJ20: =ROUND(INDIRECT(ADDRESS(Данные!$A12,AJ$1,1,1,"Данные"), 1),2) -> 387.8 | AK20: =(AI20-AI19)*AK$10 -> 360 | AL20: =(AJ20-AJ19)*AK$10 -> 40 | AM20: =ROUND(INDIRECT(ADDRESS(Данные!$A12,AM$1,1,1,"Данные"), 1),2) -> 19414.36 | AN20: =ROUND(INDIRECT(ADDRESS(Данные!$A12,AN$1,1,1,"Данные"), 1),2) -> 7650.58 | AO20: =(AM20-AM19)*AO$10 -> 560 | AP20: =(AN20-AN19)*AO$10 -> 120 | AQ20: =ROUND(INDIRECT(ADDRESS(Данные!$A12,AQ$1,1,1,"Данные"), 1),2) -> 15511.9 | AR20: =ROUND(INDIRECT(ADDRESS(Данные!$A12,AR$1,1,1,"Данные"), 1),2) -> 4021.58 | AS20: =(AQ20-AQ19)*AS$10 -> 480 | AT20: =(AR20-AR19)*AS$10 -> 120 | AU20: =ROUND(INDIRECT(ADDRESS(Данные!$A12,AU$1,1,1,"Данные"), 1),2) -> 2787.89 | AV20: =ROUND(INDIRECT(ADDRESS(Данные!$A12,AV$1,1,1,"Данные"), 1),2) -> 1238.24 | AW20: =(AU20-AU19)*AW$10 -> 42 | AX20: =(AV20-AV19)*AW$10 -> 6 | AY20: =INDIRECT(ADDRESS(Данные!$A12,4,1,1,"Данные"), 1) -> 45280.104 | AZ20: =ROUND(INDIRECT(ADDRESS(Данные!$A12,AZ$1,1,1,"Данные"), 1),2) -> 2528.32 | BA20: =ROUND(INDIRECT(ADDRESS(Данные!$A12,BA$1,1,1,"Данные"), 1),2) -> 0 | BB20: =(AZ20-AZ19)*BB$10 -> 87 | BC20: =(BA20-BA19)*BB$10 -> 0 | BD20: =ROUND(INDIRECT(ADDRESS(Данные!$A12,BD$1,1,1,"Данные"), 1),2) -> 7201.39 | BE20: =ROUND(INDIRECT(ADDRESS(Данные!$A12,BE$1,1,1,"Данные"), 1),2) -> 4698.27 | BF20: =(BD20-BD19)*BF$10 -> 18 | BG20: =(BE20-BE19)*BF$10 -> 6 | BH20: =ROUND(INDIRECT(ADDRESS(Данные!$A12,BH$1,1,1,"Данные"), 1),2) -> 89.23 | BI20: =ROUND(INDIRECT(ADDRESS(Данные!$A12,BI$1,1,1,"Данные"), 1),2) -> 52.02 | BJ20: =(BH20-BH19)*BJ$10 -> 0 | BK20: =(BI20-BI19)*BJ$10 -> 0 | BL20: =ROUND(INDIRECT(ADDRESS(Данные!$A12,BL$1,1,1,"Данные"), 1),2) -> 1238.24 | BM20: =ROUND(INDIRECT(ADDRESS(Данные!$A12,BM$1,1,1,"Данные"), 1),2) -> 1238.24 | BN20: =(BL20-BL19)*BN$10 -> 6 | BO20: =(BM20-BM19)*BN$10 -> 6 | BP20: =ROUND(INDIRECT(ADDRESS(Данные!$A12,BP$1,1,1,"Данные"), 1),2) -> 7616.51 | BQ20: =ROUND(INDIRECT(ADDRESS(Данные!$A12,BQ$1,1,1,"Данные"), 1),2) -> 2342.98 | BR20: =(BP20-BP19)*BR$10 -> 0 | BS20: =(BQ20-BQ19)*BR$10 -> 0 | BT20: =ROUND(INDIRECT(ADDRESS(Данные!$A12,BT$1,1,1,"Данные"), 1),2) -> 107.63 | BU20: =ROUND(INDIRECT(ADDRESS(Данные!$A12,BU$1,1,1,"Данные"), 1),2) -> 6.96 | BV20: =(BT20-BT19)*BV$10 -> 0 | BW20: =(BU20-BU19)*BV$10 -> 0 | BX20: =$A20 -> 45280.104 | BY20: =D20+H20+L20+P20+T20+X20+AC20+AG20+AK20+AO20+AS20+AW20+ BB20+BJ20+BF20+BN20+BR20+BV20 -> 4993 | BZ20: =E20+I20+M20+Q20+U20+Y20+AD20+AH20+AL20+AP20+AT20+AX20+ BC20+BK20+BG20+BO20+BS20+BW20 -> 798
A21: =INDIRECT(ADDRESS(Данные!$A13,4,1,1,"Данные"), 1) -> 45280.125 | B21: =ROUND(INDIRECT(ADDRESS(Данные!$A13,B$1,1,1,"Данные"), 1),2) -> 12175.3 | C21: =ROUND(INDIRECT(ADDRESS(Данные!$A13,C$1,1,1,"Данные"), 1),2) -> 5254.65 | D21: =(B21-B19)*D$10 -> 520 | E21: =(C21-C19)*D$10 -> 0 | F21: =ROUND(INDIRECT(ADDRESS(Данные!$A13,F$1,1,1,"Данные"), 1),2) -> 41019.13 | G21: =ROUND(INDIRECT(ADDRESS(Данные!$A13,G$1,1,1,"Данные"), 1),2) -> 9016.06 | H21: =(F21-F19)*H$10 -> 1040 | I21: =(G21-G19)*H$10 -> 160 | J21: =ROUND(INDIRECT(ADDRESS(Данные!$A13,J$1,1,1,"Данные"), 1),2) -> 16048.53 | K21: =ROUND(INDIRECT(ADDRESS(Данные!$A13,K$1,1,1,"Данные"), 1),2) -> 3847.9 | L21: =(J21-J19)*L$10 -> 840 | M21: =(K21-K19)*L$10 -> 120 | N21: =ROUND(INDIRECT(ADDRESS(Данные!$A13,N$1,1,1,"Данные"), 1),2) -> 6367.32 | O21: =ROUND(INDIRECT(ADDRESS(Данные!$A13,O$1,1,1,"Данные"), 1),2) -> 1168.1 | P21: =(N21-N19)*P$10 -> 1000 | Q21: =(O21-O19)*P$10 -> 40 | R21: =ROUND(INDIRECT(ADDRESS(Данные!$A13,R$1,1,1,"Данные"), 1),2) -> 6461.13 | S21: =ROUND(INDIRECT(ADDRESS(Данные!$A13,S$1,1,1,"Данные"), 1),2) -> 3041.89 | T21: =(R21-R19)*T$10 -> 1320 | U21: =(S21-S19)*T$10 -> 520 | V21: =ROUND(INDIRECT(ADDRESS(Данные!$A13,V$1,1,1,"Данные"), 1),2) -> 3097.96 | W21: =ROUND(INDIRECT(ADDRESS(Данные!$A13,W$1,1,1,"Данные"), 1),2) -> 1217.37 | X21: =(V21-V19)*X$10 -> 120 | Y21: =(W21-W19)*X$10 -> 40 | Z21: =INDIRECT(ADDRESS(Данные!$A13,4,1,1,"Данные"), 1) -> 45280.125 | AA21: =ROUND(INDIRECT(ADDRESS(Данные!$A13,AA$1,1,1,"Данные"), 1),2) -> 14073.74 | AB21: =ROUND(INDIRECT(ADDRESS(Данные!$A13,AB$1,1,1,"Данные"), 1),2) -> 2863.89 | AC21: =(AA21-AA19)*AC$10 -> 1440 | AD21: =(AB21-AB19)*AC$10 -> 120 | AE21: =ROUND(INDIRECT(ADDRESS(Данные!$A13,AE$1,1,1,"Данные"), 1),2) -> 14163.05 | AF21: =ROUND(INDIRECT(ADDRESS(Данные!$A13,AF$1,1,1,"Данные"), 1),2) -> 4579.68 | AG21: =(AE21-AE19)*AG$10 -> 780 | AH21: =(AF21-AF19)*AG$10 -> 120 | AI21: =ROUND(INDIRECT(ADDRESS(Данные!$A13,AI$1,1,1,"Данные"), 1),2) -> 1357.93 | AJ21: =ROUND(INDIRECT(ADDRESS(Данные!$A13,AJ$1,1,1,"Данные"), 1),2) -> 387.82 | AK21: =(AI21-AI19)*AK$10 -> 760 | AL21: =(AJ21-AJ19)*AK$10 -> 120 | AM21: =ROUND(INDIRECT(ADDRESS(Данные!$A13,AM$1,1,1,"Данные"), 1),2) -> 19414.49 | AN21: =ROUND(INDIRECT(ADDRESS(Данные!$A13,AN$1,1,1,"Данные"), 1),2) -> 7650.6 | AO21: =(AM21-AM19)*AO$10 -> 1080 | AP21: =(AN21-AN19)*AO$10 -> 200 | AQ21: =ROUND(INDIRECT(ADDRESS(Данные!$A13,AQ$1,1,1,"Данные"), 1),2) -> 15511.98 | AR21: =ROUND(INDIRECT(ADDRESS(Данные!$A13,AR$1,1,1,"Данные"), 1),2) -> 4021.59 | AS21: =(AQ21-AQ19)*AS$10 -> 960 | AT21: =(AR21-AR19)*AS$10 -> 180 | AU21: =ROUND(INDIRECT(ADDRESS(Данные!$A13,AU$1,1,1,"Данные"), 1),2) -> 2787.96 | AV21: =ROUND(INDIRECT(ADDRESS(Данные!$A13,AV$1,1,1,"Данные"), 1),2) -> 1238.24 | AW21: =(AU21-AU19)*AW$10 -> 84 | AX21: =(AV21-AV19)*AW$10 -> 6 | AY21: =INDIRECT(ADDRESS(Данные!$A13,4,1,1,"Данные"), 1) -> 45280.125 | AZ21: =ROUND(INDIRECT(ADDRESS(Данные!$A13,AZ$1,1,1,"Данные"), 1),2) -> 2528.6 | BA21: =ROUND(INDIRECT(ADDRESS(Данные!$A13,BA$1,1,1,"Данные"), 1),2) -> 0 | BB21: =(AZ21-AZ19)*BB$10 -> 171 | BC21: =(BA21-BA19)*BB$10 -> 0 | BD21: =ROUND(INDIRECT(ADDRESS(Данные!$A13,BD$1,1,1,"Данные"), 1),2) -> 7201.43 | BE21: =ROUND(INDIRECT(ADDRESS(Данные!$A13,BE$1,1,1,"Данные"), 1),2) -> 4698.28 | BF21: =(BD21-BD19)*BF$10 -> 42 | BG21: =(BE21-BE19)*BF$10 -> 12 | BH21: =ROUND(INDIRECT(ADDRESS(Данные!$A13,BH$1,1,1,"Данные"), 1),2) -> 89.23 | BI21: =ROUND(INDIRECT(ADDRESS(Данные!$A13,BI$1,1,1,"Данные"), 1),2) -> 52.02 | BJ21: =(BH21-BH19)*BJ$10 -> 0 | BK21: =(BI21-BI19)*BJ$10 -> 0 | BL21: =ROUND(INDIRECT(ADDRESS(Данные!$A13,BL$1,1,1,"Данные"), 1),2) -> 1238.24 | BM21: =ROUND(INDIRECT(ADDRESS(Данные!$A13,BM$1,1,1,"Данные"), 1),2) -> 1238.24 | BN21: =(BL21-BL19)*BN$10 -> 6 | BO21: =(BM21-BM19)*BN$10 -> 6 | BP21: =ROUND(INDIRECT(ADDRESS(Данные!$A13,BP$1,1,1,"Данные"), 1),2) -> 7616.51 | BQ21: =ROUND(INDIRECT(ADDRESS(Данные!$A13,BQ$1,1,1,"Данные"), 1),2) -> 2342.98 | BR21: =(BP21-BP19)*BR$10 -> 0 | BS21: =(BQ21-BQ19)*BR$10 -> 0 | BT21: =ROUND(INDIRECT(ADDRESS(Данные!$A13,BT$1,1,1,"Данные"), 1),2) -> 107.63 | BU21: =ROUND(INDIRECT(ADDRESS(Данные!$A13,BU$1,1,1,"Данные"), 1),2) -> 6.96 | BV21: =(BT21-BT19)*BV$10 -> 0 | BW21: =(BU21-BU19)*BV$10 -> 0 | BX21: =$A21 -> 45280.125 | BY21: =D21+H21+L21+P21+T21+X21+AC21+AG21+AK21+AO21+AS21+AW21+ BB21+BJ21+BF21+BN21+BR21+BV21 -> 10163 | BZ21: =E21+I21+M21+Q21+U21+Y21+AD21+AH21+AL21+AP21+AT21+AX21+ BC21+BK21+BG21+BO21+BS21+BW21 -> 1644
A22: =INDIRECT(ADDRESS(Данные!$A14,4,1,1,"Данные"), 1) -> 45280.146 | B22: =ROUND(INDIRECT(ADDRESS(Данные!$A14,B$1,1,1,"Данные"), 1),2) -> 12175.36 | C22: =ROUND(INDIRECT(ADDRESS(Данные!$A14,C$1,1,1,"Данные"), 1),2) -> 5254.66 | D22: =(B22-B21)*D$10 -> 240 | E22: =(C22-C21)*D$10 -> 40 | F22: =ROUND(INDIRECT(ADDRESS(Данные!$A14,F$1,1,1,"Данные"), 1),2) -> 41019.27 | G22: =ROUND(INDIRECT(ADDRESS(Данные!$A14,G$1,1,1,"Данные"), 1),2) -> 9016.08 | H22: =(F22-F21)*H$10 -> 560 | I22: =(G22-G21)*H$10 -> 80 | J22: =ROUND(INDIRECT(ADDRESS(Данные!$A14,J$1,1,1,"Данные"), 1),2) -> 16048.63 | K22: =ROUND(INDIRECT(ADDRESS(Данные!$A14,K$1,1,1,"Данные"), 1),2) -> 3847.91 | L22: =(J22-J21)*L$10 -> 400 | M22: =(K22-K21)*L$10 -> 40 | N22: =ROUND(INDIRECT(ADDRESS(Данные!$A14,N$1,1,1,"Данные"), 1),2) -> 6367.45 | O22: =ROUND(INDIRECT(ADDRESS(Данные!$A14,O$1,1,1,"Данные"), 1),2) -> 1168.11 | P22: =(N22-N21)*P$10 -> 520 | Q22: =(O22-O21)*P$10 -> 40 | R22: =ROUND(INDIRECT(ADDRESS(Данные!$A14,R$1,1,1,"Данные"), 1),2) -> 6461.29 | S22: =ROUND(INDIRECT(ADDRESS(Данные!$A14,S$1,1,1,"Данные"), 1),2) -> 3041.95 | T22: =(R22-R21)*T$10 -> 640 | U22: =(S22-S21)*T$10 -> 240 | V22: =ROUND(INDIRECT(ADDRESS(Данные!$A14,V$1,1,1,"Данные"), 1),2) -> 3097.97 | W22: =ROUND(INDIRECT(ADDRESS(Данные!$A14,W$1,1,1,"Данные"), 1),2) -> 1217.37 | X22: =(V22-V21)*X$10 -> 40 | Y22: =(W22-W21)*X$10 -> 0 | Z22: =INDIRECT(ADDRESS(Данные!$A14,4,1,1,"Данные"), 1) -> 45280.146 | AA22: =ROUND(INDIRECT(ADDRESS(Данные!$A14,AA$1,1,1,"Данные"), 1),2) -> 14073.92 | AB22: =ROUND(INDIRECT(ADDRESS(Данные!$A14,AB$1,1,1,"Данные"), 1),2) -> 2863.9 | AC22: =(AA22-AA21)*AC$10 -> 720 | AD22: =(AB22-AB21)*AC$10 -> 40 | AE22: =ROUND(INDIRECT(ADDRESS(Данные!$A14,AE$1,1,1,"Данные"), 1),2) -> 14163.11 | AF22: =ROUND(INDIRECT(ADDRESS(Данные!$A14,AF$1,1,1,"Данные"), 1),2) -> 4579.69 | AG22: =(AE22-AE21)*AG$10 -> 360 | AH22: =(AF22-AF21)*AG$10 -> 60 | AI22: =ROUND(INDIRECT(ADDRESS(Данные!$A14,AI$1,1,1,"Данные"), 1),2) -> 1358.02 | AJ22: =ROUND(INDIRECT(ADDRESS(Данные!$A14,AJ$1,1,1,"Данные"), 1),2) -> 387.84 | AK22: =(AI22-AI21)*AK$10 -> 360 | AL22: =(AJ22-AJ21)*AK$10 -> 80 | AM22: =ROUND(INDIRECT(ADDRESS(Данные!$A14,AM$1,1,1,"Данные"), 1),2) -> 19414.63 | AN22: =ROUND(INDIRECT(ADDRESS(Данные!$A14,AN$1,1,1,"Данные"), 1),2) -> 7650.62 | AO22: =(AM22-AM21)*AO$10 -> 560 | AP22: =(AN22-AN21)*AO$10 -> 80 | AQ22: =ROUND(INDIRECT(ADDRESS(Данные!$A14,AQ$1,1,1,"Данные"), 1),2) -> 15512.06 | AR22: =ROUND(INDIRECT(ADDRESS(Данные!$A14,AR$1,1,1,"Данные"), 1),2) -> 4021.6 | AS22: =(AQ22-AQ21)*AS$10 -> 480 | AT22: =(AR22-AR21)*AS$10 -> 60 | AU22: =ROUND(INDIRECT(ADDRESS(Данные!$A14,AU$1,1,1,"Данные"), 1),2) -> 2788.03 | AV22: =ROUND(INDIRECT(ADDRESS(Данные!$A14,AV$1,1,1,"Данные"), 1),2) -> 1238.25 | AW22: =(AU22-AU21)*AW$10 -> 42 | AX22: =(AV22-AV21)*AW$10 -> 6 | AY22: =INDIRECT(ADDRESS(Данные!$A14,4,1,1,"Данные"), 1) -> 45280.146 | AZ22: =ROUND(INDIRECT(ADDRESS(Данные!$A14,AZ$1,1,1,"Данные"), 1),2) -> 2528.88 | BA22: =ROUND(INDIRECT(ADDRESS(Данные!$A14,BA$1,1,1,"Данные"), 1),2) -> 0 | BB22: =(AZ22-AZ21)*BB$10 -> 84 | BC22: =(BA22-BA21)*BB$10 -> 0 | BD22: =ROUND(INDIRECT(ADDRESS(Данные!$A14,BD$1,1,1,"Данные"), 1),2) -> 7201.47 | BE22: =ROUND(INDIRECT(ADDRESS(Данные!$A14,BE$1,1,1,"Данные"), 1),2) -> 4698.28 | BF22: =(BD22-BD21)*BF$10 -> 24 | BG22: =(BE22-BE21)*BF$10 -> 0 | BH22: =ROUND(INDIRECT(ADDRESS(Данные!$A14,BH$1,1,1,"Данные"), 1),2) -> 89.23 | BI22: =ROUND(INDIRECT(ADDRESS(Данные!$A14,BI$1,1,1,"Данные"), 1),2) -> 52.02 | BJ22: =(BH22-BH21)*BJ$10 -> 0 | BK22: =(BI22-BI21)*BJ$10 -> 0 | BL22: =ROUND(INDIRECT(ADDRESS(Данные!$A14,BL$1,1,1,"Данные"), 1),2) -> 1238.25 | BM22: =ROUND(INDIRECT(ADDRESS(Данные!$A14,BM$1,1,1,"Данные"), 1),2) -> 1238.25 | BN22: =(BL22-BL21)*BN$10 -> 6 | BO22: =(BM22-BM21)*BN$10 -> 6 | BP22: =ROUND(INDIRECT(ADDRESS(Данные!$A14,BP$1,1,1,"Данные"), 1),2) -> 7616.51 | BQ22: =ROUND(INDIRECT(ADDRESS(Данные!$A14,BQ$1,1,1,"Данные"), 1),2) -> 2342.98 | BR22: =(BP22-BP21)*BR$10 -> 0 | BS22: =(BQ22-BQ21)*BR$10 -> 0 | BT22: =ROUND(INDIRECT(ADDRESS(Данные!$A14,BT$1,1,1,"Данные"), 1),2) -> 107.63 | BU22: =ROUND(INDIRECT(ADDRESS(Данные!$A14,BU$1,1,1,"Данные"), 1),2) -> 6.96 | BV22: =(BT22-BT21)*BV$10 -> 0 | BW22: =(BU22-BU21)*BV$10 -> 0 | BX22: =$A22 -> 45280.146 | BY22: =D22+H22+L22+P22+T22+X22+AC22+AG22+AK22+AO22+AS22+AW22+ BB22+BJ22+BF22+BN22+BR22+BV22 -> 5036 | BZ22: =E22+I22+M22+Q22+U22+Y22+AD22+AH22+AL22+AP22+AT22+AX22+ BC22+BK22+BG22+BO22+BS22+BW22 -> 772
A23: =INDIRECT(ADDRESS(Данные!$A15,4,1,1,"Данные"), 1) -> 45280.167 | B23: =ROUND(INDIRECT(ADDRESS(Данные!$A15,B$1,1,1,"Данные"), 1),2) -> 12175.42 | C23: =ROUND(INDIRECT(ADDRESS(Данные!$A15,C$1,1,1,"Данные"), 1),2) -> 5254.66 | D23: =(B23-B21)*D$10 -> 480 | E23: =(C23-C21)*D$10 -> 40 | F23: =ROUND(INDIRECT(ADDRESS(Данные!$A15,F$1,1,1,"Данные"), 1),2) -> 41019.4 | G23: =ROUND(INDIRECT(ADDRESS(Данные!$A15,G$1,1,1,"Данные"), 1),2) -> 9016.09 | H23: =(F23-F21)*H$10 -> 1080 | I23: =(G23-G21)*H$10 -> 120 | J23: =ROUND(INDIRECT(ADDRESS(Данные!$A15,J$1,1,1,"Данные"), 1),2) -> 16048.73 | K23: =ROUND(INDIRECT(ADDRESS(Данные!$A15,K$1,1,1,"Данные"), 1),2) -> 3847.92 | L23: =(J23-J21)*L$10 -> 800 | M23: =(K23-K21)*L$10 -> 80 | N23: =ROUND(INDIRECT(ADDRESS(Данные!$A15,N$1,1,1,"Данные"), 1),2) -> 6367.58 | O23: =ROUND(INDIRECT(ADDRESS(Данные!$A15,O$1,1,1,"Данные"), 1),2) -> 1168.12 | P23: =(N23-N21)*P$10 -> 1040 | Q23: =(O23-O21)*P$10 -> 80 | R23: =ROUND(INDIRECT(ADDRESS(Данные!$A15,R$1,1,1,"Данные"), 1),2) -> 6461.46 | S23: =ROUND(INDIRECT(ADDRESS(Данные!$A15,S$1,1,1,"Данные"), 1),2) -> 3042.01 | T23: =(R23-R21)*T$10 -> 1320 | U23: =(S23-S21)*T$10 -> 480 | V23: =ROUND(INDIRECT(ADDRESS(Данные!$A15,V$1,1,1,"Данные"), 1),2) -> 3097.98 | W23: =ROUND(INDIRECT(ADDRESS(Данные!$A15,W$1,1,1,"Данные"), 1),2) -> 1217.38 | X23: =(V23-V21)*X$10 -> 80 | Y23: =(W23-W21)*X$10 -> 40 | Z23: =INDIRECT(ADDRESS(Данные!$A15,4,1,1,"Данные"), 1) -> 45280.167 | AA23: =ROUND(INDIRECT(ADDRESS(Данные!$A15,AA$1,1,1,"Данные"), 1),2) -> 14074.1 | AB23: =ROUND(INDIRECT(ADDRESS(Данные!$A15,AB$1,1,1,"Данные"), 1),2) -> 2863.92 | AC23: =(AA23-AA21)*AC$10 -> 1440 | AD23: =(AB23-AB21)*AC$10 -> 120 | AE23: =ROUND(INDIRECT(ADDRESS(Данные!$A15,AE$1,1,1,"Данные"), 1),2) -> 14163.18 | AF23: =ROUND(INDIRECT(ADDRESS(Данные!$A15,AF$1,1,1,"Данные"), 1),2) -> 4579.7 | AG23: =(AE23-AE21)*AG$10 -> 780 | AH23: =(AF23-AF21)*AG$10 -> 120 | AI23: =ROUND(INDIRECT(ADDRESS(Данные!$A15,AI$1,1,1,"Данные"), 1),2) -> 1358.11 | AJ23: =ROUND(INDIRECT(ADDRESS(Данные!$A15,AJ$1,1,1,"Данные"), 1),2) -> 387.86 | AK23: =(AI23-AI21)*AK$10 -> 720 | AL23: =(AJ23-AJ21)*AK$10 -> 160 | AM23: =ROUND(INDIRECT(ADDRESS(Данные!$A15,AM$1,1,1,"Данные"), 1),2) -> 19414.76 | AN23: =ROUND(INDIRECT(ADDRESS(Данные!$A15,AN$1,1,1,"Данные"), 1),2) -> 7650.64 | AO23: =(AM23-AM21)*AO$10 -> 1080 | AP23: =(AN23-AN21)*AO$10 -> 160 | AQ23: =ROUND(INDIRECT(ADDRESS(Данные!$A15,AQ$1,1,1,"Данные"), 1),2) -> 15512.14 | AR23: =ROUND(INDIRECT(ADDRESS(Данные!$A15,AR$1,1,1,"Данные"), 1),2) -> 4021.61 | AS23: =(AQ23-AQ21)*AS$10 -> 960 | AT23: =(AR23-AR21)*AS$10 -> 120 | AU23: =ROUND(INDIRECT(ADDRESS(Данные!$A15,AU$1,1,1,"Данные"), 1),2) -> 2788.1 | AV23: =ROUND(INDIRECT(ADDRESS(Данные!$A15,AV$1,1,1,"Данные"), 1),2) -> 1238.26 | AW23: =(AU23-AU21)*AW$10 -> 84 | AX23: =(AV23-AV21)*AW$10 -> 12 | AY23: =INDIRECT(ADDRESS(Данные!$A15,4,1,1,"Данные"), 1) -> 45280.167 | AZ23: =ROUND(INDIRECT(ADDRESS(Данные!$A15,AZ$1,1,1,"Данные"), 1),2) -> 2529.17 | BA23: =ROUND(INDIRECT(ADDRESS(Данные!$A15,BA$1,1,1,"Данные"), 1),2) -> 0 | BB23: =(AZ23-AZ21)*BB$10 -> 171 | BC23: =(BA23-BA21)*BB$10 -> 0 | BD23: =ROUND(INDIRECT(ADDRESS(Данные!$A15,BD$1,1,1,"Данные"), 1),2) -> 7201.5 | BE23: =ROUND(INDIRECT(ADDRESS(Данные!$A15,BE$1,1,1,"Данные"), 1),2) -> 4698.29 | BF23: =(BD23-BD21)*BF$10 -> 42 | BG23: =(BE23-BE21)*BF$10 -> 6 | BH23: =ROUND(INDIRECT(ADDRESS(Данные!$A15,BH$1,1,1,"Данные"), 1),2) -> 89.23 | BI23: =ROUND(INDIRECT(ADDRESS(Данные!$A15,BI$1,1,1,"Данные"), 1),2) -> 52.02 | BJ23: =(BH23-BH21)*BJ$10 -> 0 | BK23: =(BI23-BI21)*BJ$10 -> 0 | BL23: =ROUND(INDIRECT(ADDRESS(Данные!$A15,BL$1,1,1,"Данные"), 1),2) -> 1238.26 | BM23: =ROUND(INDIRECT(ADDRESS(Данные!$A15,BM$1,1,1,"Данные"), 1),2) -> 1238.26 | BN23: =(BL23-BL21)*BN$10 -> 12 | BO23: =(BM23-BM21)*BN$10 -> 12 | BP23: =ROUND(INDIRECT(ADDRESS(Данные!$A15,BP$1,1,1,"Данные"), 1),2) -> 7616.51 | BQ23: =ROUND(INDIRECT(ADDRESS(Данные!$A15,BQ$1,1,1,"Данные"), 1),2) -> 2342.98 | BR23: =(BP23-BP21)*BR$10 -> 0 | BS23: =(BQ23-BQ21)*BR$10 -> 0 | BT23: =ROUND(INDIRECT(ADDRESS(Данные!$A15,BT$1,1,1,"Данные"), 1),2) -> 107.63 | BU23: =ROUND(INDIRECT(ADDRESS(Данные!$A15,BU$1,1,1,"Данные"), 1),2) -> 6.96 | BV23: =(BT23-BT21)*BV$10 -> 0 | BW23: =(BU23-BU21)*BV$10 -> 0 | BX23: =$A23 -> 45280.167 | BY23: =D23+H23+L23+P23+T23+X23+AC23+AG23+AK23+AO23+AS23+AW23+ BB23+BJ23+BF23+BN23+BR23+BV23 -> 10089 | BZ23: =E23+I23+M23+Q23+U23+Y23+AD23+AH23+AL23+AP23+AT23+AX23+ BC23+BK23+BG23+BO23+BS23+BW23 -> 1550
A24: =INDIRECT(ADDRESS(Данные!$A16,4,1,1,"Данные"), 1) -> 45280.188 | B24: =ROUND(INDIRECT(ADDRESS(Данные!$A16,B$1,1,1,"Данные"), 1),2) -> 12175.48 | C24: =ROUND(INDIRECT(ADDRESS(Данные!$A16,C$1,1,1,"Данные"), 1),2) -> 5254.67 | D24: =(B24-B23)*D$10 -> 240 | E24: =(C24-C23)*D$10 -> 40 | F24: =ROUND(INDIRECT(ADDRESS(Данные!$A16,F$1,1,1,"Данные"), 1),2) -> 41019.52 | G24: =ROUND(INDIRECT(ADDRESS(Данные!$A16,G$1,1,1,"Данные"), 1),2) -> 9016.11 | H24: =(F24-F23)*H$10 -> 480 | I24: =(G24-G23)*H$10 -> 80 | J24: =ROUND(INDIRECT(ADDRESS(Данные!$A16,J$1,1,1,"Данные"), 1),2) -> 16048.84 | K24: =ROUND(INDIRECT(ADDRESS(Данные!$A16,K$1,1,1,"Данные"), 1),2) -> 3847.93 | L24: =(J24-J23)*L$10 -> 440 | M24: =(K24-K23)*L$10 -> 40 | N24: =ROUND(INDIRECT(ADDRESS(Данные!$A16,N$1,1,1,"Данные"), 1),2) -> 6367.7 | O24: =ROUND(INDIRECT(ADDRESS(Данные!$A16,O$1,1,1,"Данные"), 1),2) -> 1168.12 | P24: =(N24-N23)*P$10 -> 480 | Q24: =(O24-O23)*P$10 -> 0 | R24: =ROUND(INDIRECT(ADDRESS(Данные!$A16,R$1,1,1,"Данные"), 1),2) -> 6461.62 | S24: =ROUND(INDIRECT(ADDRESS(Данные!$A16,S$1,1,1,"Данные"), 1),2) -> 3042.07 | T24: =(R24-R23)*T$10 -> 640 | U24: =(S24-S23)*T$10 -> 240 | V24: =ROUND(INDIRECT(ADDRESS(Данные!$A16,V$1,1,1,"Данные"), 1),2) -> 3098 | W24: =ROUND(INDIRECT(ADDRESS(Данные!$A16,W$1,1,1,"Данные"), 1),2) -> 1217.38 | X24: =(V24-V23)*X$10 -> 80 | Y24: =(W24-W23)*X$10 -> 0 | Z24: =INDIRECT(ADDRESS(Данные!$A16,4,1,1,"Данные"), 1) -> 45280.188 | AA24: =ROUND(INDIRECT(ADDRESS(Данные!$A16,AA$1,1,1,"Данные"), 1),2) -> 14074.28 | AB24: =ROUND(INDIRECT(ADDRESS(Данные!$A16,AB$1,1,1,"Данные"), 1),2) -> 2863.93 | AC24: =(AA24-AA23)*AC$10 -> 720 | AD24: =(AB24-AB23)*AC$10 -> 40 | AE24: =ROUND(INDIRECT(ADDRESS(Данные!$A16,AE$1,1,1,"Данные"), 1),2) -> 14163.24 | AF24: =ROUND(INDIRECT(ADDRESS(Данные!$A16,AF$1,1,1,"Данные"), 1),2) -> 4579.71 | AG24: =(AE24-AE23)*AG$10 -> 360 | AH24: =(AF24-AF23)*AG$10 -> 60 | AI24: =ROUND(INDIRECT(ADDRESS(Данные!$A16,AI$1,1,1,"Данные"), 1),2) -> 1358.21 | AJ24: =ROUND(INDIRECT(ADDRESS(Данные!$A16,AJ$1,1,1,"Данные"), 1),2) -> 387.88 | AK24: =(AI24-AI23)*AK$10 -> 400 | AL24: =(AJ24-AJ23)*AK$10 -> 80 | AM24: =ROUND(INDIRECT(ADDRESS(Данные!$A16,AM$1,1,1,"Данные"), 1),2) -> 19414.9 | AN24: =ROUND(INDIRECT(ADDRESS(Данные!$A16,AN$1,1,1,"Данные"), 1),2) -> 7650.67 | AO24: =(AM24-AM23)*AO$10 -> 560 | AP24: =(AN24-AN23)*AO$10 -> 120 | AQ24: =ROUND(INDIRECT(ADDRESS(Данные!$A16,AQ$1,1,1,"Данные"), 1),2) -> 15512.22 | AR24: =ROUND(INDIRECT(ADDRESS(Данные!$A16,AR$1,1,1,"Данные"), 1),2) -> 4021.63 | AS24: =(AQ24-AQ23)*AS$10 -> 480 | AT24: =(AR24-AR23)*AS$10 -> 120 | AU24: =ROUND(INDIRECT(ADDRESS(Данные!$A16,AU$1,1,1,"Данные"), 1),2) -> 2788.17 | AV24: =ROUND(INDIRECT(ADDRESS(Данные!$A16,AV$1,1,1,"Данные"), 1),2) -> 1238.27 | AW24: =(AU24-AU23)*AW$10 -> 42 | AX24: =(AV24-AV23)*AW$10 -> 6 | AY24: =INDIRECT(ADDRESS(Данные!$A16,4,1,1,"Данные"), 1) -> 45280.188 | AZ24: =ROUND(INDIRECT(ADDRESS(Данные!$A16,AZ$1,1,1,"Данные"), 1),2) -> 2529.46 | BA24: =ROUND(INDIRECT(ADDRESS(Данные!$A16,BA$1,1,1,"Данные"), 1),2) -> 0 | BB24: =(AZ24-AZ23)*BB$10 -> 87 | BC24: =(BA24-BA23)*BB$10 -> 0 | BD24: =ROUND(INDIRECT(ADDRESS(Данные!$A16,BD$1,1,1,"Данные"), 1),2) -> 7201.54 | BE24: =ROUND(INDIRECT(ADDRESS(Данные!$A16,BE$1,1,1,"Данные"), 1),2) -> 4698.3 | BF24: =(BD24-BD23)*BF$10 -> 24 | BG24: =(BE24-BE23)*BF$10 -> 6 | BH24: =ROUND(INDIRECT(ADDRESS(Данные!$A16,BH$1,1,1,"Данные"), 1),2) -> 89.23 | BI24: =ROUND(INDIRECT(ADDRESS(Данные!$A16,BI$1,1,1,"Данные"), 1),2) -> 52.02 | BJ24: =(BH24-BH23)*BJ$10 -> 0 | BK24: =(BI24-BI23)*BJ$10 -> 0 | BL24: =ROUND(INDIRECT(ADDRESS(Данные!$A16,BL$1,1,1,"Данные"), 1),2) -> 1238.27 | BM24: =ROUND(INDIRECT(ADDRESS(Данные!$A16,BM$1,1,1,"Данные"), 1),2) -> 1238.27 | BN24: =(BL24-BL23)*BN$10 -> 6 | BO24: =(BM24-BM23)*BN$10 -> 6 | BP24: =ROUND(INDIRECT(ADDRESS(Данные!$A16,BP$1,1,1,"Данные"), 1),2) -> 7616.51 | BQ24: =ROUND(INDIRECT(ADDRESS(Данные!$A16,BQ$1,1,1,"Данные"), 1),2) -> 2342.98 | BR24: =(BP24-BP23)*BR$10 -> 0 | BS24: =(BQ24-BQ23)*BR$10 -> 0 | BT24: =ROUND(INDIRECT(ADDRESS(Данные!$A16,BT$1,1,1,"Данные"), 1),2) -> 107.63 | BU24: =ROUND(INDIRECT(ADDRESS(Данные!$A16,BU$1,1,1,"Данные"), 1),2) -> 6.96 | BV24: =(BT24-BT23)*BV$10 -> 0 | BW24: =(BU24-BU23)*BV$10 -> 0 | BX24: =$A24 -> 45280.188 | BY24: =D24+H24+L24+P24+T24+X24+AC24+AG24+AK24+AO24+AS24+AW24+ BB24+BJ24+BF24+BN24+BR24+BV24 -> 5039 | BZ24: =E24+I24+M24+Q24+U24+Y24+AD24+AH24+AL24+AP24+AT24+AX24+ BC24+BK24+BG24+BO24+BS24+BW24 -> 838
A25: =INDIRECT(ADDRESS(Данные!$A17,4,1,1,"Данные"), 1) -> 45280.208 | B25: =ROUND(INDIRECT(ADDRESS(Данные!$A17,B$1,1,1,"Данные"), 1),2) -> 12175.54 | C25: =ROUND(INDIRECT(ADDRESS(Данные!$A17,C$1,1,1,"Данные"), 1),2) -> 5254.67 | D25: =(B25-B23)*D$10 -> 480 | E25: =(C25-C23)*D$10 -> 40 | F25: =ROUND(INDIRECT(ADDRESS(Данные!$A17,F$1,1,1,"Данные"), 1),2) -> 41019.65 | G25: =ROUND(INDIRECT(ADDRESS(Данные!$A17,G$1,1,1,"Данные"), 1),2) -> 9016.13 | H25: =(F25-F23)*H$10 -> 1000 | I25: =(G25-G23)*H$10 -> 160 | J25: =ROUND(INDIRECT(ADDRESS(Данные!$A17,J$1,1,1,"Данные"), 1),2) -> 16048.94 | K25: =ROUND(INDIRECT(ADDRESS(Данные!$A17,K$1,1,1,"Данные"), 1),2) -> 3847.94 | L25: =(J25-J23)*L$10 -> 840 | M25: =(K25-K23)*L$10 -> 80 | N25: =ROUND(INDIRECT(ADDRESS(Данные!$A17,N$1,1,1,"Данные"), 1),2) -> 6367.83 | O25: =ROUND(INDIRECT(ADDRESS(Данные!$A17,O$1,1,1,"Данные"), 1),2) -> 1168.13 | P25: =(N25-N23)*P$10 -> 1000 | Q25: =(O25-O23)*P$10 -> 40 | R25: =ROUND(INDIRECT(ADDRESS(Данные!$A17,R$1,1,1,"Данные"), 1),2) -> 6461.78 | S25: =ROUND(INDIRECT(ADDRESS(Данные!$A17,S$1,1,1,"Данные"), 1),2) -> 3042.14 | T25: =(R25-R23)*T$10 -> 1280 | U25: =(S25-S23)*T$10 -> 520 | V25: =ROUND(INDIRECT(ADDRESS(Данные!$A17,V$1,1,1,"Данные"), 1),2) -> 3098.01 | W25: =ROUND(INDIRECT(ADDRESS(Данные!$A17,W$1,1,1,"Данные"), 1),2) -> 1217.39 | X25: =(V25-V23)*X$10 -> 120 | Y25: =(W25-W23)*X$10 -> 40 | Z25: =INDIRECT(ADDRESS(Данные!$A17,4,1,1,"Данные"), 1) -> 45280.208 | AA25: =ROUND(INDIRECT(ADDRESS(Данные!$A17,AA$1,1,1,"Данные"), 1),2) -> 14074.46 | AB25: =ROUND(INDIRECT(ADDRESS(Данные!$A17,AB$1,1,1,"Данные"), 1),2) -> 2863.95 | AC25: =(AA25-AA23)*AC$10 -> 1440 | AD25: =(AB25-AB23)*AC$10 -> 120 | AE25: =ROUND(INDIRECT(ADDRESS(Данные!$A17,AE$1,1,1,"Данные"), 1),2) -> 14163.31 | AF25: =ROUND(INDIRECT(ADDRESS(Данные!$A17,AF$1,1,1,"Данные"), 1),2) -> 4579.72 | AG25: =(AE25-AE23)*AG$10 -> 780 | AH25: =(AF25-AF23)*AG$10 -> 120 | AI25: =ROUND(INDIRECT(ADDRESS(Данные!$A17,AI$1,1,1,"Данные"), 1),2) -> 1358.3 | AJ25: =ROUND(INDIRECT(ADDRESS(Данные!$A17,AJ$1,1,1,"Данные"), 1),2) -> 387.89 | AK25: =(AI25-AI23)*AK$10 -> 760 | AL25: =(AJ25-AJ23)*AK$10 -> 120 | AM25: =ROUND(INDIRECT(ADDRESS(Данные!$A17,AM$1,1,1,"Данные"), 1),2) -> 19415.03 | AN25: =ROUND(INDIRECT(ADDRESS(Данные!$A17,AN$1,1,1,"Данные"), 1),2) -> 7650.69 | AO25: =(AM25-AM23)*AO$10 -> 1080 | AP25: =(AN25-AN23)*AO$10 -> 200 | AQ25: =ROUND(INDIRECT(ADDRESS(Данные!$A17,AQ$1,1,1,"Данные"), 1),2) -> 15512.31 | AR25: =ROUND(INDIRECT(ADDRESS(Данные!$A17,AR$1,1,1,"Данные"), 1),2) -> 4021.64 | AS25: =(AQ25-AQ23)*AS$10 -> 1020 | AT25: =(AR25-AR23)*AS$10 -> 180 | AU25: =ROUND(INDIRECT(ADDRESS(Данные!$A17,AU$1,1,1,"Данные"), 1),2) -> 2788.24 | AV25: =ROUND(INDIRECT(ADDRESS(Данные!$A17,AV$1,1,1,"Данные"), 1),2) -> 1238.28 | AW25: =(AU25-AU23)*AW$10 -> 84 | AX25: =(AV25-AV23)*AW$10 -> 12 | AY25: =INDIRECT(ADDRESS(Данные!$A17,4,1,1,"Данные"), 1) -> 45280.208 | AZ25: =ROUND(INDIRECT(ADDRESS(Данные!$A17,AZ$1,1,1,"Данные"), 1),2) -> 2529.75 | BA25: =ROUND(INDIRECT(ADDRESS(Данные!$A17,BA$1,1,1,"Данные"), 1),2) -> 0 | BB25: =(AZ25-AZ23)*BB$10 -> 174 | BC25: =(BA25-BA23)*BB$10 -> 0 | BD25: =ROUND(INDIRECT(ADDRESS(Данные!$A17,BD$1,1,1,"Данные"), 1),2) -> 7201.58 | BE25: =ROUND(INDIRECT(ADDRESS(Данные!$A17,BE$1,1,1,"Данные"), 1),2) -> 4698.31 | BF25: =(BD25-BD23)*BF$10 -> 48 | BG25: =(BE25-BE23)*BF$10 -> 12 | BH25: =ROUND(INDIRECT(ADDRESS(Данные!$A17,BH$1,1,1,"Данные"), 1),2) -> 89.23 | BI25: =ROUND(INDIRECT(ADDRESS(Данные!$A17,BI$1,1,1,"Данные"), 1),2) -> 52.02 | BJ25: =(BH25-BH23)*BJ$10 -> 0 | BK25: =(BI25-BI23)*BJ$10 -> 0 | BL25: =ROUND(INDIRECT(ADDRESS(Данные!$A17,BL$1,1,1,"Данные"), 1),2) -> 1238.28 | BM25: =ROUND(INDIRECT(ADDRESS(Данные!$A17,BM$1,1,1,"Данные"), 1),2) -> 1238.28 | BN25: =(BL25-BL23)*BN$10 -> 12 | BO25: =(BM25-BM23)*BN$10 -> 12 | BP25: =ROUND(INDIRECT(ADDRESS(Данные!$A17,BP$1,1,1,"Данные"), 1),2) -> 7616.51 | BQ25: =ROUND(INDIRECT(ADDRESS(Данные!$A17,BQ$1,1,1,"Данные"), 1),2) -> 2342.98 | BR25: =(BP25-BP23)*BR$10 -> 0 | BS25: =(BQ25-BQ23)*BR$10 -> 0 | BT25: =ROUND(INDIRECT(ADDRESS(Данные!$A17,BT$1,1,1,"Данные"), 1),2) -> 107.63 | BU25: =ROUND(INDIRECT(ADDRESS(Данные!$A17,BU$1,1,1,"Данные"), 1),2) -> 6.96 | BV25: =(BT25-BT23)*BV$10 -> 0 | BW25: =(BU25-BU23)*BV$10 -> 0 | BX25: =$A25 -> 45280.208 | BY25: =D25+H25+L25+P25+T25+X25+AC25+AG25+AK25+AO25+AS25+AW25+ BB25+BJ25+BF25+BN25+BR25+BV25 -> 10118 | BZ25: =E25+I25+M25+Q25+U25+Y25+AD25+AH25+AL25+AP25+AT25+AX25+ BC25+BK25+BG25+BO25+BS25+BW25 -> 1656
A26: =INDIRECT(ADDRESS(Данные!$A18,4,1,1,"Данные"), 1) -> 45280.229 | B26: =ROUND(INDIRECT(ADDRESS(Данные!$A18,B$1,1,1,"Данные"), 1),2) -> 12175.61 | C26: =ROUND(INDIRECT(ADDRESS(Данные!$A18,C$1,1,1,"Данные"), 1),2) -> 5254.67 | D26: =(B26-B25)*D$10 -> 280 | E26: =(C26-C25)*D$10 -> 0 | F26: =ROUND(INDIRECT(ADDRESS(Данные!$A18,F$1,1,1,"Данные"), 1),2) -> 41019.79 | G26: =ROUND(INDIRECT(ADDRESS(Данные!$A18,G$1,1,1,"Данные"), 1),2) -> 9016.15 | H26: =(F26-F25)*H$10 -> 560 | I26: =(G26-G25)*H$10 -> 80 | J26: =ROUND(INDIRECT(ADDRESS(Данные!$A18,J$1,1,1,"Данные"), 1),2) -> 16049.05 | K26: =ROUND(INDIRECT(ADDRESS(Данные!$A18,K$1,1,1,"Данные"), 1),2) -> 3847.95 | L26: =(J26-J25)*L$10 -> 440 | M26: =(K26-K25)*L$10 -> 40 | N26: =ROUND(INDIRECT(ADDRESS(Данные!$A18,N$1,1,1,"Данные"), 1),2) -> 6367.96 | O26: =ROUND(INDIRECT(ADDRESS(Данные!$A18,O$1,1,1,"Данные"), 1),2) -> 1168.14 | P26: =(N26-N25)*P$10 -> 520 | Q26: =(O26-O25)*P$10 -> 40 | R26: =ROUND(INDIRECT(ADDRESS(Данные!$A18,R$1,1,1,"Данные"), 1),2) -> 6461.94 | S26: =ROUND(INDIRECT(ADDRESS(Данные!$A18,S$1,1,1,"Данные"), 1),2) -> 3042.2 | T26: =(R26-R25)*T$10 -> 640 | U26: =(S26-S25)*T$10 -> 240 | V26: =ROUND(INDIRECT(ADDRESS(Данные!$A18,V$1,1,1,"Данные"), 1),2) -> 3098.02 | W26: =ROUND(INDIRECT(ADDRESS(Данные!$A18,W$1,1,1,"Данные"), 1),2) -> 1217.39 | X26: =(V26-V25)*X$10 -> 40 | Y26: =(W26-W25)*X$10 -> 0 | Z26: =INDIRECT(ADDRESS(Данные!$A18,4,1,1,"Данные"), 1) -> 45280.229 | AA26: =ROUND(INDIRECT(ADDRESS(Данные!$A18,AA$1,1,1,"Данные"), 1),2) -> 14074.65 | AB26: =ROUND(INDIRECT(ADDRESS(Данные!$A18,AB$1,1,1,"Данные"), 1),2) -> 2863.96 | AC26: =(AA26-AA25)*AC$10 -> 760 | AD26: =(AB26-AB25)*AC$10 -> 40 | AE26: =ROUND(INDIRECT(ADDRESS(Данные!$A18,AE$1,1,1,"Данные"), 1),2) -> 14163.37 | AF26: =ROUND(INDIRECT(ADDRESS(Данные!$A18,AF$1,1,1,"Данные"), 1),2) -> 4579.73 | AG26: =(AE26-AE25)*AG$10 -> 360 | AH26: =(AF26-AF25)*AG$10 -> 60 | AI26: =ROUND(INDIRECT(ADDRESS(Данные!$A18,AI$1,1,1,"Данные"), 1),2) -> 1358.39 | AJ26: =ROUND(INDIRECT(ADDRESS(Данные!$A18,AJ$1,1,1,"Данные"), 1),2) -> 387.91 | AK26: =(AI26-AI25)*AK$10 -> 360 | AL26: =(AJ26-AJ25)*AK$10 -> 80 | AM26: =ROUND(INDIRECT(ADDRESS(Данные!$A18,AM$1,1,1,"Данные"), 1),2) -> 19415.17 | AN26: =ROUND(INDIRECT(ADDRESS(Данные!$A18,AN$1,1,1,"Данные"), 1),2) -> 7650.71 | AO26: =(AM26-AM25)*AO$10 -> 560 | AP26: =(AN26-AN25)*AO$10 -> 80 | AQ26: =ROUND(INDIRECT(ADDRESS(Данные!$A18,AQ$1,1,1,"Данные"), 1),2) -> 15512.41 | AR26: =ROUND(INDIRECT(ADDRESS(Данные!$A18,AR$1,1,1,"Данные"), 1),2) -> 4021.65 | AS26: =(AQ26-AQ25)*AS$10 -> 600 | AT26: =(AR26-AR25)*AS$10 -> 60 | AU26: =ROUND(INDIRECT(ADDRESS(Данные!$A18,AU$1,1,1,"Данные"), 1),2) -> 2788.31 | AV26: =ROUND(INDIRECT(ADDRESS(Данные!$A18,AV$1,1,1,"Данные"), 1),2) -> 1238.28 | AW26: =(AU26-AU25)*AW$10 -> 42 | AX26: =(AV26-AV25)*AW$10 -> 0 | AY26: =INDIRECT(ADDRESS(Данные!$A18,4,1,1,"Данные"), 1) -> 45280.229 | AZ26: =ROUND(INDIRECT(ADDRESS(Данные!$A18,AZ$1,1,1,"Данные"), 1),2) -> 2530.03 | BA26: =ROUND(INDIRECT(ADDRESS(Данные!$A18,BA$1,1,1,"Данные"), 1),2) -> 0 | BB26: =(AZ26-AZ25)*BB$10 -> 84 | BC26: =(BA26-BA25)*BB$10 -> 0 | BD26: =ROUND(INDIRECT(ADDRESS(Данные!$A18,BD$1,1,1,"Данные"), 1),2) -> 7201.61 | BE26: =ROUND(INDIRECT(ADDRESS(Данные!$A18,BE$1,1,1,"Данные"), 1),2) -> 4698.32 | BF26: =(BD26-BD25)*BF$10 -> 18 | BG26: =(BE26-BE25)*BF$10 -> 6 | BH26: =ROUND(INDIRECT(ADDRESS(Данные!$A18,BH$1,1,1,"Данные"), 1),2) -> 89.23 | BI26: =ROUND(INDIRECT(ADDRESS(Данные!$A18,BI$1,1,1,"Данные"), 1),2) -> 52.02 | BJ26: =(BH26-BH25)*BJ$10 -> 0 | BK26: =(BI26-BI25)*BJ$10 -> 0 | BL26: =ROUND(INDIRECT(ADDRESS(Данные!$A18,BL$1,1,1,"Данные"), 1),2) -> 1238.28 | BM26: =ROUND(INDIRECT(ADDRESS(Данные!$A18,BM$1,1,1,"Данные"), 1),2) -> 1238.28 | BN26: =(BL26-BL25)*BN$10 -> 0 | BO26: =(BM26-BM25)*BN$10 -> 0 | BP26: =ROUND(INDIRECT(ADDRESS(Данные!$A18,BP$1,1,1,"Данные"), 1),2) -> 7616.51 | BQ26: =ROUND(INDIRECT(ADDRESS(Данные!$A18,BQ$1,1,1,"Данные"), 1),2) -> 2342.98 | BR26: =(BP26-BP25)*BR$10 -> 0 | BS26: =(BQ26-BQ25)*BR$10 -> 0 | BT26: =ROUND(INDIRECT(ADDRESS(Данные!$A18,BT$1,1,1,"Данные"), 1),2) -> 107.63 | BU26: =ROUND(INDIRECT(ADDRESS(Данные!$A18,BU$1,1,1,"Данные"), 1),2) -> 6.96 | BV26: =(BT26-BT25)*BV$10 -> 0 | BW26: =(BU26-BU25)*BV$10 -> 0 | BX26: =$A26 -> 45280.229 | BY26: =D26+H26+L26+P26+T26+X26+AC26+AG26+AK26+AO26+AS26+AW26+ BB26+BJ26+BF26+BN26+BR26+BV26 -> 5264 | BZ26: =E26+I26+M26+Q26+U26+Y26+AD26+AH26+AL26+AP26+AT26+AX26+ BC26+BK26+BG26+BO26+BS26+BW26 -> 726
A27: =INDIRECT(ADDRESS(Данные!$A19,4,1,1,"Данные"), 1) -> 45280.25 | B27: =ROUND(INDIRECT(ADDRESS(Данные!$A19,B$1,1,1,"Данные"), 1),2) -> 12175.68 | C27: =ROUND(INDIRECT(ADDRESS(Данные!$A19,C$1,1,1,"Данные"), 1),2) -> 5254.68 | D27: =(B27-B25)*D$10 -> 560 | E27: =(C27-C25)*D$10 -> 40 | F27: =ROUND(INDIRECT(ADDRESS(Данные!$A19,F$1,1,1,"Данные"), 1),2) -> 41019.93 | G27: =ROUND(INDIRECT(ADDRESS(Данные!$A19,G$1,1,1,"Данные"), 1),2) -> 9016.16 | H27: =(F27-F25)*H$10 -> 1120 | I27: =(G27-G25)*H$10 -> 120 | J27: =ROUND(INDIRECT(ADDRESS(Данные!$A19,J$1,1,1,"Данные"), 1),2) -> 16049.15 | K27: =ROUND(INDIRECT(ADDRESS(Данные!$A19,K$1,1,1,"Данные"), 1),2) -> 3847.97 | L27: =(J27-J25)*L$10 -> 840 | M27: =(K27-K25)*L$10 -> 120 | N27: =ROUND(INDIRECT(ADDRESS(Данные!$A19,N$1,1,1,"Данные"), 1),2) -> 6368.1 | O27: =ROUND(INDIRECT(ADDRESS(Данные!$A19,O$1,1,1,"Данные"), 1),2) -> 1168.15 | P27: =(N27-N25)*P$10 -> 1080 | Q27: =(O27-O25)*P$10 -> 80 | R27: =ROUND(INDIRECT(ADDRESS(Данные!$A19,R$1,1,1,"Данные"), 1),2) -> 6462.12 | S27: =ROUND(INDIRECT(ADDRESS(Данные!$A19,S$1,1,1,"Данные"), 1),2) -> 3042.26 | T27: =(R27-R25)*T$10 -> 1360 | U27: =(S27-S25)*T$10 -> 480 | V27: =ROUND(INDIRECT(ADDRESS(Данные!$A19,V$1,1,1,"Данные"), 1),2) -> 3098.04 | W27: =ROUND(INDIRECT(ADDRESS(Данные!$A19,W$1,1,1,"Данные"), 1),2) -> 1217.4 | X27: =(V27-V25)*X$10 -> 120 | Y27: =(W27-W25)*X$10 -> 40 | Z27: =INDIRECT(ADDRESS(Данные!$A19,4,1,1,"Данные"), 1) -> 45280.25 | AA27: =ROUND(INDIRECT(ADDRESS(Данные!$A19,AA$1,1,1,"Данные"), 1),2) -> 14074.84 | AB27: =ROUND(INDIRECT(ADDRESS(Данные!$A19,AB$1,1,1,"Данные"), 1),2) -> 2863.98 | AC27: =(AA27-AA25)*AC$10 -> 1520 | AD27: =(AB27-AB25)*AC$10 -> 120 | AE27: =ROUND(INDIRECT(ADDRESS(Данные!$A19,AE$1,1,1,"Данные"), 1),2) -> 14163.44 | AF27: =ROUND(INDIRECT(ADDRESS(Данные!$A19,AF$1,1,1,"Данные"), 1),2) -> 4579.74 | AG27: =(AE27-AE25)*AG$10 -> 780 | AH27: =(AF27-AF25)*AG$10 -> 120 | AI27: =ROUND(INDIRECT(ADDRESS(Данные!$A19,AI$1,1,1,"Данные"), 1),2) -> 1358.49 | AJ27: =ROUND(INDIRECT(ADDRESS(Данные!$A19,AJ$1,1,1,"Данные"), 1),2) -> 387.93 | AK27: =(AI27-AI25)*AK$10 -> 760 | AL27: =(AJ27-AJ25)*AK$10 -> 160 | AM27: =ROUND(INDIRECT(ADDRESS(Данные!$A19,AM$1,1,1,"Данные"), 1),2) -> 19415.31 | AN27: =ROUND(INDIRECT(ADDRESS(Данные!$A19,AN$1,1,1,"Данные"), 1),2) -> 7650.73 | AO27: =(AM27-AM25)*AO$10 -> 1120 | AP27: =(AN27-AN25)*AO$10 -> 160 | AQ27: =ROUND(INDIRECT(ADDRESS(Данные!$A19,AQ$1,1,1,"Данные"), 1),2) -> 15512.51 | AR27: =ROUND(INDIRECT(ADDRESS(Данные!$A19,AR$1,1,1,"Данные"), 1),2) -> 4021.67 | AS27: =(AQ27-AQ25)*AS$10 -> 1200 | AT27: =(AR27-AR25)*AS$10 -> 180 | AU27: =ROUND(INDIRECT(ADDRESS(Данные!$A19,AU$1,1,1,"Данные"), 1),2) -> 2788.37 | AV27: =ROUND(INDIRECT(ADDRESS(Данные!$A19,AV$1,1,1,"Данные"), 1),2) -> 1238.29 | AW27: =(AU27-AU25)*AW$10 -> 78 | AX27: =(AV27-AV25)*AW$10 -> 6 | AY27: =INDIRECT(ADDRESS(Данные!$A19,4,1,1,"Данные"), 1) -> 45280.25 | AZ27: =ROUND(INDIRECT(ADDRESS(Данные!$A19,AZ$1,1,1,"Данные"), 1),2) -> 2530.3 | BA27: =ROUND(INDIRECT(ADDRESS(Данные!$A19,BA$1,1,1,"Данные"), 1),2) -> 0 | BB27: =(AZ27-AZ25)*BB$10 -> 165 | BC27: =(BA27-BA25)*BB$10 -> 0 | BD27: =ROUND(INDIRECT(ADDRESS(Данные!$A19,BD$1,1,1,"Данные"), 1),2) -> 7201.65 | BE27: =ROUND(INDIRECT(ADDRESS(Данные!$A19,BE$1,1,1,"Данные"), 1),2) -> 4698.33 | BF27: =(BD27-BD25)*BF$10 -> 42 | BG27: =(BE27-BE25)*BF$10 -> 12 | BH27: =ROUND(INDIRECT(ADDRESS(Данные!$A19,BH$1,1,1,"Данные"), 1),2) -> 89.23 | BI27: =ROUND(INDIRECT(ADDRESS(Данные!$A19,BI$1,1,1,"Данные"), 1),2) -> 52.02 | BJ27: =(BH27-BH25)*BJ$10 -> 0 | BK27: =(BI27-BI25)*BJ$10 -> 0 | BL27: =ROUND(INDIRECT(ADDRESS(Данные!$A19,BL$1,1,1,"Данные"), 1),2) -> 1238.29 | BM27: =ROUND(INDIRECT(ADDRESS(Данные!$A19,BM$1,1,1,"Данные"), 1),2) -> 1238.29 | BN27: =(BL27-BL25)*BN$10 -> 6 | BO27: =(BM27-BM25)*BN$10 -> 6 | BP27: =ROUND(INDIRECT(ADDRESS(Данные!$A19,BP$1,1,1,"Данные"), 1),2) -> 7616.51 | BQ27: =ROUND(INDIRECT(ADDRESS(Данные!$A19,BQ$1,1,1,"Данные"), 1),2) -> 2342.98 | BR27: =(BP27-BP25)*BR$10 -> 0 | BS27: =(BQ27-BQ25)*BR$10 -> 0 | BT27: =ROUND(INDIRECT(ADDRESS(Данные!$A19,BT$1,1,1,"Данные"), 1),2) -> 107.63 | BU27: =ROUND(INDIRECT(ADDRESS(Данные!$A19,BU$1,1,1,"Данные"), 1),2) -> 6.96 | BV27: =(BT27-BT25)*BV$10 -> 0 | BW27: =(BU27-BU25)*BV$10 -> 0 | BX27: =$A27 -> 45280.25 | BY27: =D27+H27+L27+P27+T27+X27+AC27+AG27+AK27+AO27+AS27+AW27+ BB27+BJ27+BF27+BN27+BR27+BV27 -> 10751 | BZ27: =E27+I27+M27+Q27+U27+Y27+AD27+AH27+AL27+AP27+AT27+AX27+ BC27+BK27+BG27+BO27+BS27+BW27 -> 1644
A28: =INDIRECT(ADDRESS(Данные!$A20,4,1,1,"Данные"), 1) -> 45280.271 | B28: =ROUND(INDIRECT(ADDRESS(Данные!$A20,B$1,1,1,"Данные"), 1),2) -> 12175.78 | C28: =ROUND(INDIRECT(ADDRESS(Данные!$A20,C$1,1,1,"Данные"), 1),2) -> 5254.7 | D28: =(B28-B27)*D$10 -> 400 | E28: =(C28-C27)*D$10 -> 80 | F28: =ROUND(INDIRECT(ADDRESS(Данные!$A20,F$1,1,1,"Данные"), 1),2) -> 41020.07 | G28: =ROUND(INDIRECT(ADDRESS(Данные!$A20,G$1,1,1,"Данные"), 1),2) -> 9016.18 | H28: =(F28-F27)*H$10 -> 560 | I28: =(G28-G27)*H$10 -> 80 | J28: =ROUND(INDIRECT(ADDRESS(Данные!$A20,J$1,1,1,"Данные"), 1),2) -> 16049.27 | K28: =ROUND(INDIRECT(ADDRESS(Данные!$A20,K$1,1,1,"Данные"), 1),2) -> 3847.98 | L28: =(J28-J27)*L$10 -> 480 | M28: =(K28-K27)*L$10 -> 40 | N28: =ROUND(INDIRECT(ADDRESS(Данные!$A20,N$1,1,1,"Данные"), 1),2) -> 6368.23 | O28: =ROUND(INDIRECT(ADDRESS(Данные!$A20,O$1,1,1,"Данные"), 1),2) -> 1168.16 | P28: =(N28-N27)*P$10 -> 520 | Q28: =(O28-O27)*P$10 -> 40 | R28: =ROUND(INDIRECT(ADDRESS(Данные!$A20,R$1,1,1,"Данные"), 1),2) -> 6462.29 | S28: =ROUND(INDIRECT(ADDRESS(Данные!$A20,S$1,1,1,"Данные"), 1),2) -> 3042.32 | T28: =(R28-R27)*T$10 -> 680 | U28: =(S28-S27)*T$10 -> 240 | V28: =ROUND(INDIRECT(ADDRESS(Данные!$A20,V$1,1,1,"Данные"), 1),2) -> 3098.05 | W28: =ROUND(INDIRECT(ADDRESS(Данные!$A20,W$1,1,1,"Данные"), 1),2) -> 1217.41 | X28: =(V28-V27)*X$10 -> 40 | Y28: =(W28-W27)*X$10 -> 40 | Z28: =INDIRECT(ADDRESS(Данные!$A20,4,1,1,"Данные"), 1) -> 45280.271 | AA28: =ROUND(INDIRECT(ADDRESS(Данные!$A20,AA$1,1,1,"Данные"), 1),2) -> 14075.03 | AB28: =ROUND(INDIRECT(ADDRESS(Данные!$A20,AB$1,1,1,"Данные"), 1),2) -> 2864 | AC28: =(AA28-AA27)*AC$10 -> 760 | AD28: =(AB28-AB27)*AC$10 -> 80 | AE28: =ROUND(INDIRECT(ADDRESS(Данные!$A20,AE$1,1,1,"Данные"), 1),2) -> 14163.51 | AF28: =ROUND(INDIRECT(ADDRESS(Данные!$A20,AF$1,1,1,"Данные"), 1),2) -> 4579.75 | AG28: =(AE28-AE27)*AG$10 -> 420 | AH28: =(AF28-AF27)*AG$10 -> 60 | AI28: =ROUND(INDIRECT(ADDRESS(Данные!$A20,AI$1,1,1,"Данные"), 1),2) -> 1358.6 | AJ28: =ROUND(INDIRECT(ADDRESS(Данные!$A20,AJ$1,1,1,"Данные"), 1),2) -> 387.95 | AK28: =(AI28-AI27)*AK$10 -> 440 | AL28: =(AJ28-AJ27)*AK$10 -> 80 | AM28: =ROUND(INDIRECT(ADDRESS(Данные!$A20,AM$1,1,1,"Данные"), 1),2) -> 19415.46 | AN28: =ROUND(INDIRECT(ADDRESS(Данные!$A20,AN$1,1,1,"Данные"), 1),2) -> 7650.76 | AO28: =(AM28-AM27)*AO$10 -> 600 | AP28: =(AN28-AN27)*AO$10 -> 120 | AQ28: =ROUND(INDIRECT(ADDRESS(Данные!$A20,AQ$1,1,1,"Данные"), 1),2) -> 15512.63 | AR28: =ROUND(INDIRECT(ADDRESS(Данные!$A20,AR$1,1,1,"Данные"), 1),2) -> 4021.68 | AS28: =(AQ28-AQ27)*AS$10 -> 720 | AT28: =(AR28-AR27)*AS$10 -> 60 | AU28: =ROUND(INDIRECT(ADDRESS(Данные!$A20,AU$1,1,1,"Данные"), 1),2) -> 2788.43 | AV28: =ROUND(INDIRECT(ADDRESS(Данные!$A20,AV$1,1,1,"Данные"), 1),2) -> 1238.3 | AW28: =(AU28-AU27)*AW$10 -> 36 | AX28: =(AV28-AV27)*AW$10 -> 6 | AY28: =INDIRECT(ADDRESS(Данные!$A20,4,1,1,"Данные"), 1) -> 45280.271 | AZ28: =ROUND(INDIRECT(ADDRESS(Данные!$A20,AZ$1,1,1,"Данные"), 1),2) -> 2530.55 | BA28: =ROUND(INDIRECT(ADDRESS(Данные!$A20,BA$1,1,1,"Данные"), 1),2) -> 0 | BB28: =(AZ28-AZ27)*BB$10 -> 75 | BC28: =(BA28-BA27)*BB$10 -> 0 | BD28: =ROUND(INDIRECT(ADDRESS(Данные!$A20,BD$1,1,1,"Данные"), 1),2) -> 7201.69 | BE28: =ROUND(INDIRECT(ADDRESS(Данные!$A20,BE$1,1,1,"Данные"), 1),2) -> 4698.33 | BF28: =(BD28-BD27)*BF$10 -> 24 | BG28: =(BE28-BE27)*BF$10 -> 0 | BH28: =ROUND(INDIRECT(ADDRESS(Данные!$A20,BH$1,1,1,"Данные"), 1),2) -> 89.23 | BI28: =ROUND(INDIRECT(ADDRESS(Данные!$A20,BI$1,1,1,"Данные"), 1),2) -> 52.02 | BJ28: =(BH28-BH27)*BJ$10 -> 0 | BK28: =(BI28-BI27)*BJ$10 -> 0 | BL28: =ROUND(INDIRECT(ADDRESS(Данные!$A20,BL$1,1,1,"Данные"), 1),2) -> 1238.3 | BM28: =ROUND(INDIRECT(ADDRESS(Данные!$A20,BM$1,1,1,"Данные"), 1),2) -> 1238.3 | BN28: =(BL28-BL27)*BN$10 -> 6 | BO28: =(BM28-BM27)*BN$10 -> 6 | BP28: =ROUND(INDIRECT(ADDRESS(Данные!$A20,BP$1,1,1,"Данные"), 1),2) -> 7616.51 | BQ28: =ROUND(INDIRECT(ADDRESS(Данные!$A20,BQ$1,1,1,"Данные"), 1),2) -> 2342.98 | BR28: =(BP28-BP27)*BR$10 -> 0 | BS28: =(BQ28-BQ27)*BR$10 -> 0 | BT28: =ROUND(INDIRECT(ADDRESS(Данные!$A20,BT$1,1,1,"Данные"), 1),2) -> 107.63 | BU28: =ROUND(INDIRECT(ADDRESS(Данные!$A20,BU$1,1,1,"Данные"), 1),2) -> 6.96 | BV28: =(BT28-BT27)*BV$10 -> 0 | BW28: =(BU28-BU27)*BV$10 -> 0 | BX28: =$A28 -> 45280.271 | BY28: =D28+H28+L28+P28+T28+X28+AC28+AG28+AK28+AO28+AS28+AW28+ BB28+BJ28+BF28+BN28+BR28+BV28 -> 5761 | BZ28: =E28+I28+M28+Q28+U28+Y28+AD28+AH28+AL28+AP28+AT28+AX28+ BC28+BK28+BG28+BO28+BS28+BW28 -> 932
A29: =INDIRECT(ADDRESS(Данные!$A21,4,1,1,"Данные"), 1) -> 45280.292 | B29: =ROUND(INDIRECT(ADDRESS(Данные!$A21,B$1,1,1,"Данные"), 1),2) -> 12175.89 | C29: =ROUND(INDIRECT(ADDRESS(Данные!$A21,C$1,1,1,"Данные"), 1),2) -> 5254.72 | D29: =(B29-B27)*D$10 -> 840 | E29: =(C29-C27)*D$10 -> 160 | F29: =ROUND(INDIRECT(ADDRESS(Данные!$A21,F$1,1,1,"Данные"), 1),2) -> 41020.23 | G29: =ROUND(INDIRECT(ADDRESS(Данные!$A21,G$1,1,1,"Данные"), 1),2) -> 9016.2 | H29: =(F29-F27)*H$10 -> 1200 | I29: =(G29-G27)*H$10 -> 160 | J29: =ROUND(INDIRECT(ADDRESS(Данные!$A21,J$1,1,1,"Данные"), 1),2) -> 16049.38 | K29: =ROUND(INDIRECT(ADDRESS(Данные!$A21,K$1,1,1,"Данные"), 1),2) -> 3847.99 | L29: =(J29-J27)*L$10 -> 920 | M29: =(K29-K27)*L$10 -> 80 | N29: =ROUND(INDIRECT(ADDRESS(Данные!$A21,N$1,1,1,"Данные"), 1),2) -> 6368.36 | O29: =ROUND(INDIRECT(ADDRESS(Данные!$A21,O$1,1,1,"Данные"), 1),2) -> 1168.16 | P29: =(N29-N27)*P$10 -> 1040 | Q29: =(O29-O27)*P$10 -> 40 | R29: =ROUND(INDIRECT(ADDRESS(Данные!$A21,R$1,1,1,"Данные"), 1),2) -> 6462.48 | S29: =ROUND(INDIRECT(ADDRESS(Данные!$A21,S$1,1,1,"Данные"), 1),2) -> 3042.39 | T29: =(R29-R27)*T$10 -> 1440 | U29: =(S29-S27)*T$10 -> 520 | V29: =ROUND(INDIRECT(ADDRESS(Данные!$A21,V$1,1,1,"Данные"), 1),2) -> 3098.07 | W29: =ROUND(INDIRECT(ADDRESS(Данные!$A21,W$1,1,1,"Данные"), 1),2) -> 1217.41 | X29: =(V29-V27)*X$10 -> 120 | Y29: =(W29-W27)*X$10 -> 40 | Z29: =INDIRECT(ADDRESS(Данные!$A21,4,1,1,"Данные"), 1) -> 45280.292 | AA29: =ROUND(INDIRECT(ADDRESS(Данные!$A21,AA$1,1,1,"Данные"), 1),2) -> 14075.23 | AB29: =ROUND(INDIRECT(ADDRESS(Данные!$A21,AB$1,1,1,"Данные"), 1),2) -> 2864.01 | AC29: =(AA29-AA27)*AC$10 -> 1560 | AD29: =(AB29-AB27)*AC$10 -> 120 | AE29: =ROUND(INDIRECT(ADDRESS(Данные!$A21,AE$1,1,1,"Данные"), 1),2) -> 14163.57 | AF29: =ROUND(INDIRECT(ADDRESS(Данные!$A21,AF$1,1,1,"Данные"), 1),2) -> 4579.76 | AG29: =(AE29-AE27)*AG$10 -> 780 | AH29: =(AF29-AF27)*AG$10 -> 120 | AI29: =ROUND(INDIRECT(ADDRESS(Данные!$A21,AI$1,1,1,"Данные"), 1),2) -> 1358.73 | AJ29: =ROUND(INDIRECT(ADDRESS(Данные!$A21,AJ$1,1,1,"Данные"), 1),2) -> 387.96 | AK29: =(AI29-AI27)*AK$10 -> 960 | AL29: =(AJ29-AJ27)*AK$10 -> 120 | AM29: =ROUND(INDIRECT(ADDRESS(Данные!$A21,AM$1,1,1,"Данные"), 1),2) -> 19415.6 | AN29: =ROUND(INDIRECT(ADDRESS(Данные!$A21,AN$1,1,1,"Данные"), 1),2) -> 7650.78 | AO29: =(AM29-AM27)*AO$10 -> 1160 | AP29: =(AN29-AN27)*AO$10 -> 200 | AQ29: =ROUND(INDIRECT(ADDRESS(Данные!$A21,AQ$1,1,1,"Данные"), 1),2) -> 15512.74 | AR29: =ROUND(INDIRECT(ADDRESS(Данные!$A21,AR$1,1,1,"Данные"), 1),2) -> 4021.69 | AS29: =(AQ29-AQ27)*AS$10 -> 1380 | AT29: =(AR29-AR27)*AS$10 -> 120 | AU29: =ROUND(INDIRECT(ADDRESS(Данные!$A21,AU$1,1,1,"Данные"), 1),2) -> 2788.49 | AV29: =ROUND(INDIRECT(ADDRESS(Данные!$A21,AV$1,1,1,"Данные"), 1),2) -> 1238.3 | AW29: =(AU29-AU27)*AW$10 -> 72 | AX29: =(AV29-AV27)*AW$10 -> 6 | AY29: =INDIRECT(ADDRESS(Данные!$A21,4,1,1,"Данные"), 1) -> 45280.292 | AZ29: =ROUND(INDIRECT(ADDRESS(Данные!$A21,AZ$1,1,1,"Данные"), 1),2) -> 2530.79 | BA29: =ROUND(INDIRECT(ADDRESS(Данные!$A21,BA$1,1,1,"Данные"), 1),2) -> 0 | BB29: =(AZ29-AZ27)*BB$10 -> 147 | BC29: =(BA29-BA27)*BB$10 -> 0 | BD29: =ROUND(INDIRECT(ADDRESS(Данные!$A21,BD$1,1,1,"Данные"), 1),2) -> 7201.72 | BE29: =ROUND(INDIRECT(ADDRESS(Данные!$A21,BE$1,1,1,"Данные"), 1),2) -> 4698.34 | BF29: =(BD29-BD27)*BF$10 -> 42 | BG29: =(BE29-BE27)*BF$10 -> 6 | BH29: =ROUND(INDIRECT(ADDRESS(Данные!$A21,BH$1,1,1,"Данные"), 1),2) -> 89.23 | BI29: =ROUND(INDIRECT(ADDRESS(Данные!$A21,BI$1,1,1,"Данные"), 1),2) -> 52.02 | BJ29: =(BH29-BH27)*BJ$10 -> 0 | BK29: =(BI29-BI27)*BJ$10 -> 0 | BL29: =ROUND(INDIRECT(ADDRESS(Данные!$A21,BL$1,1,1,"Данные"), 1),2) -> 1238.3 | BM29: =ROUND(INDIRECT(ADDRESS(Данные!$A21,BM$1,1,1,"Данные"), 1),2) -> 1238.3 | BN29: =(BL29-BL27)*BN$10 -> 6 | BO29: =(BM29-BM27)*BN$10 -> 6 | BP29: =ROUND(INDIRECT(ADDRESS(Данные!$A21,BP$1,1,1,"Данные"), 1),2) -> 7616.51 | BQ29: =ROUND(INDIRECT(ADDRESS(Данные!$A21,BQ$1,1,1,"Данные"), 1),2) -> 2342.98 | BR29: =(BP29-BP27)*BR$10 -> 0 | BS29: =(BQ29-BQ27)*BR$10 -> 0 | BT29: =ROUND(INDIRECT(ADDRESS(Данные!$A21,BT$1,1,1,"Данные"), 1),2) -> 107.63 | BU29: =ROUND(INDIRECT(ADDRESS(Данные!$A21,BU$1,1,1,"Данные"), 1),2) -> 6.96 | BV29: =(BT29-BT27)*BV$10 -> 0 | BW29: =(BU29-BU27)*BV$10 -> 0 | BX29: =$A29 -> 45280.292 | BY29: =D29+H29+L29+P29+T29+X29+AC29+AG29+AK29+AO29+AS29+AW29+ BB29+BJ29+BF29+BN29+BR29+BV29 -> 11667 | BZ29: =E29+I29+M29+Q29+U29+Y29+AD29+AH29+AL29+AP29+AT29+AX29+ BC29+BK29+BG29+BO29+BS29+BW29 -> 1698
A30: =INDIRECT(ADDRESS(Данные!$A22,4,1,1,"Данные"), 1) -> 45280.312 | B30: =ROUND(INDIRECT(ADDRESS(Данные!$A22,B$1,1,1,"Данные"), 1),2) -> 12176 | C30: =ROUND(INDIRECT(ADDRESS(Данные!$A22,C$1,1,1,"Данные"), 1),2) -> 5254.75 | D30: =(B30-B29)*D$10 -> 440 | E30: =(C30-C29)*D$10 -> 120 | F30: =ROUND(INDIRECT(ADDRESS(Данные!$A22,F$1,1,1,"Данные"), 1),2) -> 41020.41 | G30: =ROUND(INDIRECT(ADDRESS(Данные!$A22,G$1,1,1,"Данные"), 1),2) -> 9016.22 | H30: =(F30-F29)*H$10 -> 720 | I30: =(G30-G29)*H$10 -> 80 | J30: =ROUND(INDIRECT(ADDRESS(Данные!$A22,J$1,1,1,"Данные"), 1),2) -> 16049.51 | K30: =ROUND(INDIRECT(ADDRESS(Данные!$A22,K$1,1,1,"Данные"), 1),2) -> 3848 | L30: =(J30-J29)*L$10 -> 520 | M30: =(K30-K29)*L$10 -> 40 | N30: =ROUND(INDIRECT(ADDRESS(Данные!$A22,N$1,1,1,"Данные"), 1),2) -> 6368.49 | O30: =ROUND(INDIRECT(ADDRESS(Данные!$A22,O$1,1,1,"Данные"), 1),2) -> 1168.17 | P30: =(N30-N29)*P$10 -> 520 | Q30: =(O30-O29)*P$10 -> 40 | R30: =ROUND(INDIRECT(ADDRESS(Данные!$A22,R$1,1,1,"Данные"), 1),2) -> 6462.69 | S30: =ROUND(INDIRECT(ADDRESS(Данные!$A22,S$1,1,1,"Данные"), 1),2) -> 3042.46 | T30: =(R30-R29)*T$10 -> 840 | U30: =(S30-S29)*T$10 -> 280 | V30: =ROUND(INDIRECT(ADDRESS(Данные!$A22,V$1,1,1,"Данные"), 1),2) -> 3098.08 | W30: =ROUND(INDIRECT(ADDRESS(Данные!$A22,W$1,1,1,"Данные"), 1),2) -> 1217.42 | X30: =(V30-V29)*X$10 -> 40 | Y30: =(W30-W29)*X$10 -> 40 | Z30: =INDIRECT(ADDRESS(Данные!$A22,4,1,1,"Данные"), 1) -> 45280.312 | AA30: =ROUND(INDIRECT(ADDRESS(Данные!$A22,AA$1,1,1,"Данные"), 1),2) -> 14075.43 | AB30: =ROUND(INDIRECT(ADDRESS(Данные!$A22,AB$1,1,1,"Данные"), 1),2) -> 2864.03 | AC30: =(AA30-AA29)*AC$10 -> 800 | AD30: =(AB30-AB29)*AC$10 -> 80 | AE30: =ROUND(INDIRECT(ADDRESS(Данные!$A22,AE$1,1,1,"Данные"), 1),2) -> 14163.64 | AF30: =ROUND(INDIRECT(ADDRESS(Данные!$A22,AF$1,1,1,"Данные"), 1),2) -> 4579.76 | AG30: =(AE30-AE29)*AG$10 -> 420 | AH30: =(AF30-AF29)*AG$10 -> 0 | AI30: =ROUND(INDIRECT(ADDRESS(Данные!$A22,AI$1,1,1,"Данные"), 1),2) -> 1358.88 | AJ30: =ROUND(INDIRECT(ADDRESS(Данные!$A22,AJ$1,1,1,"Данные"), 1),2) -> 387.98 | AK30: =(AI30-AI29)*AK$10 -> 600 | AL30: =(AJ30-AJ29)*AK$10 -> 80 | AM30: =ROUND(INDIRECT(ADDRESS(Данные!$A22,AM$1,1,1,"Данные"), 1),2) -> 19415.76 | AN30: =ROUND(INDIRECT(ADDRESS(Данные!$A22,AN$1,1,1,"Данные"), 1),2) -> 7650.81 | AO30: =(AM30-AM29)*AO$10 -> 640 | AP30: =(AN30-AN29)*AO$10 -> 120 | AQ30: =ROUND(INDIRECT(ADDRESS(Данные!$A22,AQ$1,1,1,"Данные"), 1),2) -> 15512.86 | AR30: =ROUND(INDIRECT(ADDRESS(Данные!$A22,AR$1,1,1,"Данные"), 1),2) -> 4021.7 | AS30: =(AQ30-AQ29)*AS$10 -> 720 | AT30: =(AR30-AR29)*AS$10 -> 60 | AU30: =ROUND(INDIRECT(ADDRESS(Данные!$A22,AU$1,1,1,"Данные"), 1),2) -> 2788.56 | AV30: =ROUND(INDIRECT(ADDRESS(Данные!$A22,AV$1,1,1,"Данные"), 1),2) -> 1238.31 | AW30: =(AU30-AU29)*AW$10 -> 42 | AX30: =(AV30-AV29)*AW$10 -> 6 | AY30: =INDIRECT(ADDRESS(Данные!$A22,4,1,1,"Данные"), 1) -> 45280.312 | AZ30: =ROUND(INDIRECT(ADDRESS(Данные!$A22,AZ$1,1,1,"Данные"), 1),2) -> 2531.02 | BA30: =ROUND(INDIRECT(ADDRESS(Данные!$A22,BA$1,1,1,"Данные"), 1),2) -> 0 | BB30: =(AZ30-AZ29)*BB$10 -> 69 | BC30: =(BA30-BA29)*BB$10 -> 0 | BD30: =ROUND(INDIRECT(ADDRESS(Данные!$A22,BD$1,1,1,"Данные"), 1),2) -> 7201.76 | BE30: =ROUND(INDIRECT(ADDRESS(Данные!$A22,BE$1,1,1,"Данные"), 1),2) -> 4698.34 | BF30: =(BD30-BD29)*BF$10 -> 24 | BG30: =(BE30-BE29)*BF$10 -> 0 | BH30: =ROUND(INDIRECT(ADDRESS(Данные!$A22,BH$1,1,1,"Данные"), 1),2) -> 89.23 | BI30: =ROUND(INDIRECT(ADDRESS(Данные!$A22,BI$1,1,1,"Данные"), 1),2) -> 52.02 | BJ30: =(BH30-BH29)*BJ$10 -> 0 | BK30: =(BI30-BI29)*BJ$10 -> 0 | BL30: =ROUND(INDIRECT(ADDRESS(Данные!$A22,BL$1,1,1,"Данные"), 1),2) -> 1238.31 | BM30: =ROUND(INDIRECT(ADDRESS(Данные!$A22,BM$1,1,1,"Данные"), 1),2) -> 1238.31 | BN30: =(BL30-BL29)*BN$10 -> 6 | BO30: =(BM30-BM29)*BN$10 -> 6 | BP30: =ROUND(INDIRECT(ADDRESS(Данные!$A22,BP$1,1,1,"Данные"), 1),2) -> 7616.51 | BQ30: =ROUND(INDIRECT(ADDRESS(Данные!$A22,BQ$1,1,1,"Данные"), 1),2) -> 2342.98 | BR30: =(BP30-BP29)*BR$10 -> 0 | BS30: =(BQ30-BQ29)*BR$10 -> 0 | BT30: =ROUND(INDIRECT(ADDRESS(Данные!$A22,BT$1,1,1,"Данные"), 1),2) -> 107.63 | BU30: =ROUND(INDIRECT(ADDRESS(Данные!$A22,BU$1,1,1,"Данные"), 1),2) -> 6.96 | BV30: =(BT30-BT29)*BV$10 -> 0 | BW30: =(BU30-BU29)*BV$10 -> 0 | BX30: =$A30 -> 45280.312 | BY30: =D30+H30+L30+P30+T30+X30+AC30+AG30+AK30+AO30+AS30+AW30+ BB30+BJ30+BF30+BN30+BR30+BV30 -> 6401 | BZ30: =E30+I30+M30+Q30+U30+Y30+AD30+AH30+AL30+AP30+AT30+AX30+ BC30+BK30+BG30+BO30+BS30+BW30 -> 952
A31: =INDIRECT(ADDRESS(Данные!$A23,4,1,1,"Данные"), 1) -> 45280.333 | B31: =ROUND(INDIRECT(ADDRESS(Данные!$A23,B$1,1,1,"Данные"), 1),2) -> 12176.12 | C31: =ROUND(INDIRECT(ADDRESS(Данные!$A23,C$1,1,1,"Данные"), 1),2) -> 5254.77 | D31: =(B31-B29)*D$10 -> 920 | E31: =(C31-C29)*D$10 -> 200 | F31: =ROUND(INDIRECT(ADDRESS(Данные!$A23,F$1,1,1,"Данные"), 1),2) -> 41020.6 | G31: =ROUND(INDIRECT(ADDRESS(Данные!$A23,G$1,1,1,"Данные"), 1),2) -> 9016.24 | H31: =(F31-F29)*H$10 -> 1480 | I31: =(G31-G29)*H$10 -> 160 | J31: =ROUND(INDIRECT(ADDRESS(Данные!$A23,J$1,1,1,"Данные"), 1),2) -> 16049.64 | K31: =ROUND(INDIRECT(ADDRESS(Данные!$A23,K$1,1,1,"Данные"), 1),2) -> 3848.01 | L31: =(J31-J29)*L$10 -> 1040 | M31: =(K31-K29)*L$10 -> 80 | N31: =ROUND(INDIRECT(ADDRESS(Данные!$A23,N$1,1,1,"Данные"), 1),2) -> 6368.62 | O31: =ROUND(INDIRECT(ADDRESS(Данные!$A23,O$1,1,1,"Данные"), 1),2) -> 1168.18 | P31: =(N31-N29)*P$10 -> 1040 | Q31: =(O31-O29)*P$10 -> 80 | R31: =ROUND(INDIRECT(ADDRESS(Данные!$A23,R$1,1,1,"Данные"), 1),2) -> 6462.91 | S31: =ROUND(INDIRECT(ADDRESS(Данные!$A23,S$1,1,1,"Данные"), 1),2) -> 3042.54 | T31: =(R31-R29)*T$10 -> 1720 | U31: =(S31-S29)*T$10 -> 600 | V31: =ROUND(INDIRECT(ADDRESS(Данные!$A23,V$1,1,1,"Данные"), 1),2) -> 3098.1 | W31: =ROUND(INDIRECT(ADDRESS(Данные!$A23,W$1,1,1,"Данные"), 1),2) -> 1217.42 | X31: =(V31-V29)*X$10 -> 120 | Y31: =(W31-W29)*X$10 -> 40 | Z31: =INDIRECT(ADDRESS(Данные!$A23,4,1,1,"Данные"), 1) -> 45280.333 | AA31: =ROUND(INDIRECT(ADDRESS(Данные!$A23,AA$1,1,1,"Данные"), 1),2) -> 14075.65 | AB31: =ROUND(INDIRECT(ADDRESS(Данные!$A23,AB$1,1,1,"Данные"), 1),2) -> 2864.04 | AC31: =(AA31-AA29)*AC$10 -> 1680 | AD31: =(AB31-AB29)*AC$10 -> 120 | AE31: =ROUND(INDIRECT(ADDRESS(Данные!$A23,AE$1,1,1,"Данные"), 1),2) -> 14163.7 | AF31: =ROUND(INDIRECT(ADDRESS(Данные!$A23,AF$1,1,1,"Данные"), 1),2) -> 4579.77 | AG31: =(AE31-AE29)*AG$10 -> 780 | AH31: =(AF31-AF29)*AG$10 -> 60 | AI31: =ROUND(INDIRECT(ADDRESS(Данные!$A23,AI$1,1,1,"Данные"), 1),2) -> 1359.04 | AJ31: =ROUND(INDIRECT(ADDRESS(Данные!$A23,AJ$1,1,1,"Данные"), 1),2) -> 388 | AK31: =(AI31-AI29)*AK$10 -> 1240 | AL31: =(AJ31-AJ29)*AK$10 -> 160 | AM31: =ROUND(INDIRECT(ADDRESS(Данные!$A23,AM$1,1,1,"Данные"), 1),2) -> 19415.9 | AN31: =ROUND(INDIRECT(ADDRESS(Данные!$A23,AN$1,1,1,"Данные"), 1),2) -> 7650.83 | AO31: =(AM31-AM29)*AO$10 -> 1200 | AP31: =(AN31-AN29)*AO$10 -> 200 | AQ31: =ROUND(INDIRECT(ADDRESS(Данные!$A23,AQ$1,1,1,"Данные"), 1),2) -> 15512.98 | AR31: =ROUND(INDIRECT(ADDRESS(Данные!$A23,AR$1,1,1,"Данные"), 1),2) -> 4021.71 | AS31: =(AQ31-AQ29)*AS$10 -> 1440 | AT31: =(AR31-AR29)*AS$10 -> 120 | AU31: =ROUND(INDIRECT(ADDRESS(Данные!$A23,AU$1,1,1,"Данные"), 1),2) -> 2788.62 | AV31: =ROUND(INDIRECT(ADDRESS(Данные!$A23,AV$1,1,1,"Данные"), 1),2) -> 1238.31 | AW31: =(AU31-AU29)*AW$10 -> 78 | AX31: =(AV31-AV29)*AW$10 -> 6 | AY31: =INDIRECT(ADDRESS(Данные!$A23,4,1,1,"Данные"), 1) -> 45280.333 | AZ31: =ROUND(INDIRECT(ADDRESS(Данные!$A23,AZ$1,1,1,"Данные"), 1),2) -> 2531.26 | BA31: =ROUND(INDIRECT(ADDRESS(Данные!$A23,BA$1,1,1,"Данные"), 1),2) -> 0 | BB31: =(AZ31-AZ29)*BB$10 -> 141 | BC31: =(BA31-BA29)*BB$10 -> 0 | BD31: =ROUND(INDIRECT(ADDRESS(Данные!$A23,BD$1,1,1,"Данные"), 1),2) -> 7201.8 | BE31: =ROUND(INDIRECT(ADDRESS(Данные!$A23,BE$1,1,1,"Данные"), 1),2) -> 4698.35 | BF31: =(BD31-BD29)*BF$10 -> 48 | BG31: =(BE31-BE29)*BF$10 -> 6 | BH31: =ROUND(INDIRECT(ADDRESS(Данные!$A23,BH$1,1,1,"Данные"), 1),2) -> 89.23 | BI31: =ROUND(INDIRECT(ADDRESS(Данные!$A23,BI$1,1,1,"Данные"), 1),2) -> 52.02 | BJ31: =(BH31-BH29)*BJ$10 -> 0 | BK31: =(BI31-BI29)*BJ$10 -> 0 | BL31: =ROUND(INDIRECT(ADDRESS(Данные!$A23,BL$1,1,1,"Данные"), 1),2) -> 1238.31 | BM31: =ROUND(INDIRECT(ADDRESS(Данные!$A23,BM$1,1,1,"Данные"), 1),2) -> 1238.31 | BN31: =(BL31-BL29)*BN$10 -> 6 | BO31: =(BM31-BM29)*BN$10 -> 6 | BP31: =ROUND(INDIRECT(ADDRESS(Данные!$A23,BP$1,1,1,"Данные"), 1),2) -> 7616.51 | BQ31: =ROUND(INDIRECT(ADDRESS(Данные!$A23,BQ$1,1,1,"Данные"), 1),2) -> 2342.98 | BR31: =(BP31-BP29)*BR$10 -> 0 | BS31: =(BQ31-BQ29)*BR$10 -> 0 | BT31: =ROUND(INDIRECT(ADDRESS(Данные!$A23,BT$1,1,1,"Данные"), 1),2) -> 107.63 | BU31: =ROUND(INDIRECT(ADDRESS(Данные!$A23,BU$1,1,1,"Данные"), 1),2) -> 6.96 | BV31: =(BT31-BT29)*BV$10 -> 0 | BW31: =(BU31-BU29)*BV$10 -> 0 | BX31: =$A31 -> 45280.333 | BY31: =D31+H31+L31+P31+T31+X31+AC31+AG31+AK31+AO31+AS31+AW31+ BB31+BJ31+BF31+BN31+BR31+BV31 -> 12933 | BZ31: =E31+I31+M31+Q31+U31+Y31+AD31+AH31+AL31+AP31+AT31+AX31+ BC31+BK31+BG31+BO31+BS31+BW31 -> 1838
A32: =INDIRECT(ADDRESS(Данные!$A24,4,1,1,"Данные"), 1) -> 45280.354 | B32: =ROUND(INDIRECT(ADDRESS(Данные!$A24,B$1,1,1,"Данные"), 1),2) -> 12176.22 | C32: =ROUND(INDIRECT(ADDRESS(Данные!$A24,C$1,1,1,"Данные"), 1),2) -> 5254.79 | D32: =(B32-B31)*D$10 -> 400 | E32: =(C32-C31)*D$10 -> 80 | F32: =ROUND(INDIRECT(ADDRESS(Данные!$A24,F$1,1,1,"Данные"), 1),2) -> 41020.79 | G32: =ROUND(INDIRECT(ADDRESS(Данные!$A24,G$1,1,1,"Данные"), 1),2) -> 9016.25 | H32: =(F32-F31)*H$10 -> 760 | I32: =(G32-G31)*H$10 -> 40 | J32: =ROUND(INDIRECT(ADDRESS(Данные!$A24,J$1,1,1,"Данные"), 1),2) -> 16049.76 | K32: =ROUND(INDIRECT(ADDRESS(Данные!$A24,K$1,1,1,"Данные"), 1),2) -> 3848.02 | L32: =(J32-J31)*L$10 -> 480 | M32: =(K32-K31)*L$10 -> 40 | N32: =ROUND(INDIRECT(ADDRESS(Данные!$A24,N$1,1,1,"Данные"), 1),2) -> 6368.75 | O32: =ROUND(INDIRECT(ADDRESS(Данные!$A24,O$1,1,1,"Данные"), 1),2) -> 1168.18 | P32: =(N32-N31)*P$10 -> 520 | Q32: =(O32-O31)*P$10 -> 0 | R32: =ROUND(INDIRECT(ADDRESS(Данные!$A24,R$1,1,1,"Данные"), 1),2) -> 6463.14 | S32: =ROUND(INDIRECT(ADDRESS(Данные!$A24,S$1,1,1,"Данные"), 1),2) -> 3042.62 | T32: =(R32-R31)*T$10 -> 920 | U32: =(S32-S31)*T$10 -> 320 | V32: =ROUND(INDIRECT(ADDRESS(Данные!$A24,V$1,1,1,"Данные"), 1),2) -> 3098.11 | W32: =ROUND(INDIRECT(ADDRESS(Данные!$A24,W$1,1,1,"Данные"), 1),2) -> 1217.42 | X32: =(V32-V31)*X$10 -> 40 | Y32: =(W32-W31)*X$10 -> 0 | Z32: =INDIRECT(ADDRESS(Данные!$A24,4,1,1,"Данные"), 1) -> 45280.354 | AA32: =ROUND(INDIRECT(ADDRESS(Данные!$A24,AA$1,1,1,"Данные"), 1),2) -> 14075.88 | AB32: =ROUND(INDIRECT(ADDRESS(Данные!$A24,AB$1,1,1,"Данные"), 1),2) -> 2864.06 | AC32: =(AA32-AA31)*AC$10 -> 920 | AD32: =(AB32-AB31)*AC$10 -> 80 | AE32: =ROUND(INDIRECT(ADDRESS(Данные!$A24,AE$1,1,1,"Данные"), 1),2) -> 14163.77 | AF32: =ROUND(INDIRECT(ADDRESS(Данные!$A24,AF$1,1,1,"Данные"), 1),2) -> 4579.79 | AG32: =(AE32-AE31)*AG$10 -> 420 | AH32: =(AF32-AF31)*AG$10 -> 120 | AI32: =ROUND(INDIRECT(ADDRESS(Данные!$A24,AI$1,1,1,"Данные"), 1),2) -> 1359.2 | AJ32: =ROUND(INDIRECT(ADDRESS(Данные!$A24,AJ$1,1,1,"Данные"), 1),2) -> 388.01 | AK32: =(AI32-AI31)*AK$10 -> 640 | AL32: =(AJ32-AJ31)*AK$10 -> 40 | AM32: =ROUND(INDIRECT(ADDRESS(Данные!$A24,AM$1,1,1,"Данные"), 1),2) -> 19416.04 | AN32: =ROUND(INDIRECT(ADDRESS(Данные!$A24,AN$1,1,1,"Данные"), 1),2) -> 7650.85 | AO32: =(AM32-AM31)*AO$10 -> 560 | AP32: =(AN32-AN31)*AO$10 -> 80 | AQ32: =ROUND(INDIRECT(ADDRESS(Данные!$A24,AQ$1,1,1,"Данные"), 1),2) -> 15513.1 | AR32: =ROUND(INDIRECT(ADDRESS(Данные!$A24,AR$1,1,1,"Данные"), 1),2) -> 4021.73 | AS32: =(AQ32-AQ31)*AS$10 -> 720 | AT32: =(AR32-AR31)*AS$10 -> 120 | AU32: =ROUND(INDIRECT(ADDRESS(Данные!$A24,AU$1,1,1,"Данные"), 1),2) -> 2788.67 | AV32: =ROUND(INDIRECT(ADDRESS(Данные!$A24,AV$1,1,1,"Данные"), 1),2) -> 1238.32 | AW32: =(AU32-AU31)*AW$10 -> 30 | AX32: =(AV32-AV31)*AW$10 -> 6 | AY32: =INDIRECT(ADDRESS(Данные!$A24,4,1,1,"Данные"), 1) -> 45280.354 | AZ32: =ROUND(INDIRECT(ADDRESS(Данные!$A24,AZ$1,1,1,"Данные"), 1),2) -> 2531.48 | BA32: =ROUND(INDIRECT(ADDRESS(Данные!$A24,BA$1,1,1,"Данные"), 1),2) -> 0 | BB32: =(AZ32-AZ31)*BB$10 -> 66 | BC32: =(BA32-BA31)*BB$10 -> 0 | BD32: =ROUND(INDIRECT(ADDRESS(Данные!$A24,BD$1,1,1,"Данные"), 1),2) -> 7201.84 | BE32: =ROUND(INDIRECT(ADDRESS(Данные!$A24,BE$1,1,1,"Данные"), 1),2) -> 4698.36 | BF32: =(BD32-BD31)*BF$10 -> 24 | BG32: =(BE32-BE31)*BF$10 -> 6 | BH32: =ROUND(INDIRECT(ADDRESS(Данные!$A24,BH$1,1,1,"Данные"), 1),2) -> 89.23 | BI32: =ROUND(INDIRECT(ADDRESS(Данные!$A24,BI$1,1,1,"Данные"), 1),2) -> 52.02 | BJ32: =(BH32-BH31)*BJ$10 -> 0 | BK32: =(BI32-BI31)*BJ$10 -> 0 | BL32: =ROUND(INDIRECT(ADDRESS(Данные!$A24,BL$1,1,1,"Данные"), 1),2) -> 1238.32 | BM32: =ROUND(INDIRECT(ADDRESS(Данные!$A24,BM$1,1,1,"Данные"), 1),2) -> 1238.32 | BN32: =(BL32-BL31)*BN$10 -> 6 | BO32: =(BM32-BM31)*BN$10 -> 6 | BP32: =ROUND(INDIRECT(ADDRESS(Данные!$A24,BP$1,1,1,"Данные"), 1),2) -> 7616.51 | BQ32: =ROUND(INDIRECT(ADDRESS(Данные!$A24,BQ$1,1,1,"Данные"), 1),2) -> 2342.98 | BR32: =(BP32-BP31)*BR$10 -> 0 | BS32: =(BQ32-BQ31)*BR$10 -> 0 | BT32: =ROUND(INDIRECT(ADDRESS(Данные!$A24,BT$1,1,1,"Данные"), 1),2) -> 107.63 | BU32: =ROUND(INDIRECT(ADDRESS(Данные!$A24,BU$1,1,1,"Данные"), 1),2) -> 6.96 | BV32: =(BT32-BT31)*BV$10 -> 0 | BW32: =(BU32-BU31)*BV$10 -> 0 | BX32: =$A32 -> 45280.354 | BY32: =D32+H32+L32+P32+T32+X32+AC32+AG32+AK32+AO32+AS32+AW32+ BB32+BJ32+BF32+BN32+BR32+BV32 -> 6506 | BZ32: =E32+I32+M32+Q32+U32+Y32+AD32+AH32+AL32+AP32+AT32+AX32+ BC32+BK32+BG32+BO32+BS32+BW32 -> 938
A33: =INDIRECT(ADDRESS(Данные!$A25,4,1,1,"Данные"), 1) -> 45280.375 | B33: =ROUND(INDIRECT(ADDRESS(Данные!$A25,B$1,1,1,"Данные"), 1),2) -> 12176.33 | C33: =ROUND(INDIRECT(ADDRESS(Данные!$A25,C$1,1,1,"Данные"), 1),2) -> 5254.81 | D33: =(B33-B31)*D$10 -> 840 | E33: =(C33-C31)*D$10 -> 160 | F33: =ROUND(INDIRECT(ADDRESS(Данные!$A25,F$1,1,1,"Данные"), 1),2) -> 41020.98 | G33: =ROUND(INDIRECT(ADDRESS(Данные!$A25,G$1,1,1,"Данные"), 1),2) -> 9016.27 | H33: =(F33-F31)*H$10 -> 1520 | I33: =(G33-G31)*H$10 -> 120 | J33: =ROUND(INDIRECT(ADDRESS(Данные!$A25,J$1,1,1,"Данные"), 1),2) -> 16049.89 | K33: =ROUND(INDIRECT(ADDRESS(Данные!$A25,K$1,1,1,"Данные"), 1),2) -> 3848.03 | L33: =(J33-J31)*L$10 -> 1000 | M33: =(K33-K31)*L$10 -> 80 | N33: =ROUND(INDIRECT(ADDRESS(Данные!$A25,N$1,1,1,"Данные"), 1),2) -> 6368.88 | O33: =ROUND(INDIRECT(ADDRESS(Данные!$A25,O$1,1,1,"Данные"), 1),2) -> 1168.19 | P33: =(N33-N31)*P$10 -> 1040 | Q33: =(O33-O31)*P$10 -> 40 | R33: =ROUND(INDIRECT(ADDRESS(Данные!$A25,R$1,1,1,"Данные"), 1),2) -> 6463.37 | S33: =ROUND(INDIRECT(ADDRESS(Данные!$A25,S$1,1,1,"Данные"), 1),2) -> 3042.7 | T33: =(R33-R31)*T$10 -> 1840 | U33: =(S33-S31)*T$10 -> 640 | V33: =ROUND(INDIRECT(ADDRESS(Данные!$A25,V$1,1,1,"Данные"), 1),2) -> 3098.13 | W33: =ROUND(INDIRECT(ADDRESS(Данные!$A25,W$1,1,1,"Данные"), 1),2) -> 1217.43 | X33: =(V33-V31)*X$10 -> 120 | Y33: =(W33-W31)*X$10 -> 40 | Z33: =INDIRECT(ADDRESS(Данные!$A25,4,1,1,"Данные"), 1) -> 45280.375 | AA33: =ROUND(INDIRECT(ADDRESS(Данные!$A25,AA$1,1,1,"Данные"), 1),2) -> 14076.11 | AB33: =ROUND(INDIRECT(ADDRESS(Данные!$A25,AB$1,1,1,"Данные"), 1),2) -> 2864.08 | AC33: =(AA33-AA31)*AC$10 -> 1840 | AD33: =(AB33-AB31)*AC$10 -> 160 | AE33: =ROUND(INDIRECT(ADDRESS(Данные!$A25,AE$1,1,1,"Данные"), 1),2) -> 14163.84 | AF33: =ROUND(INDIRECT(ADDRESS(Данные!$A25,AF$1,1,1,"Данные"), 1),2) -> 4579.8 | AG33: =(AE33-AE31)*AG$10 -> 840 | AH33: =(AF33-AF31)*AG$10 -> 180 | AI33: =ROUND(INDIRECT(ADDRESS(Данные!$A25,AI$1,1,1,"Данные"), 1),2) -> 1359.37 | AJ33: =ROUND(INDIRECT(ADDRESS(Данные!$A25,AJ$1,1,1,"Данные"), 1),2) -> 388.03 | AK33: =(AI33-AI31)*AK$10 -> 1320 | AL33: =(AJ33-AJ31)*AK$10 -> 120 | AM33: =ROUND(INDIRECT(ADDRESS(Данные!$A25,AM$1,1,1,"Данные"), 1),2) -> 19416.18 | AN33: =ROUND(INDIRECT(ADDRESS(Данные!$A25,AN$1,1,1,"Данные"), 1),2) -> 7650.87 | AO33: =(AM33-AM31)*AO$10 -> 1120 | AP33: =(AN33-AN31)*AO$10 -> 160 | AQ33: =ROUND(INDIRECT(ADDRESS(Данные!$A25,AQ$1,1,1,"Данные"), 1),2) -> 15513.22 | AR33: =ROUND(INDIRECT(ADDRESS(Данные!$A25,AR$1,1,1,"Данные"), 1),2) -> 4021.74 | AS33: =(AQ33-AQ31)*AS$10 -> 1440 | AT33: =(AR33-AR31)*AS$10 -> 180 | AU33: =ROUND(INDIRECT(ADDRESS(Данные!$A25,AU$1,1,1,"Данные"), 1),2) -> 2788.73 | AV33: =ROUND(INDIRECT(ADDRESS(Данные!$A25,AV$1,1,1,"Данные"), 1),2) -> 1238.33 | AW33: =(AU33-AU31)*AW$10 -> 66 | AX33: =(AV33-AV31)*AW$10 -> 12 | AY33: =INDIRECT(ADDRESS(Данные!$A25,4,1,1,"Данные"), 1) -> 45280.375 | AZ33: =ROUND(INDIRECT(ADDRESS(Данные!$A25,AZ$1,1,1,"Данные"), 1),2) -> 2531.72 | BA33: =ROUND(INDIRECT(ADDRESS(Данные!$A25,BA$1,1,1,"Данные"), 1),2) -> 0 | BB33: =(AZ33-AZ31)*BB$10 -> 138 | BC33: =(BA33-BA31)*BB$10 -> 0 | BD33: =ROUND(INDIRECT(ADDRESS(Данные!$A25,BD$1,1,1,"Данные"), 1),2) -> 7201.87 | BE33: =ROUND(INDIRECT(ADDRESS(Данные!$A25,BE$1,1,1,"Данные"), 1),2) -> 4698.36 | BF33: =(BD33-BD31)*BF$10 -> 42 | BG33: =(BE33-BE31)*BF$10 -> 6 | BH33: =ROUND(INDIRECT(ADDRESS(Данные!$A25,BH$1,1,1,"Данные"), 1),2) -> 89.23 | BI33: =ROUND(INDIRECT(ADDRESS(Данные!$A25,BI$1,1,1,"Данные"), 1),2) -> 52.02 | BJ33: =(BH33-BH31)*BJ$10 -> 0 | BK33: =(BI33-BI31)*BJ$10 -> 0 | BL33: =ROUND(INDIRECT(ADDRESS(Данные!$A25,BL$1,1,1,"Данные"), 1),2) -> 1238.33 | BM33: =ROUND(INDIRECT(ADDRESS(Данные!$A25,BM$1,1,1,"Данные"), 1),2) -> 1238.33 | BN33: =(BL33-BL31)*BN$10 -> 12 | BO33: =(BM33-BM31)*BN$10 -> 12 | BP33: =ROUND(INDIRECT(ADDRESS(Данные!$A25,BP$1,1,1,"Данные"), 1),2) -> 7616.51 | BQ33: =ROUND(INDIRECT(ADDRESS(Данные!$A25,BQ$1,1,1,"Данные"), 1),2) -> 2342.98 | BR33: =(BP33-BP31)*BR$10 -> 0 | BS33: =(BQ33-BQ31)*BR$10 -> 0 | BT33: =ROUND(INDIRECT(ADDRESS(Данные!$A25,BT$1,1,1,"Данные"), 1),2) -> 107.63 | BU33: =ROUND(INDIRECT(ADDRESS(Данные!$A25,BU$1,1,1,"Данные"), 1),2) -> 6.96 | BV33: =(BT33-BT31)*BV$10 -> 0 | BW33: =(BU33-BU31)*BV$10 -> 0 | BX33: =$A33 -> 45280.375 | BY33: =D33+H33+L33+P33+T33+X33+AC33+AG33+AK33+AO33+AS33+AW33+ BB33+BJ33+BF33+BN33+BR33+BV33 -> 13178 | BZ33: =E33+I33+M33+Q33+U33+Y33+AD33+AH33+AL33+AP33+AT33+AX33+ BC33+BK33+BG33+BO33+BS33+BW33 -> 1910
A34: =INDIRECT(ADDRESS(Данные!$A26,4,1,1,"Данные"), 1) -> 45280.396 | B34: =ROUND(INDIRECT(ADDRESS(Данные!$A26,B$1,1,1,"Данные"), 1),2) -> 12176.44 | C34: =ROUND(INDIRECT(ADDRESS(Данные!$A26,C$1,1,1,"Данные"), 1),2) -> 5254.84 | D34: =(B34-B33)*D$10 -> 440 | E34: =(C34-C33)*D$10 -> 120 | F34: =ROUND(INDIRECT(ADDRESS(Данные!$A26,F$1,1,1,"Данные"), 1),2) -> 41021.18 | G34: =ROUND(INDIRECT(ADDRESS(Данные!$A26,G$1,1,1,"Данные"), 1),2) -> 9016.29 | H34: =(F34-F33)*H$10 -> 800 | I34: =(G34-G33)*H$10 -> 80 | J34: =ROUND(INDIRECT(ADDRESS(Данные!$A26,J$1,1,1,"Данные"), 1),2) -> 16050.03 | K34: =ROUND(INDIRECT(ADDRESS(Данные!$A26,K$1,1,1,"Данные"), 1),2) -> 3848.04 | L34: =(J34-J33)*L$10 -> 560 | M34: =(K34-K33)*L$10 -> 40 | N34: =ROUND(INDIRECT(ADDRESS(Данные!$A26,N$1,1,1,"Данные"), 1),2) -> 6369.01 | O34: =ROUND(INDIRECT(ADDRESS(Данные!$A26,O$1,1,1,"Данные"), 1),2) -> 1168.2 | P34: =(N34-N33)*P$10 -> 520 | Q34: =(O34-O33)*P$10 -> 40 | R34: =ROUND(INDIRECT(ADDRESS(Данные!$A26,R$1,1,1,"Данные"), 1),2) -> 6463.58 | S34: =ROUND(INDIRECT(ADDRESS(Данные!$A26,S$1,1,1,"Данные"), 1),2) -> 3042.77 | T34: =(R34-R33)*T$10 -> 840 | U34: =(S34-S33)*T$10 -> 280 | V34: =ROUND(INDIRECT(ADDRESS(Данные!$A26,V$1,1,1,"Данные"), 1),2) -> 3098.15 | W34: =ROUND(INDIRECT(ADDRESS(Данные!$A26,W$1,1,1,"Данные"), 1),2) -> 1217.43 | X34: =(V34-V33)*X$10 -> 80 | Y34: =(W34-W33)*X$10 -> 0 | Z34: =INDIRECT(ADDRESS(Данные!$A26,4,1,1,"Данные"), 1) -> 45280.396 | AA34: =ROUND(INDIRECT(ADDRESS(Данные!$A26,AA$1,1,1,"Данные"), 1),2) -> 14076.36 | AB34: =ROUND(INDIRECT(ADDRESS(Данные!$A26,AB$1,1,1,"Данные"), 1),2) -> 2864.1 | AC34: =(AA34-AA33)*AC$10 -> 1000 | AD34: =(AB34-AB33)*AC$10 -> 80 | AE34: =ROUND(INDIRECT(ADDRESS(Данные!$A26,AE$1,1,1,"Данные"), 1),2) -> 14163.91 | AF34: =ROUND(INDIRECT(ADDRESS(Данные!$A26,AF$1,1,1,"Данные"), 1),2) -> 4579.82 | AG34: =(AE34-AE33)*AG$10 -> 420 | AH34: =(AF34-AF33)*AG$10 -> 120 | AI34: =ROUND(INDIRECT(ADDRESS(Данные!$A26,AI$1,1,1,"Данные"), 1),2) -> 1359.55 | AJ34: =ROUND(INDIRECT(ADDRESS(Данные!$A26,AJ$1,1,1,"Данные"), 1),2) -> 388.05 | AK34: =(AI34-AI33)*AK$10 -> 720 | AL34: =(AJ34-AJ33)*AK$10 -> 80 | AM34: =ROUND(INDIRECT(ADDRESS(Данные!$A26,AM$1,1,1,"Данные"), 1),2) -> 19416.33 | AN34: =ROUND(INDIRECT(ADDRESS(Данные!$A26,AN$1,1,1,"Данные"), 1),2) -> 7650.89 | AO34: =(AM34-AM33)*AO$10 -> 600 | AP34: =(AN34-AN33)*AO$10 -> 80 | AQ34: =ROUND(INDIRECT(ADDRESS(Данные!$A26,AQ$1,1,1,"Данные"), 1),2) -> 15513.33 | AR34: =ROUND(INDIRECT(ADDRESS(Данные!$A26,AR$1,1,1,"Данные"), 1),2) -> 4021.75 | AS34: =(AQ34-AQ33)*AS$10 -> 660 | AT34: =(AR34-AR33)*AS$10 -> 60 | AU34: =ROUND(INDIRECT(ADDRESS(Данные!$A26,AU$1,1,1,"Данные"), 1),2) -> 2788.79 | AV34: =ROUND(INDIRECT(ADDRESS(Данные!$A26,AV$1,1,1,"Данные"), 1),2) -> 1238.33 | AW34: =(AU34-AU33)*AW$10 -> 36 | AX34: =(AV34-AV33)*AW$10 -> 0 | AY34: =INDIRECT(ADDRESS(Данные!$A26,4,1,1,"Данные"), 1) -> 45280.396 | AZ34: =ROUND(INDIRECT(ADDRESS(Данные!$A26,AZ$1,1,1,"Данные"), 1),2) -> 2531.94 | BA34: =ROUND(INDIRECT(ADDRESS(Данные!$A26,BA$1,1,1,"Данные"), 1),2) -> 0 | BB34: =(AZ34-AZ33)*BB$10 -> 66 | BC34: =(BA34-BA33)*BB$10 -> 0 | BD34: =ROUND(INDIRECT(ADDRESS(Данные!$A26,BD$1,1,1,"Данные"), 1),2) -> 7201.98 | BE34: =ROUND(INDIRECT(ADDRESS(Данные!$A26,BE$1,1,1,"Данные"), 1),2) -> 4698.46 | BF34: =(BD34-BD33)*BF$10 -> 66 | BG34: =(BE34-BE33)*BF$10 -> 60 | BH34: =ROUND(INDIRECT(ADDRESS(Данные!$A26,BH$1,1,1,"Данные"), 1),2) -> 89.23 | BI34: =ROUND(INDIRECT(ADDRESS(Данные!$A26,BI$1,1,1,"Данные"), 1),2) -> 52.02 | BJ34: =(BH34-BH33)*BJ$10 -> 0 | BK34: =(BI34-BI33)*BJ$10 -> 0 | BL34: =ROUND(INDIRECT(ADDRESS(Данные!$A26,BL$1,1,1,"Данные"), 1),2) -> 1238.33 | BM34: =ROUND(INDIRECT(ADDRESS(Данные!$A26,BM$1,1,1,"Данные"), 1),2) -> 1238.33 | BN34: =(BL34-BL33)*BN$10 -> 0 | BO34: =(BM34-BM33)*BN$10 -> 0 | BP34: =ROUND(INDIRECT(ADDRESS(Данные!$A26,BP$1,1,1,"Данные"), 1),2) -> 7616.51 | BQ34: =ROUND(INDIRECT(ADDRESS(Данные!$A26,BQ$1,1,1,"Данные"), 1),2) -> 2342.98 | BR34: =(BP34-BP33)*BR$10 -> 0 | BS34: =(BQ34-BQ33)*BR$10 -> 0 | BT34: =ROUND(INDIRECT(ADDRESS(Данные!$A26,BT$1,1,1,"Данные"), 1),2) -> 107.63 | BU34: =ROUND(INDIRECT(ADDRESS(Данные!$A26,BU$1,1,1,"Данные"), 1),2) -> 6.96 | BV34: =(BT34-BT33)*BV$10 -> 0 | BW34: =(BU34-BU33)*BV$10 -> 0 | BX34: =$A34 -> 45280.396 | BY34: =D34+H34+L34+P34+T34+X34+AC34+AG34+AK34+AO34+AS34+AW34+ BB34+BJ34+BF34+BN34+BR34+BV34 -> 6808 | BZ34: =E34+I34+M34+Q34+U34+Y34+AD34+AH34+AL34+AP34+AT34+AX34+ BC34+BK34+BG34+BO34+BS34+BW34 -> 1040
A35: =INDIRECT(ADDRESS(Данные!$A27,4,1,1,"Данные"), 1) -> 45280.417 | B35: =ROUND(INDIRECT(ADDRESS(Данные!$A27,B$1,1,1,"Данные"), 1),2) -> 12176.54 | C35: =ROUND(INDIRECT(ADDRESS(Данные!$A27,C$1,1,1,"Данные"), 1),2) -> 5254.86 | D35: =(B35-B33)*D$10 -> 840 | E35: =(C35-C33)*D$10 -> 200 | F35: =ROUND(INDIRECT(ADDRESS(Данные!$A27,F$1,1,1,"Данные"), 1),2) -> 41021.37 | G35: =ROUND(INDIRECT(ADDRESS(Данные!$A27,G$1,1,1,"Данные"), 1),2) -> 9016.31 | H35: =(F35-F33)*H$10 -> 1560 | I35: =(G35-G33)*H$10 -> 160 | J35: =ROUND(INDIRECT(ADDRESS(Данные!$A27,J$1,1,1,"Данные"), 1),2) -> 16050.16 | K35: =ROUND(INDIRECT(ADDRESS(Данные!$A27,K$1,1,1,"Данные"), 1),2) -> 3848.06 | L35: =(J35-J33)*L$10 -> 1080 | M35: =(K35-K33)*L$10 -> 120 | N35: =ROUND(INDIRECT(ADDRESS(Данные!$A27,N$1,1,1,"Данные"), 1),2) -> 6369.14 | O35: =ROUND(INDIRECT(ADDRESS(Данные!$A27,O$1,1,1,"Данные"), 1),2) -> 1168.21 | P35: =(N35-N33)*P$10 -> 1040 | Q35: =(O35-O33)*P$10 -> 80 | R35: =ROUND(INDIRECT(ADDRESS(Данные!$A27,R$1,1,1,"Данные"), 1),2) -> 6463.8 | S35: =ROUND(INDIRECT(ADDRESS(Данные!$A27,S$1,1,1,"Данные"), 1),2) -> 3042.84 | T35: =(R35-R33)*T$10 -> 1720 | U35: =(S35-S33)*T$10 -> 560 | V35: =ROUND(INDIRECT(ADDRESS(Данные!$A27,V$1,1,1,"Данные"), 1),2) -> 3098.17 | W35: =ROUND(INDIRECT(ADDRESS(Данные!$A27,W$1,1,1,"Данные"), 1),2) -> 1217.44 | X35: =(V35-V33)*X$10 -> 160 | Y35: =(W35-W33)*X$10 -> 40 | Z35: =INDIRECT(ADDRESS(Данные!$A27,4,1,1,"Данные"), 1) -> 45280.417 | AA35: =ROUND(INDIRECT(ADDRESS(Данные!$A27,AA$1,1,1,"Данные"), 1),2) -> 14076.61 | AB35: =ROUND(INDIRECT(ADDRESS(Данные!$A27,AB$1,1,1,"Данные"), 1),2) -> 2864.12 | AC35: =(AA35-AA33)*AC$10 -> 2000 | AD35: =(AB35-AB33)*AC$10 -> 160 | AE35: =ROUND(INDIRECT(ADDRESS(Данные!$A27,AE$1,1,1,"Данные"), 1),2) -> 14163.98 | AF35: =ROUND(INDIRECT(ADDRESS(Данные!$A27,AF$1,1,1,"Данные"), 1),2) -> 4579.83 | AG35: =(AE35-AE33)*AG$10 -> 840 | AH35: =(AF35-AF33)*AG$10 -> 180 | AI35: =ROUND(INDIRECT(ADDRESS(Данные!$A27,AI$1,1,1,"Данные"), 1),2) -> 1359.72 | AJ35: =ROUND(INDIRECT(ADDRESS(Данные!$A27,AJ$1,1,1,"Данные"), 1),2) -> 388.07 | AK35: =(AI35-AI33)*AK$10 -> 1400 | AL35: =(AJ35-AJ33)*AK$10 -> 160 | AM35: =ROUND(INDIRECT(ADDRESS(Данные!$A27,AM$1,1,1,"Данные"), 1),2) -> 19416.48 | AN35: =ROUND(INDIRECT(ADDRESS(Данные!$A27,AN$1,1,1,"Данные"), 1),2) -> 7650.91 | AO35: =(AM35-AM33)*AO$10 -> 1200 | AP35: =(AN35-AN33)*AO$10 -> 160 | AQ35: =ROUND(INDIRECT(ADDRESS(Данные!$A27,AQ$1,1,1,"Данные"), 1),2) -> 15513.45 | AR35: =ROUND(INDIRECT(ADDRESS(Данные!$A27,AR$1,1,1,"Данные"), 1),2) -> 4021.76 | AS35: =(AQ35-AQ33)*AS$10 -> 1380 | AT35: =(AR35-AR33)*AS$10 -> 120 | AU35: =ROUND(INDIRECT(ADDRESS(Данные!$A27,AU$1,1,1,"Данные"), 1),2) -> 2788.85 | AV35: =ROUND(INDIRECT(ADDRESS(Данные!$A27,AV$1,1,1,"Данные"), 1),2) -> 1238.34 | AW35: =(AU35-AU33)*AW$10 -> 72 | AX35: =(AV35-AV33)*AW$10 -> 6 | AY35: =INDIRECT(ADDRESS(Данные!$A27,4,1,1,"Данные"), 1) -> 45280.417 | AZ35: =ROUND(INDIRECT(ADDRESS(Данные!$A27,AZ$1,1,1,"Данные"), 1),2) -> 2532.17 | BA35: =ROUND(INDIRECT(ADDRESS(Данные!$A27,BA$1,1,1,"Данные"), 1),2) -> 0 | BB35: =(AZ35-AZ33)*BB$10 -> 135 | BC35: =(BA35-BA33)*BB$10 -> 0 | BD35: =ROUND(INDIRECT(ADDRESS(Данные!$A27,BD$1,1,1,"Данные"), 1),2) -> 7202.12 | BE35: =ROUND(INDIRECT(ADDRESS(Данные!$A27,BE$1,1,1,"Данные"), 1),2) -> 4698.58 | BF35: =(BD35-BD33)*BF$10 -> 150 | BG35: =(BE35-BE33)*BF$10 -> 132 | BH35: =ROUND(INDIRECT(ADDRESS(Данные!$A27,BH$1,1,1,"Данные"), 1),2) -> 89.23 | BI35: =ROUND(INDIRECT(ADDRESS(Данные!$A27,BI$1,1,1,"Данные"), 1),2) -> 52.02 | BJ35: =(BH35-BH33)*BJ$10 -> 0 | BK35: =(BI35-BI33)*BJ$10 -> 0 | BL35: =ROUND(INDIRECT(ADDRESS(Данные!$A27,BL$1,1,1,"Данные"), 1),2) -> 1238.34 | BM35: =ROUND(INDIRECT(ADDRESS(Данные!$A27,BM$1,1,1,"Данные"), 1),2) -> 1238.34 | BN35: =(BL35-BL33)*BN$10 -> 6 | BO35: =(BM35-BM33)*BN$10 -> 6 | BP35: =ROUND(INDIRECT(ADDRESS(Данные!$A27,BP$1,1,1,"Данные"), 1),2) -> 7616.51 | BQ35: =ROUND(INDIRECT(ADDRESS(Данные!$A27,BQ$1,1,1,"Данные"), 1),2) -> 2342.98 | BR35: =(BP35-BP33)*BR$10 -> 0 | BS35: =(BQ35-BQ33)*BR$10 -> 0 | BT35: =ROUND(INDIRECT(ADDRESS(Данные!$A27,BT$1,1,1,"Данные"), 1),2) -> 107.63 | BU35: =ROUND(INDIRECT(ADDRESS(Данные!$A27,BU$1,1,1,"Данные"), 1),2) -> 6.96 | BV35: =(BT35-BT33)*BV$10 -> 0 | BW35: =(BU35-BU33)*BV$10 -> 0 | BX35: =$A35 -> 45280.417 | BY35: =D35+H35+L35+P35+T35+X35+AC35+AG35+AK35+AO35+AS35+AW35+ BB35+BJ35+BF35+BN35+BR35+BV35 -> 13583 | BZ35: =E35+I35+M35+Q35+U35+Y35+AD35+AH35+AL35+AP35+AT35+AX35+ BC35+BK35+BG35+BO35+BS35+BW35 -> 2084
A36: =INDIRECT(ADDRESS(Данные!$A28,4,1,1,"Данные"), 1) -> 45280.438 | B36: =ROUND(INDIRECT(ADDRESS(Данные!$A28,B$1,1,1,"Данные"), 1),2) -> 12176.65 | C36: =ROUND(INDIRECT(ADDRESS(Данные!$A28,C$1,1,1,"Данные"), 1),2) -> 5254.88 | D36: =(B36-B35)*D$10 -> 440 | E36: =(C36-C35)*D$10 -> 80 | F36: =ROUND(INDIRECT(ADDRESS(Данные!$A28,F$1,1,1,"Данные"), 1),2) -> 41021.57 | G36: =ROUND(INDIRECT(ADDRESS(Данные!$A28,G$1,1,1,"Данные"), 1),2) -> 9016.33 | H36: =(F36-F35)*H$10 -> 800 | I36: =(G36-G35)*H$10 -> 80 | J36: =ROUND(INDIRECT(ADDRESS(Данные!$A28,J$1,1,1,"Данные"), 1),2) -> 16050.3 | K36: =ROUND(INDIRECT(ADDRESS(Данные!$A28,K$1,1,1,"Данные"), 1),2) -> 3848.07 | L36: =(J36-J35)*L$10 -> 560 | M36: =(K36-K35)*L$10 -> 40 | N36: =ROUND(INDIRECT(ADDRESS(Данные!$A28,N$1,1,1,"Данные"), 1),2) -> 6369.27 | O36: =ROUND(INDIRECT(ADDRESS(Данные!$A28,O$1,1,1,"Данные"), 1),2) -> 1168.21 | P36: =(N36-N35)*P$10 -> 520 | Q36: =(O36-O35)*P$10 -> 0 | R36: =ROUND(INDIRECT(ADDRESS(Данные!$A28,R$1,1,1,"Данные"), 1),2) -> 6464.01 | S36: =ROUND(INDIRECT(ADDRESS(Данные!$A28,S$1,1,1,"Данные"), 1),2) -> 3042.92 | T36: =(R36-R35)*T$10 -> 840 | U36: =(S36-S35)*T$10 -> 320 | V36: =ROUND(INDIRECT(ADDRESS(Данные!$A28,V$1,1,1,"Данные"), 1),2) -> 3098.19 | W36: =ROUND(INDIRECT(ADDRESS(Данные!$A28,W$1,1,1,"Данные"), 1),2) -> 1217.44 | X36: =(V36-V35)*X$10 -> 80 | Y36: =(W36-W35)*X$10 -> 0 | Z36: =INDIRECT(ADDRESS(Данные!$A28,4,1,1,"Данные"), 1) -> 45280.438 | AA36: =ROUND(INDIRECT(ADDRESS(Данные!$A28,AA$1,1,1,"Данные"), 1),2) -> 14076.85 | AB36: =ROUND(INDIRECT(ADDRESS(Данные!$A28,AB$1,1,1,"Данные"), 1),2) -> 2864.14 | AC36: =(AA36-AA35)*AC$10 -> 960 | AD36: =(AB36-AB35)*AC$10 -> 80 | AE36: =ROUND(INDIRECT(ADDRESS(Данные!$A28,AE$1,1,1,"Данные"), 1),2) -> 14164.05 | AF36: =ROUND(INDIRECT(ADDRESS(Данные!$A28,AF$1,1,1,"Данные"), 1),2) -> 4579.84 | AG36: =(AE36-AE35)*AG$10 -> 420 | AH36: =(AF36-AF35)*AG$10 -> 60 | AI36: =ROUND(INDIRECT(ADDRESS(Данные!$A28,AI$1,1,1,"Данные"), 1),2) -> 1359.89 | AJ36: =ROUND(INDIRECT(ADDRESS(Данные!$A28,AJ$1,1,1,"Данные"), 1),2) -> 388.09 | AK36: =(AI36-AI35)*AK$10 -> 680 | AL36: =(AJ36-AJ35)*AK$10 -> 80 | AM36: =ROUND(INDIRECT(ADDRESS(Данные!$A28,AM$1,1,1,"Данные"), 1),2) -> 19416.62 | AN36: =ROUND(INDIRECT(ADDRESS(Данные!$A28,AN$1,1,1,"Данные"), 1),2) -> 7650.94 | AO36: =(AM36-AM35)*AO$10 -> 560 | AP36: =(AN36-AN35)*AO$10 -> 120 | AQ36: =ROUND(INDIRECT(ADDRESS(Данные!$A28,AQ$1,1,1,"Данные"), 1),2) -> 15513.57 | AR36: =ROUND(INDIRECT(ADDRESS(Данные!$A28,AR$1,1,1,"Данные"), 1),2) -> 4021.77 | AS36: =(AQ36-AQ35)*AS$10 -> 720 | AT36: =(AR36-AR35)*AS$10 -> 60 | AU36: =ROUND(INDIRECT(ADDRESS(Данные!$A28,AU$1,1,1,"Данные"), 1),2) -> 2788.91 | AV36: =ROUND(INDIRECT(ADDRESS(Данные!$A28,AV$1,1,1,"Данные"), 1),2) -> 1238.35 | AW36: =(AU36-AU35)*AW$10 -> 36 | AX36: =(AV36-AV35)*AW$10 -> 6 | AY36: =INDIRECT(ADDRESS(Данные!$A28,4,1,1,"Данные"), 1) -> 45280.438 | AZ36: =ROUND(INDIRECT(ADDRESS(Данные!$A28,AZ$1,1,1,"Данные"), 1),2) -> 2532.41 | BA36: =ROUND(INDIRECT(ADDRESS(Данные!$A28,BA$1,1,1,"Данные"), 1),2) -> 0 | BB36: =(AZ36-AZ35)*BB$10 -> 72 | BC36: =(BA36-BA35)*BB$10 -> 0 | BD36: =ROUND(INDIRECT(ADDRESS(Данные!$A28,BD$1,1,1,"Данные"), 1),2) -> 7202.19 | BE36: =ROUND(INDIRECT(ADDRESS(Данные!$A28,BE$1,1,1,"Данные"), 1),2) -> 4698.64 | BF36: =(BD36-BD35)*BF$10 -> 42 | BG36: =(BE36-BE35)*BF$10 -> 36 | BH36: =ROUND(INDIRECT(ADDRESS(Данные!$A28,BH$1,1,1,"Данные"), 1),2) -> 89.23 | BI36: =ROUND(INDIRECT(ADDRESS(Данные!$A28,BI$1,1,1,"Данные"), 1),2) -> 52.02 | BJ36: =(BH36-BH35)*BJ$10 -> 0 | BK36: =(BI36-BI35)*BJ$10 -> 0 | BL36: =ROUND(INDIRECT(ADDRESS(Данные!$A28,BL$1,1,1,"Данные"), 1),2) -> 1238.35 | BM36: =ROUND(INDIRECT(ADDRESS(Данные!$A28,BM$1,1,1,"Данные"), 1),2) -> 1238.35 | BN36: =(BL36-BL35)*BN$10 -> 6 | BO36: =(BM36-BM35)*BN$10 -> 6 | BP36: =ROUND(INDIRECT(ADDRESS(Данные!$A28,BP$1,1,1,"Данные"), 1),2) -> 7616.51 | BQ36: =ROUND(INDIRECT(ADDRESS(Данные!$A28,BQ$1,1,1,"Данные"), 1),2) -> 2342.98 | BR36: =(BP36-BP35)*BR$10 -> 0 | BS36: =(BQ36-BQ35)*BR$10 -> 0 | BT36: =ROUND(INDIRECT(ADDRESS(Данные!$A28,BT$1,1,1,"Данные"), 1),2) -> 107.63 | BU36: =ROUND(INDIRECT(ADDRESS(Данные!$A28,BU$1,1,1,"Данные"), 1),2) -> 6.96 | BV36: =(BT36-BT35)*BV$10 -> 0 | BW36: =(BU36-BU35)*BV$10 -> 0 | BX36: =$A36 -> 45280.438 | BY36: =D36+H36+L36+P36+T36+X36+AC36+AG36+AK36+AO36+AS36+AW36+ BB36+BJ36+BF36+BN36+BR36+BV36 -> 6736 | BZ36: =E36+I36+M36+Q36+U36+Y36+AD36+AH36+AL36+AP36+AT36+AX36+ BC36+BK36+BG36+BO36+BS36+BW36 -> 968
A37: =INDIRECT(ADDRESS(Данные!$A29,4,1,1,"Данные"), 1) -> 45280.458 | B37: =ROUND(INDIRECT(ADDRESS(Данные!$A29,B$1,1,1,"Данные"), 1),2) -> 12176.75 | C37: =ROUND(INDIRECT(ADDRESS(Данные!$A29,C$1,1,1,"Данные"), 1),2) -> 5254.9 | D37: =(B37-B35)*D$10 -> 840 | E37: =(C37-C35)*D$10 -> 160 | F37: =ROUND(INDIRECT(ADDRESS(Данные!$A29,F$1,1,1,"Данные"), 1),2) -> 41021.77 | G37: =ROUND(INDIRECT(ADDRESS(Данные!$A29,G$1,1,1,"Данные"), 1),2) -> 9016.35 | H37: =(F37-F35)*H$10 -> 1600 | I37: =(G37-G35)*H$10 -> 160 | J37: =ROUND(INDIRECT(ADDRESS(Данные!$A29,J$1,1,1,"Данные"), 1),2) -> 16050.43 | K37: =ROUND(INDIRECT(ADDRESS(Данные!$A29,K$1,1,1,"Данные"), 1),2) -> 3848.08 | L37: =(J37-J35)*L$10 -> 1080 | M37: =(K37-K35)*L$10 -> 80 | N37: =ROUND(INDIRECT(ADDRESS(Данные!$A29,N$1,1,1,"Данные"), 1),2) -> 6369.39 | O37: =ROUND(INDIRECT(ADDRESS(Данные!$A29,O$1,1,1,"Данные"), 1),2) -> 1168.22 | P37: =(N37-N35)*P$10 -> 1000 | Q37: =(O37-O35)*P$10 -> 40 | R37: =ROUND(INDIRECT(ADDRESS(Данные!$A29,R$1,1,1,"Данные"), 1),2) -> 6464.23 | S37: =ROUND(INDIRECT(ADDRESS(Данные!$A29,S$1,1,1,"Данные"), 1),2) -> 3042.99 | T37: =(R37-R35)*T$10 -> 1720 | U37: =(S37-S35)*T$10 -> 600 | V37: =ROUND(INDIRECT(ADDRESS(Данные!$A29,V$1,1,1,"Данные"), 1),2) -> 3098.21 | W37: =ROUND(INDIRECT(ADDRESS(Данные!$A29,W$1,1,1,"Данные"), 1),2) -> 1217.45 | X37: =(V37-V35)*X$10 -> 160 | Y37: =(W37-W35)*X$10 -> 40 | Z37: =INDIRECT(ADDRESS(Данные!$A29,4,1,1,"Данные"), 1) -> 45280.458 | AA37: =ROUND(INDIRECT(ADDRESS(Данные!$A29,AA$1,1,1,"Данные"), 1),2) -> 14077.08 | AB37: =ROUND(INDIRECT(ADDRESS(Данные!$A29,AB$1,1,1,"Данные"), 1),2) -> 2864.16 | AC37: =(AA37-AA35)*AC$10 -> 1880 | AD37: =(AB37-AB35)*AC$10 -> 160 | AE37: =ROUND(INDIRECT(ADDRESS(Данные!$A29,AE$1,1,1,"Данные"), 1),2) -> 14164.12 | AF37: =ROUND(INDIRECT(ADDRESS(Данные!$A29,AF$1,1,1,"Данные"), 1),2) -> 4579.85 | AG37: =(AE37-AE35)*AG$10 -> 840 | AH37: =(AF37-AF35)*AG$10 -> 120 | AI37: =ROUND(INDIRECT(ADDRESS(Данные!$A29,AI$1,1,1,"Данные"), 1),2) -> 1360.07 | AJ37: =ROUND(INDIRECT(ADDRESS(Данные!$A29,AJ$1,1,1,"Данные"), 1),2) -> 388.11 | AK37: =(AI37-AI35)*AK$10 -> 1400 | AL37: =(AJ37-AJ35)*AK$10 -> 160 | AM37: =ROUND(INDIRECT(ADDRESS(Данные!$A29,AM$1,1,1,"Данные"), 1),2) -> 19416.76 | AN37: =ROUND(INDIRECT(ADDRESS(Данные!$A29,AN$1,1,1,"Данные"), 1),2) -> 7650.96 | AO37: =(AM37-AM35)*AO$10 -> 1120 | AP37: =(AN37-AN35)*AO$10 -> 200 | AQ37: =ROUND(INDIRECT(ADDRESS(Данные!$A29,AQ$1,1,1,"Данные"), 1),2) -> 15513.68 | AR37: =ROUND(INDIRECT(ADDRESS(Данные!$A29,AR$1,1,1,"Данные"), 1),2) -> 4021.79 | AS37: =(AQ37-AQ35)*AS$10 -> 1380 | AT37: =(AR37-AR35)*AS$10 -> 180 | AU37: =ROUND(INDIRECT(ADDRESS(Данные!$A29,AU$1,1,1,"Данные"), 1),2) -> 2788.96 | AV37: =ROUND(INDIRECT(ADDRESS(Данные!$A29,AV$1,1,1,"Данные"), 1),2) -> 1238.35 | AW37: =(AU37-AU35)*AW$10 -> 66 | AX37: =(AV37-AV35)*AW$10 -> 6 | AY37: =INDIRECT(ADDRESS(Данные!$A29,4,1,1,"Данные"), 1) -> 45280.458 | AZ37: =ROUND(INDIRECT(ADDRESS(Данные!$A29,AZ$1,1,1,"Данные"), 1),2) -> 2532.63 | BA37: =ROUND(INDIRECT(ADDRESS(Данные!$A29,BA$1,1,1,"Данные"), 1),2) -> 0 | BB37: =(AZ37-AZ35)*BB$10 -> 138 | BC37: =(BA37-BA35)*BB$10 -> 0 | BD37: =ROUND(INDIRECT(ADDRESS(Данные!$A29,BD$1,1,1,"Данные"), 1),2) -> 7202.25 | BE37: =ROUND(INDIRECT(ADDRESS(Данные!$A29,BE$1,1,1,"Данные"), 1),2) -> 4698.68 | BF37: =(BD37-BD35)*BF$10 -> 78 | BG37: =(BE37-BE35)*BF$10 -> 60 | BH37: =ROUND(INDIRECT(ADDRESS(Данные!$A29,BH$1,1,1,"Данные"), 1),2) -> 89.23 | BI37: =ROUND(INDIRECT(ADDRESS(Данные!$A29,BI$1,1,1,"Данные"), 1),2) -> 52.02 | BJ37: =(BH37-BH35)*BJ$10 -> 0 | BK37: =(BI37-BI35)*BJ$10 -> 0 | BL37: =ROUND(INDIRECT(ADDRESS(Данные!$A29,BL$1,1,1,"Данные"), 1),2) -> 1238.35 | BM37: =ROUND(INDIRECT(ADDRESS(Данные!$A29,BM$1,1,1,"Данные"), 1),2) -> 1238.35 | BN37: =(BL37-BL35)*BN$10 -> 6 | BO37: =(BM37-BM35)*BN$10 -> 6 | BP37: =ROUND(INDIRECT(ADDRESS(Данные!$A29,BP$1,1,1,"Данные"), 1),2) -> 7616.51 | BQ37: =ROUND(INDIRECT(ADDRESS(Данные!$A29,BQ$1,1,1,"Данные"), 1),2) -> 2342.98 | BR37: =(BP37-BP35)*BR$10 -> 0 | BS37: =(BQ37-BQ35)*BR$10 -> 0 | BT37: =ROUND(INDIRECT(ADDRESS(Данные!$A29,BT$1,1,1,"Данные"), 1),2) -> 107.63 | BU37: =ROUND(INDIRECT(ADDRESS(Данные!$A29,BU$1,1,1,"Данные"), 1),2) -> 6.96 | BV37: =(BT37-BT35)*BV$10 -> 0 | BW37: =(BU37-BU35)*BV$10 -> 0 | BX37: =$A37 -> 45280.458 | BY37: =D37+H37+L37+P37+T37+X37+AC37+AG37+AK37+AO37+AS37+AW37+ BB37+BJ37+BF37+BN37+BR37+BV37 -> 13308 | BZ37: =E37+I37+M37+Q37+U37+Y37+AD37+AH37+AL37+AP37+AT37+AX37+ BC37+BK37+BG37+BO37+BS37+BW37 -> 1972
A38: =INDIRECT(ADDRESS(Данные!$A30,4,1,1,"Данные"), 1) -> 45280.479 | B38: =ROUND(INDIRECT(ADDRESS(Данные!$A30,B$1,1,1,"Данные"), 1),2) -> 12176.85 | C38: =ROUND(INDIRECT(ADDRESS(Данные!$A30,C$1,1,1,"Данные"), 1),2) -> 5254.93 | D38: =(B38-B37)*D$10 -> 400 | E38: =(C38-C37)*D$10 -> 120 | F38: =ROUND(INDIRECT(ADDRESS(Данные!$A30,F$1,1,1,"Данные"), 1),2) -> 41021.96 | G38: =ROUND(INDIRECT(ADDRESS(Данные!$A30,G$1,1,1,"Данные"), 1),2) -> 9016.37 | H38: =(F38-F37)*H$10 -> 760 | I38: =(G38-G37)*H$10 -> 80 | J38: =ROUND(INDIRECT(ADDRESS(Данные!$A30,J$1,1,1,"Данные"), 1),2) -> 16050.56 | K38: =ROUND(INDIRECT(ADDRESS(Данные!$A30,K$1,1,1,"Данные"), 1),2) -> 3848.09 | L38: =(J38-J37)*L$10 -> 520 | M38: =(K38-K37)*L$10 -> 40 | N38: =ROUND(INDIRECT(ADDRESS(Данные!$A30,N$1,1,1,"Данные"), 1),2) -> 6369.52 | O38: =ROUND(INDIRECT(ADDRESS(Данные!$A30,O$1,1,1,"Данные"), 1),2) -> 1168.23 | P38: =(N38-N37)*P$10 -> 520 | Q38: =(O38-O37)*P$10 -> 40 | R38: =ROUND(INDIRECT(ADDRESS(Данные!$A30,R$1,1,1,"Данные"), 1),2) -> 6464.45 | S38: =ROUND(INDIRECT(ADDRESS(Данные!$A30,S$1,1,1,"Данные"), 1),2) -> 3043.07 | T38: =(R38-R37)*T$10 -> 880 | U38: =(S38-S37)*T$10 -> 320 | V38: =ROUND(INDIRECT(ADDRESS(Данные!$A30,V$1,1,1,"Данные"), 1),2) -> 3098.23 | W38: =ROUND(INDIRECT(ADDRESS(Данные!$A30,W$1,1,1,"Данные"), 1),2) -> 1217.45 | X38: =(V38-V37)*X$10 -> 80 | Y38: =(W38-W37)*X$10 -> 0 | Z38: =INDIRECT(ADDRESS(Данные!$A30,4,1,1,"Данные"), 1) -> 45280.479 | AA38: =ROUND(INDIRECT(ADDRESS(Данные!$A30,AA$1,1,1,"Данные"), 1),2) -> 14077.31 | AB38: =ROUND(INDIRECT(ADDRESS(Данные!$A30,AB$1,1,1,"Данные"), 1),2) -> 2864.18 | AC38: =(AA38-AA37)*AC$10 -> 920 | AD38: =(AB38-AB37)*AC$10 -> 80 | AE38: =ROUND(INDIRECT(ADDRESS(Данные!$A30,AE$1,1,1,"Данные"), 1),2) -> 14164.19 | AF38: =ROUND(INDIRECT(ADDRESS(Данные!$A30,AF$1,1,1,"Данные"), 1),2) -> 4579.87 | AG38: =(AE38-AE37)*AG$10 -> 420 | AH38: =(AF38-AF37)*AG$10 -> 120 | AI38: =ROUND(INDIRECT(ADDRESS(Данные!$A30,AI$1,1,1,"Данные"), 1),2) -> 1360.24 | AJ38: =ROUND(INDIRECT(ADDRESS(Данные!$A30,AJ$1,1,1,"Данные"), 1),2) -> 388.13 | AK38: =(AI38-AI37)*AK$10 -> 680 | AL38: =(AJ38-AJ37)*AK$10 -> 80 | AM38: =ROUND(INDIRECT(ADDRESS(Данные!$A30,AM$1,1,1,"Данные"), 1),2) -> 19416.9 | AN38: =ROUND(INDIRECT(ADDRESS(Данные!$A30,AN$1,1,1,"Данные"), 1),2) -> 7650.98 | AO38: =(AM38-AM37)*AO$10 -> 560 | AP38: =(AN38-AN37)*AO$10 -> 80 | AQ38: =ROUND(INDIRECT(ADDRESS(Данные!$A30,AQ$1,1,1,"Данные"), 1),2) -> 15513.79 | AR38: =ROUND(INDIRECT(ADDRESS(Данные!$A30,AR$1,1,1,"Данные"), 1),2) -> 4021.8 | AS38: =(AQ38-AQ37)*AS$10 -> 660 | AT38: =(AR38-AR37)*AS$10 -> 60 | AU38: =ROUND(INDIRECT(ADDRESS(Данные!$A30,AU$1,1,1,"Данные"), 1),2) -> 2789.02 | AV38: =ROUND(INDIRECT(ADDRESS(Данные!$A30,AV$1,1,1,"Данные"), 1),2) -> 1238.36 | AW38: =(AU38-AU37)*AW$10 -> 36 | AX38: =(AV38-AV37)*AW$10 -> 6 | AY38: =INDIRECT(ADDRESS(Данные!$A30,4,1,1,"Данные"), 1) -> 45280.479 | AZ38: =ROUND(INDIRECT(ADDRESS(Данные!$A30,AZ$1,1,1,"Данные"), 1),2) -> 2532.87 | BA38: =ROUND(INDIRECT(ADDRESS(Данные!$A30,BA$1,1,1,"Данные"), 1),2) -> 0 | BB38: =(AZ38-AZ37)*BB$10 -> 72 | BC38: =(BA38-BA37)*BB$10 -> 0 | BD38: =ROUND(INDIRECT(ADDRESS(Данные!$A30,BD$1,1,1,"Данные"), 1),2) -> 7202.32 | BE38: =ROUND(INDIRECT(ADDRESS(Данные!$A30,BE$1,1,1,"Данные"), 1),2) -> 4698.71 | BF38: =(BD38-BD37)*BF$10 -> 42 | BG38: =(BE38-BE37)*BF$10 -> 18 | BH38: =ROUND(INDIRECT(ADDRESS(Данные!$A30,BH$1,1,1,"Данные"), 1),2) -> 89.23 | BI38: =ROUND(INDIRECT(ADDRESS(Данные!$A30,BI$1,1,1,"Данные"), 1),2) -> 52.02 | BJ38: =(BH38-BH37)*BJ$10 -> 0 | BK38: =(BI38-BI37)*BJ$10 -> 0 | BL38: =ROUND(INDIRECT(ADDRESS(Данные!$A30,BL$1,1,1,"Данные"), 1),2) -> 1238.36 | BM38: =ROUND(INDIRECT(ADDRESS(Данные!$A30,BM$1,1,1,"Данные"), 1),2) -> 1238.36 | BN38: =(BL38-BL37)*BN$10 -> 6 | BO38: =(BM38-BM37)*BN$10 -> 6 | BP38: =ROUND(INDIRECT(ADDRESS(Данные!$A30,BP$1,1,1,"Данные"), 1),2) -> 7616.51 | BQ38: =ROUND(INDIRECT(ADDRESS(Данные!$A30,BQ$1,1,1,"Данные"), 1),2) -> 2342.98 | BR38: =(BP38-BP37)*BR$10 -> 0 | BS38: =(BQ38-BQ37)*BR$10 -> 0 | BT38: =ROUND(INDIRECT(ADDRESS(Данные!$A30,BT$1,1,1,"Данные"), 1),2) -> 107.63 | BU38: =ROUND(INDIRECT(ADDRESS(Данные!$A30,BU$1,1,1,"Данные"), 1),2) -> 6.96 | BV38: =(BT38-BT37)*BV$10 -> 0 | BW38: =(BU38-BU37)*BV$10 -> 0 | BX38: =$A38 -> 45280.479 | BY38: =D38+H38+L38+P38+T38+X38+AC38+AG38+AK38+AO38+AS38+AW38+ BB38+BJ38+BF38+BN38+BR38+BV38 -> 6556 | BZ38: =E38+I38+M38+Q38+U38+Y38+AD38+AH38+AL38+AP38+AT38+AX38+ BC38+BK38+BG38+BO38+BS38+BW38 -> 1050
A39: =INDIRECT(ADDRESS(Данные!$A31,4,1,1,"Данные"), 1) -> 45280.5 | B39: =ROUND(INDIRECT(ADDRESS(Данные!$A31,B$1,1,1,"Данные"), 1),2) -> 12176.95 | C39: =ROUND(INDIRECT(ADDRESS(Данные!$A31,C$1,1,1,"Данные"), 1),2) -> 5254.95 | D39: =(B39-B37)*D$10 -> 800 | E39: =(C39-C37)*D$10 -> 200 | F39: =ROUND(INDIRECT(ADDRESS(Данные!$A31,F$1,1,1,"Данные"), 1),2) -> 41022.16 | G39: =ROUND(INDIRECT(ADDRESS(Данные!$A31,G$1,1,1,"Данные"), 1),2) -> 9016.39 | H39: =(F39-F37)*H$10 -> 1560 | I39: =(G39-G37)*H$10 -> 160 | J39: =ROUND(INDIRECT(ADDRESS(Данные!$A31,J$1,1,1,"Данные"), 1),2) -> 16050.69 | K39: =ROUND(INDIRECT(ADDRESS(Данные!$A31,K$1,1,1,"Данные"), 1),2) -> 3848.1 | L39: =(J39-J37)*L$10 -> 1040 | M39: =(K39-K37)*L$10 -> 80 | N39: =ROUND(INDIRECT(ADDRESS(Данные!$A31,N$1,1,1,"Данные"), 1),2) -> 6369.64 | O39: =ROUND(INDIRECT(ADDRESS(Данные!$A31,O$1,1,1,"Данные"), 1),2) -> 1168.24 | P39: =(N39-N37)*P$10 -> 1000 | Q39: =(O39-O37)*P$10 -> 80 | R39: =ROUND(INDIRECT(ADDRESS(Данные!$A31,R$1,1,1,"Данные"), 1),2) -> 6464.68 | S39: =ROUND(INDIRECT(ADDRESS(Данные!$A31,S$1,1,1,"Данные"), 1),2) -> 3043.14 | T39: =(R39-R37)*T$10 -> 1800 | U39: =(S39-S37)*T$10 -> 600 | V39: =ROUND(INDIRECT(ADDRESS(Данные!$A31,V$1,1,1,"Данные"), 1),2) -> 3098.24 | W39: =ROUND(INDIRECT(ADDRESS(Данные!$A31,W$1,1,1,"Данные"), 1),2) -> 1217.46 | X39: =(V39-V37)*X$10 -> 120 | Y39: =(W39-W37)*X$10 -> 40 | Z39: =INDIRECT(ADDRESS(Данные!$A31,4,1,1,"Данные"), 1) -> 45280.5 | AA39: =ROUND(INDIRECT(ADDRESS(Данные!$A31,AA$1,1,1,"Данные"), 1),2) -> 14077.53 | AB39: =ROUND(INDIRECT(ADDRESS(Данные!$A31,AB$1,1,1,"Данные"), 1),2) -> 2864.21 | AC39: =(AA39-AA37)*AC$10 -> 1800 | AD39: =(AB39-AB37)*AC$10 -> 200 | AE39: =ROUND(INDIRECT(ADDRESS(Данные!$A31,AE$1,1,1,"Данные"), 1),2) -> 14164.25 | AF39: =ROUND(INDIRECT(ADDRESS(Данные!$A31,AF$1,1,1,"Данные"), 1),2) -> 4579.88 | AG39: =(AE39-AE37)*AG$10 -> 780 | AH39: =(AF39-AF37)*AG$10 -> 180 | AI39: =ROUND(INDIRECT(ADDRESS(Данные!$A31,AI$1,1,1,"Данные"), 1),2) -> 1360.41 | AJ39: =ROUND(INDIRECT(ADDRESS(Данные!$A31,AJ$1,1,1,"Данные"), 1),2) -> 388.15 | AK39: =(AI39-AI37)*AK$10 -> 1360 | AL39: =(AJ39-AJ37)*AK$10 -> 160 | AM39: =ROUND(INDIRECT(ADDRESS(Данные!$A31,AM$1,1,1,"Данные"), 1),2) -> 19417.03 | AN39: =ROUND(INDIRECT(ADDRESS(Данные!$A31,AN$1,1,1,"Данные"), 1),2) -> 7651 | AO39: =(AM39-AM37)*AO$10 -> 1080 | AP39: =(AN39-AN37)*AO$10 -> 160 | AQ39: =ROUND(INDIRECT(ADDRESS(Данные!$A31,AQ$1,1,1,"Данные"), 1),2) -> 15513.91 | AR39: =ROUND(INDIRECT(ADDRESS(Данные!$A31,AR$1,1,1,"Данные"), 1),2) -> 4021.82 | AS39: =(AQ39-AQ37)*AS$10 -> 1380 | AT39: =(AR39-AR37)*AS$10 -> 180 | AU39: =ROUND(INDIRECT(ADDRESS(Данные!$A31,AU$1,1,1,"Данные"), 1),2) -> 2789.07 | AV39: =ROUND(INDIRECT(ADDRESS(Данные!$A31,AV$1,1,1,"Данные"), 1),2) -> 1238.37 | AW39: =(AU39-AU37)*AW$10 -> 66 | AX39: =(AV39-AV37)*AW$10 -> 12 | AY39: =INDIRECT(ADDRESS(Данные!$A31,4,1,1,"Данные"), 1) -> 45280.5 | AZ39: =ROUND(INDIRECT(ADDRESS(Данные!$A31,AZ$1,1,1,"Данные"), 1),2) -> 2533.09 | BA39: =ROUND(INDIRECT(ADDRESS(Данные!$A31,BA$1,1,1,"Данные"), 1),2) -> 0 | BB39: =(AZ39-AZ37)*BB$10 -> 138 | BC39: =(BA39-BA37)*BB$10 -> 0 | BD39: =ROUND(INDIRECT(ADDRESS(Данные!$A31,BD$1,1,1,"Данные"), 1),2) -> 7202.4 | BE39: =ROUND(INDIRECT(ADDRESS(Данные!$A31,BE$1,1,1,"Данные"), 1),2) -> 4698.79 | BF39: =(BD39-BD37)*BF$10 -> 90 | BG39: =(BE39-BE37)*BF$10 -> 66 | BH39: =ROUND(INDIRECT(ADDRESS(Данные!$A31,BH$1,1,1,"Данные"), 1),2) -> 89.23 | BI39: =ROUND(INDIRECT(ADDRESS(Данные!$A31,BI$1,1,1,"Данные"), 1),2) -> 52.02 | BJ39: =(BH39-BH37)*BJ$10 -> 0 | BK39: =(BI39-BI37)*BJ$10 -> 0 | BL39: =ROUND(INDIRECT(ADDRESS(Данные!$A31,BL$1,1,1,"Данные"), 1),2) -> 1238.37 | BM39: =ROUND(INDIRECT(ADDRESS(Данные!$A31,BM$1,1,1,"Данные"), 1),2) -> 1238.37 | BN39: =(BL39-BL37)*BN$10 -> 12 | BO39: =(BM39-BM37)*BN$10 -> 12 | BP39: =ROUND(INDIRECT(ADDRESS(Данные!$A31,BP$1,1,1,"Данные"), 1),2) -> 7616.51 | BQ39: =ROUND(INDIRECT(ADDRESS(Данные!$A31,BQ$1,1,1,"Данные"), 1),2) -> 2342.98 | BR39: =(BP39-BP37)*BR$10 -> 0 | BS39: =(BQ39-BQ37)*BR$10 -> 0 | BT39: =ROUND(INDIRECT(ADDRESS(Данные!$A31,BT$1,1,1,"Данные"), 1),2) -> 107.63 | BU39: =ROUND(INDIRECT(ADDRESS(Данные!$A31,BU$1,1,1,"Данные"), 1),2) -> 6.96 | BV39: =(BT39-BT37)*BV$10 -> 0 | BW39: =(BU39-BU37)*BV$10 -> 0 | BX39: =$A39 -> 45280.5 | BY39: =D39+H39+L39+P39+T39+X39+AC39+AG39+AK39+AO39+AS39+AW39+ BB39+BJ39+BF39+BN39+BR39+BV39 -> 13026 | BZ39: =E39+I39+M39+Q39+U39+Y39+AD39+AH39+AL39+AP39+AT39+AX39+ BC39+BK39+BG39+BO39+BS39+BW39 -> 2130
A40: =INDIRECT(ADDRESS(Данные!$A32,4,1,1,"Данные"), 1) -> 45280.521 | B40: =ROUND(INDIRECT(ADDRESS(Данные!$A32,B$1,1,1,"Данные"), 1),2) -> 12177.05 | C40: =ROUND(INDIRECT(ADDRESS(Данные!$A32,C$1,1,1,"Данные"), 1),2) -> 5254.97 | D40: =(B40-B39)*D$10 -> 400 | E40: =(C40-C39)*D$10 -> 80 | F40: =ROUND(INDIRECT(ADDRESS(Данные!$A32,F$1,1,1,"Данные"), 1),2) -> 41022.35 | G40: =ROUND(INDIRECT(ADDRESS(Данные!$A32,G$1,1,1,"Данные"), 1),2) -> 9016.42 | H40: =(F40-F39)*H$10 -> 760 | I40: =(G40-G39)*H$10 -> 120 | J40: =ROUND(INDIRECT(ADDRESS(Данные!$A32,J$1,1,1,"Данные"), 1),2) -> 16050.82 | K40: =ROUND(INDIRECT(ADDRESS(Данные!$A32,K$1,1,1,"Данные"), 1),2) -> 3848.12 | L40: =(J40-J39)*L$10 -> 520 | M40: =(K40-K39)*L$10 -> 80 | N40: =ROUND(INDIRECT(ADDRESS(Данные!$A32,N$1,1,1,"Данные"), 1),2) -> 6369.76 | O40: =ROUND(INDIRECT(ADDRESS(Данные!$A32,O$1,1,1,"Данные"), 1),2) -> 1168.24 | P40: =(N40-N39)*P$10 -> 480 | Q40: =(O40-O39)*P$10 -> 0 | R40: =ROUND(INDIRECT(ADDRESS(Данные!$A32,R$1,1,1,"Данные"), 1),2) -> 6464.9 | S40: =ROUND(INDIRECT(ADDRESS(Данные!$A32,S$1,1,1,"Данные"), 1),2) -> 3043.22 | T40: =(R40-R39)*T$10 -> 880 | U40: =(S40-S39)*T$10 -> 320 | V40: =ROUND(INDIRECT(ADDRESS(Данные!$A32,V$1,1,1,"Данные"), 1),2) -> 3098.26 | W40: =ROUND(INDIRECT(ADDRESS(Данные!$A32,W$1,1,1,"Данные"), 1),2) -> 1217.46 | X40: =(V40-V39)*X$10 -> 80 | Y40: =(W40-W39)*X$10 -> 0 | Z40: =INDIRECT(ADDRESS(Данные!$A32,4,1,1,"Данные"), 1) -> 45280.521 | AA40: =ROUND(INDIRECT(ADDRESS(Данные!$A32,AA$1,1,1,"Данные"), 1),2) -> 14077.76 | AB40: =ROUND(INDIRECT(ADDRESS(Данные!$A32,AB$1,1,1,"Данные"), 1),2) -> 2864.23 | AC40: =(AA40-AA39)*AC$10 -> 920 | AD40: =(AB40-AB39)*AC$10 -> 80 | AE40: =ROUND(INDIRECT(ADDRESS(Данные!$A32,AE$1,1,1,"Данные"), 1),2) -> 14164.32 | AF40: =ROUND(INDIRECT(ADDRESS(Данные!$A32,AF$1,1,1,"Данные"), 1),2) -> 4579.9 | AG40: =(AE40-AE39)*AG$10 -> 420 | AH40: =(AF40-AF39)*AG$10 -> 120 | AI40: =ROUND(INDIRECT(ADDRESS(Данные!$A32,AI$1,1,1,"Данные"), 1),2) -> 1360.59 | AJ40: =ROUND(INDIRECT(ADDRESS(Данные!$A32,AJ$1,1,1,"Данные"), 1),2) -> 388.17 | AK40: =(AI40-AI39)*AK$10 -> 720 | AL40: =(AJ40-AJ39)*AK$10 -> 80 | AM40: =ROUND(INDIRECT(ADDRESS(Данные!$A32,AM$1,1,1,"Данные"), 1),2) -> 19417.16 | AN40: =ROUND(INDIRECT(ADDRESS(Данные!$A32,AN$1,1,1,"Данные"), 1),2) -> 7651.02 | AO40: =(AM40-AM39)*AO$10 -> 520 | AP40: =(AN40-AN39)*AO$10 -> 80 | AQ40: =ROUND(INDIRECT(ADDRESS(Данные!$A32,AQ$1,1,1,"Данные"), 1),2) -> 15514.02 | AR40: =ROUND(INDIRECT(ADDRESS(Данные!$A32,AR$1,1,1,"Данные"), 1),2) -> 4021.83 | AS40: =(AQ40-AQ39)*AS$10 -> 660 | AT40: =(AR40-AR39)*AS$10 -> 60 | AU40: =ROUND(INDIRECT(ADDRESS(Данные!$A32,AU$1,1,1,"Данные"), 1),2) -> 2789.13 | AV40: =ROUND(INDIRECT(ADDRESS(Данные!$A32,AV$1,1,1,"Данные"), 1),2) -> 1238.37 | AW40: =(AU40-AU39)*AW$10 -> 36 | AX40: =(AV40-AV39)*AW$10 -> 0 | AY40: =INDIRECT(ADDRESS(Данные!$A32,4,1,1,"Данные"), 1) -> 45280.521 | AZ40: =ROUND(INDIRECT(ADDRESS(Данные!$A32,AZ$1,1,1,"Данные"), 1),2) -> 2533.32 | BA40: =ROUND(INDIRECT(ADDRESS(Данные!$A32,BA$1,1,1,"Данные"), 1),2) -> 0 | BB40: =(AZ40-AZ39)*BB$10 -> 69 | BC40: =(BA40-BA39)*BB$10 -> 0 | BD40: =ROUND(INDIRECT(ADDRESS(Данные!$A32,BD$1,1,1,"Данные"), 1),2) -> 7202.45 | BE40: =ROUND(INDIRECT(ADDRESS(Данные!$A32,BE$1,1,1,"Данные"), 1),2) -> 4698.81 | BF40: =(BD40-BD39)*BF$10 -> 30 | BG40: =(BE40-BE39)*BF$10 -> 12 | BH40: =ROUND(INDIRECT(ADDRESS(Данные!$A32,BH$1,1,1,"Данные"), 1),2) -> 89.23 | BI40: =ROUND(INDIRECT(ADDRESS(Данные!$A32,BI$1,1,1,"Данные"), 1),2) -> 52.02 | BJ40: =(BH40-BH39)*BJ$10 -> 0 | BK40: =(BI40-BI39)*BJ$10 -> 0 | BL40: =ROUND(INDIRECT(ADDRESS(Данные!$A32,BL$1,1,1,"Данные"), 1),2) -> 1238.37 | BM40: =ROUND(INDIRECT(ADDRESS(Данные!$A32,BM$1,1,1,"Данные"), 1),2) -> 1238.37 | BN40: =(BL40-BL39)*BN$10 -> 0 | BO40: =(BM40-BM39)*BN$10 -> 0 | BP40: =ROUND(INDIRECT(ADDRESS(Данные!$A32,BP$1,1,1,"Данные"), 1),2) -> 7616.51 | BQ40: =ROUND(INDIRECT(ADDRESS(Данные!$A32,BQ$1,1,1,"Данные"), 1),2) -> 2342.98 | BR40: =(BP40-BP39)*BR$10 -> 0 | BS40: =(BQ40-BQ39)*BR$10 -> 0 | BT40: =ROUND(INDIRECT(ADDRESS(Данные!$A32,BT$1,1,1,"Данные"), 1),2) -> 107.63 | BU40: =ROUND(INDIRECT(ADDRESS(Данные!$A32,BU$1,1,1,"Данные"), 1),2) -> 6.96 | BV40: =(BT40-BT39)*BV$10 -> 0 | BW40: =(BU40-BU39)*BV$10 -> 0 | BX40: =$A40 -> 45280.521 | BY40: =D40+H40+L40+P40+T40+X40+AC40+AG40+AK40+AO40+AS40+AW40+ BB40+BJ40+BF40+BN40+BR40+BV40 -> 6495 | BZ40: =E40+I40+M40+Q40+U40+Y40+AD40+AH40+AL40+AP40+AT40+AX40+ BC40+BK40+BG40+BO40+BS40+BW40 -> 1032
A41: =INDIRECT(ADDRESS(Данные!$A33,4,1,1,"Данные"), 1) -> 45280.542 | B41: =ROUND(INDIRECT(ADDRESS(Данные!$A33,B$1,1,1,"Данные"), 1),2) -> 12177.14 | C41: =ROUND(INDIRECT(ADDRESS(Данные!$A33,C$1,1,1,"Данные"), 1),2) -> 5254.99 | D41: =(B41-B39)*D$10 -> 760 | E41: =(C41-C39)*D$10 -> 160 | F41: =ROUND(INDIRECT(ADDRESS(Данные!$A33,F$1,1,1,"Данные"), 1),2) -> 41022.54 | G41: =ROUND(INDIRECT(ADDRESS(Данные!$A33,G$1,1,1,"Данные"), 1),2) -> 9016.44 | H41: =(F41-F39)*H$10 -> 1520 | I41: =(G41-G39)*H$10 -> 200 | J41: =ROUND(INDIRECT(ADDRESS(Данные!$A33,J$1,1,1,"Данные"), 1),2) -> 16050.95 | K41: =ROUND(INDIRECT(ADDRESS(Данные!$A33,K$1,1,1,"Данные"), 1),2) -> 3848.13 | L41: =(J41-J39)*L$10 -> 1040 | M41: =(K41-K39)*L$10 -> 120 | N41: =ROUND(INDIRECT(ADDRESS(Данные!$A33,N$1,1,1,"Данные"), 1),2) -> 6369.89 | O41: =ROUND(INDIRECT(ADDRESS(Данные!$A33,O$1,1,1,"Данные"), 1),2) -> 1168.25 | P41: =(N41-N39)*P$10 -> 1000 | Q41: =(O41-O39)*P$10 -> 40 | R41: =ROUND(INDIRECT(ADDRESS(Данные!$A33,R$1,1,1,"Данные"), 1),2) -> 6465.11 | S41: =ROUND(INDIRECT(ADDRESS(Данные!$A33,S$1,1,1,"Данные"), 1),2) -> 3043.3 | T41: =(R41-R39)*T$10 -> 1720 | U41: =(S41-S39)*T$10 -> 640 | V41: =ROUND(INDIRECT(ADDRESS(Данные!$A33,V$1,1,1,"Данные"), 1),2) -> 3098.28 | W41: =ROUND(INDIRECT(ADDRESS(Данные!$A33,W$1,1,1,"Данные"), 1),2) -> 1217.47 | X41: =(V41-V39)*X$10 -> 160 | Y41: =(W41-W39)*X$10 -> 40 | Z41: =INDIRECT(ADDRESS(Данные!$A33,4,1,1,"Данные"), 1) -> 45280.542 | AA41: =ROUND(INDIRECT(ADDRESS(Данные!$A33,AA$1,1,1,"Данные"), 1),2) -> 14077.98 | AB41: =ROUND(INDIRECT(ADDRESS(Данные!$A33,AB$1,1,1,"Данные"), 1),2) -> 2864.25 | AC41: =(AA41-AA39)*AC$10 -> 1800 | AD41: =(AB41-AB39)*AC$10 -> 160 | AE41: =ROUND(INDIRECT(ADDRESS(Данные!$A33,AE$1,1,1,"Данные"), 1),2) -> 14164.39 | AF41: =ROUND(INDIRECT(ADDRESS(Данные!$A33,AF$1,1,1,"Данные"), 1),2) -> 4579.91 | AG41: =(AE41-AE39)*AG$10 -> 840 | AH41: =(AF41-AF39)*AG$10 -> 180 | AI41: =ROUND(INDIRECT(ADDRESS(Данные!$A33,AI$1,1,1,"Данные"), 1),2) -> 1360.76 | AJ41: =ROUND(INDIRECT(ADDRESS(Данные!$A33,AJ$1,1,1,"Данные"), 1),2) -> 388.19 | AK41: =(AI41-AI39)*AK$10 -> 1400 | AL41: =(AJ41-AJ39)*AK$10 -> 160 | AM41: =ROUND(INDIRECT(ADDRESS(Данные!$A33,AM$1,1,1,"Данные"), 1),2) -> 19417.29 | AN41: =ROUND(INDIRECT(ADDRESS(Данные!$A33,AN$1,1,1,"Данные"), 1),2) -> 7651.05 | AO41: =(AM41-AM39)*AO$10 -> 1040 | AP41: =(AN41-AN39)*AO$10 -> 200 | AQ41: =ROUND(INDIRECT(ADDRESS(Данные!$A33,AQ$1,1,1,"Данные"), 1),2) -> 15514.13 | AR41: =ROUND(INDIRECT(ADDRESS(Данные!$A33,AR$1,1,1,"Данные"), 1),2) -> 4021.84 | AS41: =(AQ41-AQ39)*AS$10 -> 1320 | AT41: =(AR41-AR39)*AS$10 -> 120 | AU41: =ROUND(INDIRECT(ADDRESS(Данные!$A33,AU$1,1,1,"Данные"), 1),2) -> 2789.18 | AV41: =ROUND(INDIRECT(ADDRESS(Данные!$A33,AV$1,1,1,"Данные"), 1),2) -> 1238.38 | AW41: =(AU41-AU39)*AW$10 -> 66 | AX41: =(AV41-AV39)*AW$10 -> 6 | AY41: =INDIRECT(ADDRESS(Данные!$A33,4,1,1,"Данные"), 1) -> 45280.542 | AZ41: =ROUND(INDIRECT(ADDRESS(Данные!$A33,AZ$1,1,1,"Данные"), 1),2) -> 2533.53 | BA41: =ROUND(INDIRECT(ADDRESS(Данные!$A33,BA$1,1,1,"Данные"), 1),2) -> 0 | BB41: =(AZ41-AZ39)*BB$10 -> 132 | BC41: =(BA41-BA39)*BB$10 -> 0 | BD41: =ROUND(INDIRECT(ADDRESS(Данные!$A33,BD$1,1,1,"Данные"), 1),2) -> 7202.53 | BE41: =ROUND(INDIRECT(ADDRESS(Данные!$A33,BE$1,1,1,"Данные"), 1),2) -> 4698.89 | BF41: =(BD41-BD39)*BF$10 -> 78 | BG41: =(BE41-BE39)*BF$10 -> 60 | BH41: =ROUND(INDIRECT(ADDRESS(Данные!$A33,BH$1,1,1,"Данные"), 1),2) -> 89.23 | BI41: =ROUND(INDIRECT(ADDRESS(Данные!$A33,BI$1,1,1,"Данные"), 1),2) -> 52.02 | BJ41: =(BH41-BH39)*BJ$10 -> 0 | BK41: =(BI41-BI39)*BJ$10 -> 0 | BL41: =ROUND(INDIRECT(ADDRESS(Данные!$A33,BL$1,1,1,"Данные"), 1),2) -> 1238.38 | BM41: =ROUND(INDIRECT(ADDRESS(Данные!$A33,BM$1,1,1,"Данные"), 1),2) -> 1238.38 | BN41: =(BL41-BL39)*BN$10 -> 6 | BO41: =(BM41-BM39)*BN$10 -> 6 | BP41: =ROUND(INDIRECT(ADDRESS(Данные!$A33,BP$1,1,1,"Данные"), 1),2) -> 7616.51 | BQ41: =ROUND(INDIRECT(ADDRESS(Данные!$A33,BQ$1,1,1,"Данные"), 1),2) -> 2342.98 | BR41: =(BP41-BP39)*BR$10 -> 0 | BS41: =(BQ41-BQ39)*BR$10 -> 0 | BT41: =ROUND(INDIRECT(ADDRESS(Данные!$A33,BT$1,1,1,"Данные"), 1),2) -> 107.63 | BU41: =ROUND(INDIRECT(ADDRESS(Данные!$A33,BU$1,1,1,"Данные"), 1),2) -> 6.96 | BV41: =(BT41-BT39)*BV$10 -> 0 | BW41: =(BU41-BU39)*BV$10 -> 0 | BX41: =$A41 -> 45280.542 | BY41: =D41+H41+L41+P41+T41+X41+AC41+AG41+AK41+AO41+AS41+AW41+ BB41+BJ41+BF41+BN41+BR41+BV41 -> 12882 | BZ41: =E41+I41+M41+Q41+U41+Y41+AD41+AH41+AL41+AP41+AT41+AX41+ BC41+BK41+BG41+BO41+BS41+BW41 -> 2092
A42: =INDIRECT(ADDRESS(Данные!$A34,4,1,1,"Данные"), 1) -> 45280.562 | B42: =ROUND(INDIRECT(ADDRESS(Данные!$A34,B$1,1,1,"Данные"), 1),2) -> 12177.2 | C42: =ROUND(INDIRECT(ADDRESS(Данные!$A34,C$1,1,1,"Данные"), 1),2) -> 5255 | D42: =(B42-B41)*D$10 -> 240 | E42: =(C42-C41)*D$10 -> 40 | F42: =ROUND(INDIRECT(ADDRESS(Данные!$A34,F$1,1,1,"Данные"), 1),2) -> 41022.74 | G42: =ROUND(INDIRECT(ADDRESS(Данные!$A34,G$1,1,1,"Данные"), 1),2) -> 9016.46 | H42: =(F42-F41)*H$10 -> 800 | I42: =(G42-G41)*H$10 -> 80 | J42: =ROUND(INDIRECT(ADDRESS(Данные!$A34,J$1,1,1,"Данные"), 1),2) -> 16051.08 | K42: =ROUND(INDIRECT(ADDRESS(Данные!$A34,K$1,1,1,"Данные"), 1),2) -> 3848.14 | L42: =(J42-J41)*L$10 -> 520 | M42: =(K42-K41)*L$10 -> 40 | N42: =ROUND(INDIRECT(ADDRESS(Данные!$A34,N$1,1,1,"Данные"), 1),2) -> 6370 | O42: =ROUND(INDIRECT(ADDRESS(Данные!$A34,O$1,1,1,"Данные"), 1),2) -> 1168.26 | P42: =(N42-N41)*P$10 -> 440 | Q42: =(O42-O41)*P$10 -> 40 | R42: =ROUND(INDIRECT(ADDRESS(Данные!$A34,R$1,1,1,"Данные"), 1),2) -> 6465.32 | S42: =ROUND(INDIRECT(ADDRESS(Данные!$A34,S$1,1,1,"Данные"), 1),2) -> 3043.37 | T42: =(R42-R41)*T$10 -> 840 | U42: =(S42-S41)*T$10 -> 280 | V42: =ROUND(INDIRECT(ADDRESS(Данные!$A34,V$1,1,1,"Данные"), 1),2) -> 3098.3 | W42: =ROUND(INDIRECT(ADDRESS(Данные!$A34,W$1,1,1,"Данные"), 1),2) -> 1217.47 | X42: =(V42-V41)*X$10 -> 80 | Y42: =(W42-W41)*X$10 -> 0 | Z42: =INDIRECT(ADDRESS(Данные!$A34,4,1,1,"Данные"), 1) -> 45280.562 | AA42: =ROUND(INDIRECT(ADDRESS(Данные!$A34,AA$1,1,1,"Данные"), 1),2) -> 14078.19 | AB42: =ROUND(INDIRECT(ADDRESS(Данные!$A34,AB$1,1,1,"Данные"), 1),2) -> 2864.27 | AC42: =(AA42-AA41)*AC$10 -> 840 | AD42: =(AB42-AB41)*AC$10 -> 80 | AE42: =ROUND(INDIRECT(ADDRESS(Данные!$A34,AE$1,1,1,"Данные"), 1),2) -> 14164.45 | AF42: =ROUND(INDIRECT(ADDRESS(Данные!$A34,AF$1,1,1,"Данные"), 1),2) -> 4579.92 | AG42: =(AE42-AE41)*AG$10 -> 360 | AH42: =(AF42-AF41)*AG$10 -> 60 | AI42: =ROUND(INDIRECT(ADDRESS(Данные!$A34,AI$1,1,1,"Данные"), 1),2) -> 1360.93 | AJ42: =ROUND(INDIRECT(ADDRESS(Данные!$A34,AJ$1,1,1,"Данные"), 1),2) -> 388.21 | AK42: =(AI42-AI41)*AK$10 -> 680 | AL42: =(AJ42-AJ41)*AK$10 -> 80 | AM42: =ROUND(INDIRECT(ADDRESS(Данные!$A34,AM$1,1,1,"Данные"), 1),2) -> 19417.43 | AN42: =ROUND(INDIRECT(ADDRESS(Данные!$A34,AN$1,1,1,"Данные"), 1),2) -> 7651.07 | AO42: =(AM42-AM41)*AO$10 -> 560 | AP42: =(AN42-AN41)*AO$10 -> 80 | AQ42: =ROUND(INDIRECT(ADDRESS(Данные!$A34,AQ$1,1,1,"Данные"), 1),2) -> 15514.24 | AR42: =ROUND(INDIRECT(ADDRESS(Данные!$A34,AR$1,1,1,"Данные"), 1),2) -> 4021.86 | AS42: =(AQ42-AQ41)*AS$10 -> 660 | AT42: =(AR42-AR41)*AS$10 -> 120 | AU42: =ROUND(INDIRECT(ADDRESS(Данные!$A34,AU$1,1,1,"Данные"), 1),2) -> 2789.24 | AV42: =ROUND(INDIRECT(ADDRESS(Данные!$A34,AV$1,1,1,"Данные"), 1),2) -> 1238.39 | AW42: =(AU42-AU41)*AW$10 -> 36 | AX42: =(AV42-AV41)*AW$10 -> 6 | AY42: =INDIRECT(ADDRESS(Данные!$A34,4,1,1,"Данные"), 1) -> 45280.562 | AZ42: =ROUND(INDIRECT(ADDRESS(Данные!$A34,AZ$1,1,1,"Данные"), 1),2) -> 2533.75 | BA42: =ROUND(INDIRECT(ADDRESS(Данные!$A34,BA$1,1,1,"Данные"), 1),2) -> 0 | BB42: =(AZ42-AZ41)*BB$10 -> 66 | BC42: =(BA42-BA41)*BB$10 -> 0 | BD42: =ROUND(INDIRECT(ADDRESS(Данные!$A34,BD$1,1,1,"Данные"), 1),2) -> 7202.63 | BE42: =ROUND(INDIRECT(ADDRESS(Данные!$A34,BE$1,1,1,"Данные"), 1),2) -> 4698.99 | BF42: =(BD42-BD41)*BF$10 -> 60 | BG42: =(BE42-BE41)*BF$10 -> 60 | BH42: =ROUND(INDIRECT(ADDRESS(Данные!$A34,BH$1,1,1,"Данные"), 1),2) -> 89.23 | BI42: =ROUND(INDIRECT(ADDRESS(Данные!$A34,BI$1,1,1,"Данные"), 1),2) -> 52.02 | BJ42: =(BH42-BH41)*BJ$10 -> 0 | BK42: =(BI42-BI41)*BJ$10 -> 0 | BL42: =ROUND(INDIRECT(ADDRESS(Данные!$A34,BL$1,1,1,"Данные"), 1),2) -> 1238.39 | BM42: =ROUND(INDIRECT(ADDRESS(Данные!$A34,BM$1,1,1,"Данные"), 1),2) -> 1238.39 | BN42: =(BL42-BL41)*BN$10 -> 6 | BO42: =(BM42-BM41)*BN$10 -> 6 | BP42: =ROUND(INDIRECT(ADDRESS(Данные!$A34,BP$1,1,1,"Данные"), 1),2) -> 7616.51 | BQ42: =ROUND(INDIRECT(ADDRESS(Данные!$A34,BQ$1,1,1,"Данные"), 1),2) -> 2342.98 | BR42: =(BP42-BP41)*BR$10 -> 0 | BS42: =(BQ42-BQ41)*BR$10 -> 0 | BT42: =ROUND(INDIRECT(ADDRESS(Данные!$A34,BT$1,1,1,"Данные"), 1),2) -> 107.63 | BU42: =ROUND(INDIRECT(ADDRESS(Данные!$A34,BU$1,1,1,"Данные"), 1),2) -> 6.96 | BV42: =(BT42-BT41)*BV$10 -> 0 | BW42: =(BU42-BU41)*BV$10 -> 0 | BX42: =$A42 -> 45280.562 | BY42: =D42+H42+L42+P42+T42+X42+AC42+AG42+AK42+AO42+AS42+AW42+ BB42+BJ42+BF42+BN42+BR42+BV42 -> 6188 | BZ42: =E42+I42+M42+Q42+U42+Y42+AD42+AH42+AL42+AP42+AT42+AX42+ BC42+BK42+BG42+BO42+BS42+BW42 -> 972
A43: =INDIRECT(ADDRESS(Данные!$A35,4,1,1,"Данные"), 1) -> 45280.583 | B43: =ROUND(INDIRECT(ADDRESS(Данные!$A35,B$1,1,1,"Данные"), 1),2) -> 12177.26 | C43: =ROUND(INDIRECT(ADDRESS(Данные!$A35,C$1,1,1,"Данные"), 1),2) -> 5255 | D43: =(B43-B41)*D$10 -> 480 | E43: =(C43-C41)*D$10 -> 40 | F43: =ROUND(INDIRECT(ADDRESS(Данные!$A35,F$1,1,1,"Данные"), 1),2) -> 41022.92 | G43: =ROUND(INDIRECT(ADDRESS(Данные!$A35,G$1,1,1,"Данные"), 1),2) -> 9016.48 | H43: =(F43-F41)*H$10 -> 1520 | I43: =(G43-G41)*H$10 -> 160 | J43: =ROUND(INDIRECT(ADDRESS(Данные!$A35,J$1,1,1,"Данные"), 1),2) -> 16051.2 | K43: =ROUND(INDIRECT(ADDRESS(Данные!$A35,K$1,1,1,"Данные"), 1),2) -> 3848.16 | L43: =(J43-J41)*L$10 -> 1000 | M43: =(K43-K41)*L$10 -> 120 | N43: =ROUND(INDIRECT(ADDRESS(Данные!$A35,N$1,1,1,"Данные"), 1),2) -> 6370.12 | O43: =ROUND(INDIRECT(ADDRESS(Данные!$A35,O$1,1,1,"Данные"), 1),2) -> 1168.26 | P43: =(N43-N41)*P$10 -> 920 | Q43: =(O43-O41)*P$10 -> 40 | R43: =ROUND(INDIRECT(ADDRESS(Данные!$A35,R$1,1,1,"Данные"), 1),2) -> 6465.54 | S43: =ROUND(INDIRECT(ADDRESS(Данные!$A35,S$1,1,1,"Данные"), 1),2) -> 3043.45 | T43: =(R43-R41)*T$10 -> 1720 | U43: =(S43-S41)*T$10 -> 600 | V43: =ROUND(INDIRECT(ADDRESS(Данные!$A35,V$1,1,1,"Данные"), 1),2) -> 3098.32 | W43: =ROUND(INDIRECT(ADDRESS(Данные!$A35,W$1,1,1,"Данные"), 1),2) -> 1217.48 | X43: =(V43-V41)*X$10 -> 160 | Y43: =(W43-W41)*X$10 -> 40 | Z43: =INDIRECT(ADDRESS(Данные!$A35,4,1,1,"Данные"), 1) -> 45280.583 | AA43: =ROUND(INDIRECT(ADDRESS(Данные!$A35,AA$1,1,1,"Данные"), 1),2) -> 14078.41 | AB43: =ROUND(INDIRECT(ADDRESS(Данные!$A35,AB$1,1,1,"Данные"), 1),2) -> 2864.29 | AC43: =(AA43-AA41)*AC$10 -> 1720 | AD43: =(AB43-AB41)*AC$10 -> 160 | AE43: =ROUND(INDIRECT(ADDRESS(Данные!$A35,AE$1,1,1,"Данные"), 1),2) -> 14164.52 | AF43: =ROUND(INDIRECT(ADDRESS(Данные!$A35,AF$1,1,1,"Данные"), 1),2) -> 4579.93 | AG43: =(AE43-AE41)*AG$10 -> 780 | AH43: =(AF43-AF41)*AG$10 -> 120 | AI43: =ROUND(INDIRECT(ADDRESS(Данные!$A35,AI$1,1,1,"Данные"), 1),2) -> 1361.1 | AJ43: =ROUND(INDIRECT(ADDRESS(Данные!$A35,AJ$1,1,1,"Данные"), 1),2) -> 388.23 | AK43: =(AI43-AI41)*AK$10 -> 1360 | AL43: =(AJ43-AJ41)*AK$10 -> 160 | AM43: =ROUND(INDIRECT(ADDRESS(Данные!$A35,AM$1,1,1,"Данные"), 1),2) -> 19417.57 | AN43: =ROUND(INDIRECT(ADDRESS(Данные!$A35,AN$1,1,1,"Данные"), 1),2) -> 7651.09 | AO43: =(AM43-AM41)*AO$10 -> 1120 | AP43: =(AN43-AN41)*AO$10 -> 160 | AQ43: =ROUND(INDIRECT(ADDRESS(Данные!$A35,AQ$1,1,1,"Данные"), 1),2) -> 15514.35 | AR43: =ROUND(INDIRECT(ADDRESS(Данные!$A35,AR$1,1,1,"Данные"), 1),2) -> 4021.87 | AS43: =(AQ43-AQ41)*AS$10 -> 1320 | AT43: =(AR43-AR41)*AS$10 -> 180 | AU43: =ROUND(INDIRECT(ADDRESS(Данные!$A35,AU$1,1,1,"Данные"), 1),2) -> 2789.29 | AV43: =ROUND(INDIRECT(ADDRESS(Данные!$A35,AV$1,1,1,"Данные"), 1),2) -> 1238.4 | AW43: =(AU43-AU41)*AW$10 -> 66 | AX43: =(AV43-AV41)*AW$10 -> 12 | AY43: =INDIRECT(ADDRESS(Данные!$A35,4,1,1,"Данные"), 1) -> 45280.583 | AZ43: =ROUND(INDIRECT(ADDRESS(Данные!$A35,AZ$1,1,1,"Данные"), 1),2) -> 2533.97 | BA43: =ROUND(INDIRECT(ADDRESS(Данные!$A35,BA$1,1,1,"Данные"), 1),2) -> 0 | BB43: =(AZ43-AZ41)*BB$10 -> 132 | BC43: =(BA43-BA41)*BB$10 -> 0 | BD43: =ROUND(INDIRECT(ADDRESS(Данные!$A35,BD$1,1,1,"Данные"), 1),2) -> 7202.67 | BE43: =ROUND(INDIRECT(ADDRESS(Данные!$A35,BE$1,1,1,"Данные"), 1),2) -> 4699 | BF43: =(BD43-BD41)*BF$10 -> 84 | BG43: =(BE43-BE41)*BF$10 -> 66 | BH43: =ROUND(INDIRECT(ADDRESS(Данные!$A35,BH$1,1,1,"Данные"), 1),2) -> 89.23 | BI43: =ROUND(INDIRECT(ADDRESS(Данные!$A35,BI$1,1,1,"Данные"), 1),2) -> 52.02 | BJ43: =(BH43-BH41)*BJ$10 -> 0 | BK43: =(BI43-BI41)*BJ$10 -> 0 | BL43: =ROUND(INDIRECT(ADDRESS(Данные!$A35,BL$1,1,1,"Данные"), 1),2) -> 1238.4 | BM43: =ROUND(INDIRECT(ADDRESS(Данные!$A35,BM$1,1,1,"Данные"), 1),2) -> 1238.4 | BN43: =(BL43-BL41)*BN$10 -> 12 | BO43: =(BM43-BM41)*BN$10 -> 12 | BP43: =ROUND(INDIRECT(ADDRESS(Данные!$A35,BP$1,1,1,"Данные"), 1),2) -> 7616.52 | BQ43: =ROUND(INDIRECT(ADDRESS(Данные!$A35,BQ$1,1,1,"Данные"), 1),2) -> 2342.98 | BR43: =(BP43-BP41)*BR$10 -> 40 | BS43: =(BQ43-BQ41)*BR$10 -> 0 | BT43: =ROUND(INDIRECT(ADDRESS(Данные!$A35,BT$1,1,1,"Данные"), 1),2) -> 107.63 | BU43: =ROUND(INDIRECT(ADDRESS(Данные!$A35,BU$1,1,1,"Данные"), 1),2) -> 6.96 | BV43: =(BT43-BT41)*BV$10 -> 0 | BW43: =(BU43-BU41)*BV$10 -> 0 | BX43: =$A43 -> 45280.583 | BY43: =D43+H43+L43+P43+T43+X43+AC43+AG43+AK43+AO43+AS43+AW43+ BB43+BJ43+BF43+BN43+BR43+BV43 -> 12434 | BZ43: =E43+I43+M43+Q43+U43+Y43+AD43+AH43+AL43+AP43+AT43+AX43+ BC43+BK43+BG43+BO43+BS43+BW43 -> 1870
A44: =INDIRECT(ADDRESS(Данные!$A36,4,1,1,"Данные"), 1) -> 45280.604 | B44: =ROUND(INDIRECT(ADDRESS(Данные!$A36,B$1,1,1,"Данные"), 1),2) -> 12177.32 | C44: =ROUND(INDIRECT(ADDRESS(Данные!$A36,C$1,1,1,"Данные"), 1),2) -> 5255 | D44: =(B44-B43)*D$10 -> 240 | E44: =(C44-C43)*D$10 -> 0 | F44: =ROUND(INDIRECT(ADDRESS(Данные!$A36,F$1,1,1,"Данные"), 1),2) -> 41023.1 | G44: =ROUND(INDIRECT(ADDRESS(Данные!$A36,G$1,1,1,"Данные"), 1),2) -> 9016.5 | H44: =(F44-F43)*H$10 -> 720 | I44: =(G44-G43)*H$10 -> 80 | J44: =ROUND(INDIRECT(ADDRESS(Данные!$A36,J$1,1,1,"Данные"), 1),2) -> 16051.32 | K44: =ROUND(INDIRECT(ADDRESS(Данные!$A36,K$1,1,1,"Данные"), 1),2) -> 3848.17 | L44: =(J44-J43)*L$10 -> 480 | M44: =(K44-K43)*L$10 -> 40 | N44: =ROUND(INDIRECT(ADDRESS(Данные!$A36,N$1,1,1,"Данные"), 1),2) -> 6370.24 | O44: =ROUND(INDIRECT(ADDRESS(Данные!$A36,O$1,1,1,"Данные"), 1),2) -> 1168.27 | P44: =(N44-N43)*P$10 -> 480 | Q44: =(O44-O43)*P$10 -> 40 | R44: =ROUND(INDIRECT(ADDRESS(Данные!$A36,R$1,1,1,"Данные"), 1),2) -> 6465.76 | S44: =ROUND(INDIRECT(ADDRESS(Данные!$A36,S$1,1,1,"Данные"), 1),2) -> 3043.53 | T44: =(R44-R43)*T$10 -> 880 | U44: =(S44-S43)*T$10 -> 320 | V44: =ROUND(INDIRECT(ADDRESS(Данные!$A36,V$1,1,1,"Данные"), 1),2) -> 3098.34 | W44: =ROUND(INDIRECT(ADDRESS(Данные!$A36,W$1,1,1,"Данные"), 1),2) -> 1217.48 | X44: =(V44-V43)*X$10 -> 80 | Y44: =(W44-W43)*X$10 -> 0 | Z44: =INDIRECT(ADDRESS(Данные!$A36,4,1,1,"Данные"), 1) -> 45280.604 | AA44: =ROUND(INDIRECT(ADDRESS(Данные!$A36,AA$1,1,1,"Данные"), 1),2) -> 14078.61 | AB44: =ROUND(INDIRECT(ADDRESS(Данные!$A36,AB$1,1,1,"Данные"), 1),2) -> 2864.31 | AC44: =(AA44-AA43)*AC$10 -> 800 | AD44: =(AB44-AB43)*AC$10 -> 80 | AE44: =ROUND(INDIRECT(ADDRESS(Данные!$A36,AE$1,1,1,"Данные"), 1),2) -> 14164.59 | AF44: =ROUND(INDIRECT(ADDRESS(Данные!$A36,AF$1,1,1,"Данные"), 1),2) -> 4579.96 | AG44: =(AE44-AE43)*AG$10 -> 420 | AH44: =(AF44-AF43)*AG$10 -> 180 | AI44: =ROUND(INDIRECT(ADDRESS(Данные!$A36,AI$1,1,1,"Данные"), 1),2) -> 1361.27 | AJ44: =ROUND(INDIRECT(ADDRESS(Данные!$A36,AJ$1,1,1,"Данные"), 1),2) -> 388.25 | AK44: =(AI44-AI43)*AK$10 -> 680 | AL44: =(AJ44-AJ43)*AK$10 -> 80 | AM44: =ROUND(INDIRECT(ADDRESS(Данные!$A36,AM$1,1,1,"Данные"), 1),2) -> 19417.71 | AN44: =ROUND(INDIRECT(ADDRESS(Данные!$A36,AN$1,1,1,"Данные"), 1),2) -> 7651.12 | AO44: =(AM44-AM43)*AO$10 -> 560 | AP44: =(AN44-AN43)*AO$10 -> 120 | AQ44: =ROUND(INDIRECT(ADDRESS(Данные!$A36,AQ$1,1,1,"Данные"), 1),2) -> 15514.46 | AR44: =ROUND(INDIRECT(ADDRESS(Данные!$A36,AR$1,1,1,"Данные"), 1),2) -> 4021.89 | AS44: =(AQ44-AQ43)*AS$10 -> 660 | AT44: =(AR44-AR43)*AS$10 -> 120 | AU44: =ROUND(INDIRECT(ADDRESS(Данные!$A36,AU$1,1,1,"Данные"), 1),2) -> 2789.35 | AV44: =ROUND(INDIRECT(ADDRESS(Данные!$A36,AV$1,1,1,"Данные"), 1),2) -> 1238.4 | AW44: =(AU44-AU43)*AW$10 -> 36 | AX44: =(AV44-AV43)*AW$10 -> 0 | AY44: =INDIRECT(ADDRESS(Данные!$A36,4,1,1,"Данные"), 1) -> 45280.604 | AZ44: =ROUND(INDIRECT(ADDRESS(Данные!$A36,AZ$1,1,1,"Данные"), 1),2) -> 2534.19 | BA44: =ROUND(INDIRECT(ADDRESS(Данные!$A36,BA$1,1,1,"Данные"), 1),2) -> 0 | BB44: =(AZ44-AZ43)*BB$10 -> 66 | BC44: =(BA44-BA43)*BB$10 -> 0 | BD44: =ROUND(INDIRECT(ADDRESS(Данные!$A36,BD$1,1,1,"Данные"), 1),2) -> 7202.71 | BE44: =ROUND(INDIRECT(ADDRESS(Данные!$A36,BE$1,1,1,"Данные"), 1),2) -> 4699 | BF44: =(BD44-BD43)*BF$10 -> 24 | BG44: =(BE44-BE43)*BF$10 -> 0 | BH44: =ROUND(INDIRECT(ADDRESS(Данные!$A36,BH$1,1,1,"Данные"), 1),2) -> 89.23 | BI44: =ROUND(INDIRECT(ADDRESS(Данные!$A36,BI$1,1,1,"Данные"), 1),2) -> 52.02 | BJ44: =(BH44-BH43)*BJ$10 -> 0 | BK44: =(BI44-BI43)*BJ$10 -> 0 | BL44: =ROUND(INDIRECT(ADDRESS(Данные!$A36,BL$1,1,1,"Данные"), 1),2) -> 1238.4 | BM44: =ROUND(INDIRECT(ADDRESS(Данные!$A36,BM$1,1,1,"Данные"), 1),2) -> 1238.4 | BN44: =(BL44-BL43)*BN$10 -> 0 | BO44: =(BM44-BM43)*BN$10 -> 0 | BP44: =ROUND(INDIRECT(ADDRESS(Данные!$A36,BP$1,1,1,"Данные"), 1),2) -> 7616.52 | BQ44: =ROUND(INDIRECT(ADDRESS(Данные!$A36,BQ$1,1,1,"Данные"), 1),2) -> 2342.98 | BR44: =(BP44-BP43)*BR$10 -> 0 | BS44: =(BQ44-BQ43)*BR$10 -> 0 | BT44: =ROUND(INDIRECT(ADDRESS(Данные!$A36,BT$1,1,1,"Данные"), 1),2) -> 107.63 | BU44: =ROUND(INDIRECT(ADDRESS(Данные!$A36,BU$1,1,1,"Данные"), 1),2) -> 6.96 | BV44: =(BT44-BT43)*BV$10 -> 0 | BW44: =(BU44-BU43)*BV$10 -> 0 | BX44: =$A44 -> 45280.604 | BY44: =D44+H44+L44+P44+T44+X44+AC44+AG44+AK44+AO44+AS44+AW44+ BB44+BJ44+BF44+BN44+BR44+BV44 -> 6126 | BZ44: =E44+I44+M44+Q44+U44+Y44+AD44+AH44+AL44+AP44+AT44+AX44+ BC44+BK44+BG44+BO44+BS44+BW44 -> 1060
A45: =INDIRECT(ADDRESS(Данные!$A37,4,1,1,"Данные"), 1) -> 45280.625 | B45: =ROUND(INDIRECT(ADDRESS(Данные!$A37,B$1,1,1,"Данные"), 1),2) -> 12177.38 | C45: =ROUND(INDIRECT(ADDRESS(Данные!$A37,C$1,1,1,"Данные"), 1),2) -> 5255.01 | D45: =(B45-B43)*D$10 -> 480 | E45: =(C45-C43)*D$10 -> 40 | F45: =ROUND(INDIRECT(ADDRESS(Данные!$A37,F$1,1,1,"Данные"), 1),2) -> 41023.28 | G45: =ROUND(INDIRECT(ADDRESS(Данные!$A37,G$1,1,1,"Данные"), 1),2) -> 9016.52 | H45: =(F45-F43)*H$10 -> 1440 | I45: =(G45-G43)*H$10 -> 160 | J45: =ROUND(INDIRECT(ADDRESS(Данные!$A37,J$1,1,1,"Данные"), 1),2) -> 16051.44 | K45: =ROUND(INDIRECT(ADDRESS(Данные!$A37,K$1,1,1,"Данные"), 1),2) -> 3848.18 | L45: =(J45-J43)*L$10 -> 960 | M45: =(K45-K43)*L$10 -> 80 | N45: =ROUND(INDIRECT(ADDRESS(Данные!$A37,N$1,1,1,"Данные"), 1),2) -> 6370.36 | O45: =ROUND(INDIRECT(ADDRESS(Данные!$A37,O$1,1,1,"Данные"), 1),2) -> 1168.28 | P45: =(N45-N43)*P$10 -> 960 | Q45: =(O45-O43)*P$10 -> 80 | R45: =ROUND(INDIRECT(ADDRESS(Данные!$A37,R$1,1,1,"Данные"), 1),2) -> 6465.97 | S45: =ROUND(INDIRECT(ADDRESS(Данные!$A37,S$1,1,1,"Данные"), 1),2) -> 3043.6 | T45: =(R45-R43)*T$10 -> 1720 | U45: =(S45-S43)*T$10 -> 600 | V45: =ROUND(INDIRECT(ADDRESS(Данные!$A37,V$1,1,1,"Данные"), 1),2) -> 3098.36 | W45: =ROUND(INDIRECT(ADDRESS(Данные!$A37,W$1,1,1,"Данные"), 1),2) -> 1217.49 | X45: =(V45-V43)*X$10 -> 160 | Y45: =(W45-W43)*X$10 -> 40 | Z45: =INDIRECT(ADDRESS(Данные!$A37,4,1,1,"Данные"), 1) -> 45280.625 | AA45: =ROUND(INDIRECT(ADDRESS(Данные!$A37,AA$1,1,1,"Данные"), 1),2) -> 14078.81 | AB45: =ROUND(INDIRECT(ADDRESS(Данные!$A37,AB$1,1,1,"Данные"), 1),2) -> 2864.33 | AC45: =(AA45-AA43)*AC$10 -> 1600 | AD45: =(AB45-AB43)*AC$10 -> 160 | AE45: =ROUND(INDIRECT(ADDRESS(Данные!$A37,AE$1,1,1,"Данные"), 1),2) -> 14164.67 | AF45: =ROUND(INDIRECT(ADDRESS(Данные!$A37,AF$1,1,1,"Данные"), 1),2) -> 4580 | AG45: =(AE45-AE43)*AG$10 -> 900 | AH45: =(AF45-AF43)*AG$10 -> 420 | AI45: =ROUND(INDIRECT(ADDRESS(Данные!$A37,AI$1,1,1,"Данные"), 1),2) -> 1361.43 | AJ45: =ROUND(INDIRECT(ADDRESS(Данные!$A37,AJ$1,1,1,"Данные"), 1),2) -> 388.27 | AK45: =(AI45-AI43)*AK$10 -> 1320 | AL45: =(AJ45-AJ43)*AK$10 -> 160 | AM45: =ROUND(INDIRECT(ADDRESS(Данные!$A37,AM$1,1,1,"Данные"), 1),2) -> 19417.85 | AN45: =ROUND(INDIRECT(ADDRESS(Данные!$A37,AN$1,1,1,"Данные"), 1),2) -> 7651.14 | AO45: =(AM45-AM43)*AO$10 -> 1120 | AP45: =(AN45-AN43)*AO$10 -> 200 | AQ45: =ROUND(INDIRECT(ADDRESS(Данные!$A37,AQ$1,1,1,"Данные"), 1),2) -> 15514.57 | AR45: =ROUND(INDIRECT(ADDRESS(Данные!$A37,AR$1,1,1,"Данные"), 1),2) -> 4021.9 | AS45: =(AQ45-AQ43)*AS$10 -> 1320 | AT45: =(AR45-AR43)*AS$10 -> 180 | AU45: =ROUND(INDIRECT(ADDRESS(Данные!$A37,AU$1,1,1,"Данные"), 1),2) -> 2789.41 | AV45: =ROUND(INDIRECT(ADDRESS(Данные!$A37,AV$1,1,1,"Данные"), 1),2) -> 1238.41 | AW45: =(AU45-AU43)*AW$10 -> 72 | AX45: =(AV45-AV43)*AW$10 -> 6 | AY45: =INDIRECT(ADDRESS(Данные!$A37,4,1,1,"Данные"), 1) -> 45280.625 | AZ45: =ROUND(INDIRECT(ADDRESS(Данные!$A37,AZ$1,1,1,"Данные"), 1),2) -> 2534.41 | BA45: =ROUND(INDIRECT(ADDRESS(Данные!$A37,BA$1,1,1,"Данные"), 1),2) -> 0 | BB45: =(AZ45-AZ43)*BB$10 -> 132 | BC45: =(BA45-BA43)*BB$10 -> 0 | BD45: =ROUND(INDIRECT(ADDRESS(Данные!$A37,BD$1,1,1,"Данные"), 1),2) -> 7202.75 | BE45: =ROUND(INDIRECT(ADDRESS(Данные!$A37,BE$1,1,1,"Данные"), 1),2) -> 4699.01 | BF45: =(BD45-BD43)*BF$10 -> 48 | BG45: =(BE45-BE43)*BF$10 -> 6 | BH45: =ROUND(INDIRECT(ADDRESS(Данные!$A37,BH$1,1,1,"Данные"), 1),2) -> 89.23 | BI45: =ROUND(INDIRECT(ADDRESS(Данные!$A37,BI$1,1,1,"Данные"), 1),2) -> 52.02 | BJ45: =(BH45-BH43)*BJ$10 -> 0 | BK45: =(BI45-BI43)*BJ$10 -> 0 | BL45: =ROUND(INDIRECT(ADDRESS(Данные!$A37,BL$1,1,1,"Данные"), 1),2) -> 1238.41 | BM45: =ROUND(INDIRECT(ADDRESS(Данные!$A37,BM$1,1,1,"Данные"), 1),2) -> 1238.41 | BN45: =(BL45-BL43)*BN$10 -> 6 | BO45: =(BM45-BM43)*BN$10 -> 6 | BP45: =ROUND(INDIRECT(ADDRESS(Данные!$A37,BP$1,1,1,"Данные"), 1),2) -> 7616.52 | BQ45: =ROUND(INDIRECT(ADDRESS(Данные!$A37,BQ$1,1,1,"Данные"), 1),2) -> 2342.98 | BR45: =(BP45-BP43)*BR$10 -> 0 | BS45: =(BQ45-BQ43)*BR$10 -> 0 | BT45: =ROUND(INDIRECT(ADDRESS(Данные!$A37,BT$1,1,1,"Данные"), 1),2) -> 107.63 | BU45: =ROUND(INDIRECT(ADDRESS(Данные!$A37,BU$1,1,1,"Данные"), 1),2) -> 6.96 | BV45: =(BT45-BT43)*BV$10 -> 0 | BW45: =(BU45-BU43)*BV$10 -> 0 | BX45: =$A45 -> 45280.625 | BY45: =D45+H45+L45+P45+T45+X45+AC45+AG45+AK45+AO45+AS45+AW45+ BB45+BJ45+BF45+BN45+BR45+BV45 -> 12238 | BZ45: =E45+I45+M45+Q45+U45+Y45+AD45+AH45+AL45+AP45+AT45+AX45+ BC45+BK45+BG45+BO45+BS45+BW45 -> 2138
A46: =INDIRECT(ADDRESS(Данные!$A38,4,1,1,"Данные"), 1) -> 45280.646 | B46: =ROUND(INDIRECT(ADDRESS(Данные!$A38,B$1,1,1,"Данные"), 1),2) -> 12177.45 | C46: =ROUND(INDIRECT(ADDRESS(Данные!$A38,C$1,1,1,"Данные"), 1),2) -> 5255.01 | D46: =(B46-B45)*D$10 -> 280 | E46: =(C46-C45)*D$10 -> 0 | F46: =ROUND(INDIRECT(ADDRESS(Данные!$A38,F$1,1,1,"Данные"), 1),2) -> 41023.46 | G46: =ROUND(INDIRECT(ADDRESS(Данные!$A38,G$1,1,1,"Данные"), 1),2) -> 9016.54 | H46: =(F46-F45)*H$10 -> 720 | I46: =(G46-G45)*H$10 -> 80 | J46: =ROUND(INDIRECT(ADDRESS(Данные!$A38,J$1,1,1,"Данные"), 1),2) -> 16051.56 | K46: =ROUND(INDIRECT(ADDRESS(Данные!$A38,K$1,1,1,"Данные"), 1),2) -> 3848.19 | L46: =(J46-J45)*L$10 -> 480 | M46: =(K46-K45)*L$10 -> 40 | N46: =ROUND(INDIRECT(ADDRESS(Данные!$A38,N$1,1,1,"Данные"), 1),2) -> 6370.48 | O46: =ROUND(INDIRECT(ADDRESS(Данные!$A38,O$1,1,1,"Данные"), 1),2) -> 1168.29 | P46: =(N46-N45)*P$10 -> 480 | Q46: =(O46-O45)*P$10 -> 40 | R46: =ROUND(INDIRECT(ADDRESS(Данные!$A38,R$1,1,1,"Данные"), 1),2) -> 6466.14 | S46: =ROUND(INDIRECT(ADDRESS(Данные!$A38,S$1,1,1,"Данные"), 1),2) -> 3043.66 | T46: =(R46-R45)*T$10 -> 680 | U46: =(S46-S45)*T$10 -> 240 | V46: =ROUND(INDIRECT(ADDRESS(Данные!$A38,V$1,1,1,"Данные"), 1),2) -> 3098.38 | W46: =ROUND(INDIRECT(ADDRESS(Данные!$A38,W$1,1,1,"Данные"), 1),2) -> 1217.49 | X46: =(V46-V45)*X$10 -> 80 | Y46: =(W46-W45)*X$10 -> 0 | Z46: =INDIRECT(ADDRESS(Данные!$A38,4,1,1,"Данные"), 1) -> 45280.646 | AA46: =ROUND(INDIRECT(ADDRESS(Данные!$A38,AA$1,1,1,"Данные"), 1),2) -> 14079.01 | AB46: =ROUND(INDIRECT(ADDRESS(Данные!$A38,AB$1,1,1,"Данные"), 1),2) -> 2864.34 | AC46: =(AA46-AA45)*AC$10 -> 800 | AD46: =(AB46-AB45)*AC$10 -> 40 | AE46: =ROUND(INDIRECT(ADDRESS(Данные!$A38,AE$1,1,1,"Данные"), 1),2) -> 14164.75 | AF46: =ROUND(INDIRECT(ADDRESS(Данные!$A38,AF$1,1,1,"Данные"), 1),2) -> 4580.05 | AG46: =(AE46-AE45)*AG$10 -> 480 | AH46: =(AF46-AF45)*AG$10 -> 300 | AI46: =ROUND(INDIRECT(ADDRESS(Данные!$A38,AI$1,1,1,"Данные"), 1),2) -> 1361.59 | AJ46: =ROUND(INDIRECT(ADDRESS(Данные!$A38,AJ$1,1,1,"Данные"), 1),2) -> 388.3 | AK46: =(AI46-AI45)*AK$10 -> 640 | AL46: =(AJ46-AJ45)*AK$10 -> 120 | AM46: =ROUND(INDIRECT(ADDRESS(Данные!$A38,AM$1,1,1,"Данные"), 1),2) -> 19417.98 | AN46: =ROUND(INDIRECT(ADDRESS(Данные!$A38,AN$1,1,1,"Данные"), 1),2) -> 7651.16 | AO46: =(AM46-AM45)*AO$10 -> 520 | AP46: =(AN46-AN45)*AO$10 -> 80 | AQ46: =ROUND(INDIRECT(ADDRESS(Данные!$A38,AQ$1,1,1,"Данные"), 1),2) -> 15514.68 | AR46: =ROUND(INDIRECT(ADDRESS(Данные!$A38,AR$1,1,1,"Данные"), 1),2) -> 4021.91 | AS46: =(AQ46-AQ45)*AS$10 -> 660 | AT46: =(AR46-AR45)*AS$10 -> 60 | AU46: =ROUND(INDIRECT(ADDRESS(Данные!$A38,AU$1,1,1,"Данные"), 1),2) -> 2789.47 | AV46: =ROUND(INDIRECT(ADDRESS(Данные!$A38,AV$1,1,1,"Данные"), 1),2) -> 1238.42 | AW46: =(AU46-AU45)*AW$10 -> 36 | AX46: =(AV46-AV45)*AW$10 -> 6 | AY46: =INDIRECT(ADDRESS(Данные!$A38,4,1,1,"Данные"), 1) -> 45280.646 | AZ46: =ROUND(INDIRECT(ADDRESS(Данные!$A38,AZ$1,1,1,"Данные"), 1),2) -> 2534.63 | BA46: =ROUND(INDIRECT(ADDRESS(Данные!$A38,BA$1,1,1,"Данные"), 1),2) -> 0 | BB46: =(AZ46-AZ45)*BB$10 -> 66 | BC46: =(BA46-BA45)*BB$10 -> 0 | BD46: =ROUND(INDIRECT(ADDRESS(Данные!$A38,BD$1,1,1,"Данные"), 1),2) -> 7202.79 | BE46: =ROUND(INDIRECT(ADDRESS(Данные!$A38,BE$1,1,1,"Данные"), 1),2) -> 4699.03 | BF46: =(BD46-BD45)*BF$10 -> 24 | BG46: =(BE46-BE45)*BF$10 -> 12 | BH46: =ROUND(INDIRECT(ADDRESS(Данные!$A38,BH$1,1,1,"Данные"), 1),2) -> 89.23 | BI46: =ROUND(INDIRECT(ADDRESS(Данные!$A38,BI$1,1,1,"Данные"), 1),2) -> 52.02 | BJ46: =(BH46-BH45)*BJ$10 -> 0 | BK46: =(BI46-BI45)*BJ$10 -> 0 | BL46: =ROUND(INDIRECT(ADDRESS(Данные!$A38,BL$1,1,1,"Данные"), 1),2) -> 1238.42 | BM46: =ROUND(INDIRECT(ADDRESS(Данные!$A38,BM$1,1,1,"Данные"), 1),2) -> 1238.42 | BN46: =(BL46-BL45)*BN$10 -> 6 | BO46: =(BM46-BM45)*BN$10 -> 6 | BP46: =ROUND(INDIRECT(ADDRESS(Данные!$A38,BP$1,1,1,"Данные"), 1),2) -> 7616.52 | BQ46: =ROUND(INDIRECT(ADDRESS(Данные!$A38,BQ$1,1,1,"Данные"), 1),2) -> 2342.98 | BR46: =(BP46-BP45)*BR$10 -> 0 | BS46: =(BQ46-BQ45)*BR$10 -> 0 | BT46: =ROUND(INDIRECT(ADDRESS(Данные!$A38,BT$1,1,1,"Данные"), 1),2) -> 107.63 | BU46: =ROUND(INDIRECT(ADDRESS(Данные!$A38,BU$1,1,1,"Данные"), 1),2) -> 6.96 | BV46: =(BT46-BT45)*BV$10 -> 0 | BW46: =(BU46-BU45)*BV$10 -> 0 | BX46: =$A46 -> 45280.646 | BY46: =D46+H46+L46+P46+T46+X46+AC46+AG46+AK46+AO46+AS46+AW46+ BB46+BJ46+BF46+BN46+BR46+BV46 -> 5952 | BZ46: =E46+I46+M46+Q46+U46+Y46+AD46+AH46+AL46+AP46+AT46+AX46+ BC46+BK46+BG46+BO46+BS46+BW46 -> 1024
A47: =INDIRECT(ADDRESS(Данные!$A39,4,1,1,"Данные"), 1) -> 45280.667 | B47: =ROUND(INDIRECT(ADDRESS(Данные!$A39,B$1,1,1,"Данные"), 1),2) -> 12177.52 | C47: =ROUND(INDIRECT(ADDRESS(Данные!$A39,C$1,1,1,"Данные"), 1),2) -> 5255.02 | D47: =(B47-B45)*D$10 -> 560 | E47: =(C47-C45)*D$10 -> 40 | F47: =ROUND(INDIRECT(ADDRESS(Данные!$A39,F$1,1,1,"Данные"), 1),2) -> 41023.63 | G47: =ROUND(INDIRECT(ADDRESS(Данные!$A39,G$1,1,1,"Данные"), 1),2) -> 9016.57 | H47: =(F47-F45)*H$10 -> 1400 | I47: =(G47-G45)*H$10 -> 200 | J47: =ROUND(INDIRECT(ADDRESS(Данные!$A39,J$1,1,1,"Данные"), 1),2) -> 16051.68 | K47: =ROUND(INDIRECT(ADDRESS(Данные!$A39,K$1,1,1,"Данные"), 1),2) -> 3848.2 | L47: =(J47-J45)*L$10 -> 960 | M47: =(K47-K45)*L$10 -> 80 | N47: =ROUND(INDIRECT(ADDRESS(Данные!$A39,N$1,1,1,"Данные"), 1),2) -> 6370.6 | O47: =ROUND(INDIRECT(ADDRESS(Данные!$A39,O$1,1,1,"Данные"), 1),2) -> 1168.29 | P47: =(N47-N45)*P$10 -> 960 | Q47: =(O47-O45)*P$10 -> 40 | R47: =ROUND(INDIRECT(ADDRESS(Данные!$A39,R$1,1,1,"Данные"), 1),2) -> 6466.17 | S47: =ROUND(INDIRECT(ADDRESS(Данные!$A39,S$1,1,1,"Данные"), 1),2) -> 3043.67 | T47: =(R47-R45)*T$10 -> 800 | U47: =(S47-S45)*T$10 -> 280 | V47: =ROUND(INDIRECT(ADDRESS(Данные!$A39,V$1,1,1,"Данные"), 1),2) -> 3098.44 | W47: =ROUND(INDIRECT(ADDRESS(Данные!$A39,W$1,1,1,"Данные"), 1),2) -> 1217.51 | X47: =(V47-V45)*X$10 -> 320 | Y47: =(W47-W45)*X$10 -> 80 | Z47: =INDIRECT(ADDRESS(Данные!$A39,4,1,1,"Данные"), 1) -> 45280.667 | AA47: =ROUND(INDIRECT(ADDRESS(Данные!$A39,AA$1,1,1,"Данные"), 1),2) -> 14079.21 | AB47: =ROUND(INDIRECT(ADDRESS(Данные!$A39,AB$1,1,1,"Данные"), 1),2) -> 2864.36 | AC47: =(AA47-AA45)*AC$10 -> 1600 | AD47: =(AB47-AB45)*AC$10 -> 120 | AE47: =ROUND(INDIRECT(ADDRESS(Данные!$A39,AE$1,1,1,"Данные"), 1),2) -> 14164.83 | AF47: =ROUND(INDIRECT(ADDRESS(Данные!$A39,AF$1,1,1,"Данные"), 1),2) -> 4580.09 | AG47: =(AE47-AE45)*AG$10 -> 960 | AH47: =(AF47-AF45)*AG$10 -> 540 | AI47: =ROUND(INDIRECT(ADDRESS(Данные!$A39,AI$1,1,1,"Данные"), 1),2) -> 1361.75 | AJ47: =ROUND(INDIRECT(ADDRESS(Данные!$A39,AJ$1,1,1,"Данные"), 1),2) -> 388.32 | AK47: =(AI47-AI45)*AK$10 -> 1280 | AL47: =(AJ47-AJ45)*AK$10 -> 200 | AM47: =ROUND(INDIRECT(ADDRESS(Данные!$A39,AM$1,1,1,"Данные"), 1),2) -> 19418.12 | AN47: =ROUND(INDIRECT(ADDRESS(Данные!$A39,AN$1,1,1,"Данные"), 1),2) -> 7651.18 | AO47: =(AM47-AM45)*AO$10 -> 1080 | AP47: =(AN47-AN45)*AO$10 -> 160 | AQ47: =ROUND(INDIRECT(ADDRESS(Данные!$A39,AQ$1,1,1,"Данные"), 1),2) -> 15514.79 | AR47: =ROUND(INDIRECT(ADDRESS(Данные!$A39,AR$1,1,1,"Данные"), 1),2) -> 4021.93 | AS47: =(AQ47-AQ45)*AS$10 -> 1320 | AT47: =(AR47-AR45)*AS$10 -> 180 | AU47: =ROUND(INDIRECT(ADDRESS(Данные!$A39,AU$1,1,1,"Данные"), 1),2) -> 2789.53 | AV47: =ROUND(INDIRECT(ADDRESS(Данные!$A39,AV$1,1,1,"Данные"), 1),2) -> 1238.43 | AW47: =(AU47-AU45)*AW$10 -> 72 | AX47: =(AV47-AV45)*AW$10 -> 12 | AY47: =INDIRECT(ADDRESS(Данные!$A39,4,1,1,"Данные"), 1) -> 45280.667 | AZ47: =ROUND(INDIRECT(ADDRESS(Данные!$A39,AZ$1,1,1,"Данные"), 1),2) -> 2534.85 | BA47: =ROUND(INDIRECT(ADDRESS(Данные!$A39,BA$1,1,1,"Данные"), 1),2) -> 0 | BB47: =(AZ47-AZ45)*BB$10 -> 132 | BC47: =(BA47-BA45)*BB$10 -> 0 | BD47: =ROUND(INDIRECT(ADDRESS(Данные!$A39,BD$1,1,1,"Данные"), 1),2) -> 7202.9 | BE47: =ROUND(INDIRECT(ADDRESS(Данные!$A39,BE$1,1,1,"Данные"), 1),2) -> 4699.13 | BF47: =(BD47-BD45)*BF$10 -> 90 | BG47: =(BE47-BE45)*BF$10 -> 72 | BH47: =ROUND(INDIRECT(ADDRESS(Данные!$A39,BH$1,1,1,"Данные"), 1),2) -> 89.23 | BI47: =ROUND(INDIRECT(ADDRESS(Данные!$A39,BI$1,1,1,"Данные"), 1),2) -> 52.02 | BJ47: =(BH47-BH45)*BJ$10 -> 0 | BK47: =(BI47-BI45)*BJ$10 -> 0 | BL47: =ROUND(INDIRECT(ADDRESS(Данные!$A39,BL$1,1,1,"Данные"), 1),2) -> 1238.43 | BM47: =ROUND(INDIRECT(ADDRESS(Данные!$A39,BM$1,1,1,"Данные"), 1),2) -> 1238.43 | BN47: =(BL47-BL45)*BN$10 -> 12 | BO47: =(BM47-BM45)*BN$10 -> 12 | BP47: =ROUND(INDIRECT(ADDRESS(Данные!$A39,BP$1,1,1,"Данные"), 1),2) -> 7616.55 | BQ47: =ROUND(INDIRECT(ADDRESS(Данные!$A39,BQ$1,1,1,"Данные"), 1),2) -> 2342.99 | BR47: =(BP47-BP45)*BR$10 -> 120 | BS47: =(BQ47-BQ45)*BR$10 -> 40 | BT47: =ROUND(INDIRECT(ADDRESS(Данные!$A39,BT$1,1,1,"Данные"), 1),2) -> 107.63 | BU47: =ROUND(INDIRECT(ADDRESS(Данные!$A39,BU$1,1,1,"Данные"), 1),2) -> 6.96 | BV47: =(BT47-BT45)*BV$10 -> 0 | BW47: =(BU47-BU45)*BV$10 -> 0 | BX47: =$A47 -> 45280.667 | BY47: =D47+H47+L47+P47+T47+X47+AC47+AG47+AK47+AO47+AS47+AW47+ BB47+BJ47+BF47+BN47+BR47+BV47 -> 11666 | BZ47: =E47+I47+M47+Q47+U47+Y47+AD47+AH47+AL47+AP47+AT47+AX47+ BC47+BK47+BG47+BO47+BS47+BW47 -> 2056
A48: =INDIRECT(ADDRESS(Данные!$A40,4,1,1,"Данные"), 1) -> 45280.688 | B48: =ROUND(INDIRECT(ADDRESS(Данные!$A40,B$1,1,1,"Данные"), 1),2) -> 12177.59 | C48: =ROUND(INDIRECT(ADDRESS(Данные!$A40,C$1,1,1,"Данные"), 1),2) -> 5255.02 | D48: =(B48-B47)*D$10 -> 280 | E48: =(C48-C47)*D$10 -> 0 | F48: =ROUND(INDIRECT(ADDRESS(Данные!$A40,F$1,1,1,"Данные"), 1),2) -> 41023.81 | G48: =ROUND(INDIRECT(ADDRESS(Данные!$A40,G$1,1,1,"Данные"), 1),2) -> 9016.59 | H48: =(F48-F47)*H$10 -> 720 | I48: =(G48-G47)*H$10 -> 80 | J48: =ROUND(INDIRECT(ADDRESS(Данные!$A40,J$1,1,1,"Данные"), 1),2) -> 16051.8 | K48: =ROUND(INDIRECT(ADDRESS(Данные!$A40,K$1,1,1,"Данные"), 1),2) -> 3848.22 | L48: =(J48-J47)*L$10 -> 480 | M48: =(K48-K47)*L$10 -> 80 | N48: =ROUND(INDIRECT(ADDRESS(Данные!$A40,N$1,1,1,"Данные"), 1),2) -> 6370.72 | O48: =ROUND(INDIRECT(ADDRESS(Данные!$A40,O$1,1,1,"Данные"), 1),2) -> 1168.3 | P48: =(N48-N47)*P$10 -> 480 | Q48: =(O48-O47)*P$10 -> 40 | R48: =ROUND(INDIRECT(ADDRESS(Данные!$A40,R$1,1,1,"Данные"), 1),2) -> 6466.17 | S48: =ROUND(INDIRECT(ADDRESS(Данные!$A40,S$1,1,1,"Данные"), 1),2) -> 3043.67 | T48: =(R48-R47)*T$10 -> 0 | U48: =(S48-S47)*T$10 -> 0 | V48: =ROUND(INDIRECT(ADDRESS(Данные!$A40,V$1,1,1,"Данные"), 1),2) -> 3098.56 | W48: =ROUND(INDIRECT(ADDRESS(Данные!$A40,W$1,1,1,"Данные"), 1),2) -> 1217.56 | X48: =(V48-V47)*X$10 -> 480 | Y48: =(W48-W47)*X$10 -> 200 | Z48: =INDIRECT(ADDRESS(Данные!$A40,4,1,1,"Данные"), 1) -> 45280.688 | AA48: =ROUND(INDIRECT(ADDRESS(Данные!$A40,AA$1,1,1,"Данные"), 1),2) -> 14079.4 | AB48: =ROUND(INDIRECT(ADDRESS(Данные!$A40,AB$1,1,1,"Данные"), 1),2) -> 2864.38 | AC48: =(AA48-AA47)*AC$10 -> 760 | AD48: =(AB48-AB47)*AC$10 -> 80 | AE48: =ROUND(INDIRECT(ADDRESS(Данные!$A40,AE$1,1,1,"Данные"), 1),2) -> 14164.91 | AF48: =ROUND(INDIRECT(ADDRESS(Данные!$A40,AF$1,1,1,"Данные"), 1),2) -> 4580.11 | AG48: =(AE48-AE47)*AG$10 -> 480 | AH48: =(AF48-AF47)*AG$10 -> 120 | AI48: =ROUND(INDIRECT(ADDRESS(Данные!$A40,AI$1,1,1,"Данные"), 1),2) -> 1361.92 | AJ48: =ROUND(INDIRECT(ADDRESS(Данные!$A40,AJ$1,1,1,"Данные"), 1),2) -> 388.34 | AK48: =(AI48-AI47)*AK$10 -> 680 | AL48: =(AJ48-AJ47)*AK$10 -> 80 | AM48: =ROUND(INDIRECT(ADDRESS(Данные!$A40,AM$1,1,1,"Данные"), 1),2) -> 19418.25 | AN48: =ROUND(INDIRECT(ADDRESS(Данные!$A40,AN$1,1,1,"Данные"), 1),2) -> 7651.21 | AO48: =(AM48-AM47)*AO$10 -> 520 | AP48: =(AN48-AN47)*AO$10 -> 120 | AQ48: =ROUND(INDIRECT(ADDRESS(Данные!$A40,AQ$1,1,1,"Данные"), 1),2) -> 15514.91 | AR48: =ROUND(INDIRECT(ADDRESS(Данные!$A40,AR$1,1,1,"Данные"), 1),2) -> 4021.94 | AS48: =(AQ48-AQ47)*AS$10 -> 720 | AT48: =(AR48-AR47)*AS$10 -> 60 | AU48: =ROUND(INDIRECT(ADDRESS(Данные!$A40,AU$1,1,1,"Данные"), 1),2) -> 2789.59 | AV48: =ROUND(INDIRECT(ADDRESS(Данные!$A40,AV$1,1,1,"Данные"), 1),2) -> 1238.43 | AW48: =(AU48-AU47)*AW$10 -> 36 | AX48: =(AV48-AV47)*AW$10 -> 0 | AY48: =INDIRECT(ADDRESS(Данные!$A40,4,1,1,"Данные"), 1) -> 45280.688 | AZ48: =ROUND(INDIRECT(ADDRESS(Данные!$A40,AZ$1,1,1,"Данные"), 1),2) -> 2535.07 | BA48: =ROUND(INDIRECT(ADDRESS(Данные!$A40,BA$1,1,1,"Данные"), 1),2) -> 0 | BB48: =(AZ48-AZ47)*BB$10 -> 66 | BC48: =(BA48-BA47)*BB$10 -> 0 | BD48: =ROUND(INDIRECT(ADDRESS(Данные!$A40,BD$1,1,1,"Данные"), 1),2) -> 7203 | BE48: =ROUND(INDIRECT(ADDRESS(Данные!$A40,BE$1,1,1,"Данные"), 1),2) -> 4699.23 | BF48: =(BD48-BD47)*BF$10 -> 60 | BG48: =(BE48-BE47)*BF$10 -> 60 | BH48: =ROUND(INDIRECT(ADDRESS(Данные!$A40,BH$1,1,1,"Данные"), 1),2) -> 89.23 | BI48: =ROUND(INDIRECT(ADDRESS(Данные!$A40,BI$1,1,1,"Данные"), 1),2) -> 52.02 | BJ48: =(BH48-BH47)*BJ$10 -> 0 | BK48: =(BI48-BI47)*BJ$10 -> 0 | BL48: =ROUND(INDIRECT(ADDRESS(Данные!$A40,BL$1,1,1,"Данные"), 1),2) -> 1238.43 | BM48: =ROUND(INDIRECT(ADDRESS(Данные!$A40,BM$1,1,1,"Данные"), 1),2) -> 1238.43 | BN48: =(BL48-BL47)*BN$10 -> 0 | BO48: =(BM48-BM47)*BN$10 -> 0 | BP48: =ROUND(INDIRECT(ADDRESS(Данные!$A40,BP$1,1,1,"Данные"), 1),2) -> 7616.63 | BQ48: =ROUND(INDIRECT(ADDRESS(Данные!$A40,BQ$1,1,1,"Данные"), 1),2) -> 2343.02 | BR48: =(BP48-BP47)*BR$10 -> 320 | BS48: =(BQ48-BQ47)*BR$10 -> 120 | BT48: =ROUND(INDIRECT(ADDRESS(Данные!$A40,BT$1,1,1,"Данные"), 1),2) -> 107.63 | BU48: =ROUND(INDIRECT(ADDRESS(Данные!$A40,BU$1,1,1,"Данные"), 1),2) -> 6.96 | BV48: =(BT48-BT47)*BV$10 -> 0 | BW48: =(BU48-BU47)*BV$10 -> 0 | BX48: =$A48 -> 45280.688 | BY48: =D48+H48+L48+P48+T48+X48+AC48+AG48+AK48+AO48+AS48+AW48+ BB48+BJ48+BF48+BN48+BR48+BV48 -> 6082 | BZ48: =E48+I48+M48+Q48+U48+Y48+AD48+AH48+AL48+AP48+AT48+AX48+ BC48+BK48+BG48+BO48+BS48+BW48 -> 1040
A49: =INDIRECT(ADDRESS(Данные!$A41,4,1,1,"Данные"), 1) -> 45280.708 | B49: =ROUND(INDIRECT(ADDRESS(Данные!$A41,B$1,1,1,"Данные"), 1),2) -> 12177.66 | C49: =ROUND(INDIRECT(ADDRESS(Данные!$A41,C$1,1,1,"Данные"), 1),2) -> 5255.02 | D49: =(B49-B47)*D$10 -> 560 | E49: =(C49-C47)*D$10 -> 0 | F49: =ROUND(INDIRECT(ADDRESS(Данные!$A41,F$1,1,1,"Данные"), 1),2) -> 41023.99 | G49: =ROUND(INDIRECT(ADDRESS(Данные!$A41,G$1,1,1,"Данные"), 1),2) -> 9016.61 | H49: =(F49-F47)*H$10 -> 1440 | I49: =(G49-G47)*H$10 -> 160 | J49: =ROUND(INDIRECT(ADDRESS(Данные!$A41,J$1,1,1,"Данные"), 1),2) -> 16051.92 | K49: =ROUND(INDIRECT(ADDRESS(Данные!$A41,K$1,1,1,"Данные"), 1),2) -> 3848.23 | L49: =(J49-J47)*L$10 -> 960 | M49: =(K49-K47)*L$10 -> 120 | N49: =ROUND(INDIRECT(ADDRESS(Данные!$A41,N$1,1,1,"Данные"), 1),2) -> 6370.84 | O49: =ROUND(INDIRECT(ADDRESS(Данные!$A41,O$1,1,1,"Данные"), 1),2) -> 1168.31 | P49: =(N49-N47)*P$10 -> 960 | Q49: =(O49-O47)*P$10 -> 80 | R49: =ROUND(INDIRECT(ADDRESS(Данные!$A41,R$1,1,1,"Данные"), 1),2) -> 6466.19 | S49: =ROUND(INDIRECT(ADDRESS(Данные!$A41,S$1,1,1,"Данные"), 1),2) -> 3043.68 | T49: =(R49-R47)*T$10 -> 80 | U49: =(S49-S47)*T$10 -> 40 | V49: =ROUND(INDIRECT(ADDRESS(Данные!$A41,V$1,1,1,"Данные"), 1),2) -> 3098.69 | W49: =ROUND(INDIRECT(ADDRESS(Данные!$A41,W$1,1,1,"Данные"), 1),2) -> 1217.61 | X49: =(V49-V47)*X$10 -> 1000 | Y49: =(W49-W47)*X$10 -> 400 | Z49: =INDIRECT(ADDRESS(Данные!$A41,4,1,1,"Данные"), 1) -> 45280.708 | AA49: =ROUND(INDIRECT(ADDRESS(Данные!$A41,AA$1,1,1,"Данные"), 1),2) -> 14079.6 | AB49: =ROUND(INDIRECT(ADDRESS(Данные!$A41,AB$1,1,1,"Данные"), 1),2) -> 2864.4 | AC49: =(AA49-AA47)*AC$10 -> 1560 | AD49: =(AB49-AB47)*AC$10 -> 160 | AE49: =ROUND(INDIRECT(ADDRESS(Данные!$A41,AE$1,1,1,"Данные"), 1),2) -> 14164.98 | AF49: =ROUND(INDIRECT(ADDRESS(Данные!$A41,AF$1,1,1,"Данные"), 1),2) -> 4580.15 | AG49: =(AE49-AE47)*AG$10 -> 900 | AH49: =(AF49-AF47)*AG$10 -> 360 | AI49: =ROUND(INDIRECT(ADDRESS(Данные!$A41,AI$1,1,1,"Данные"), 1),2) -> 1362.09 | AJ49: =ROUND(INDIRECT(ADDRESS(Данные!$A41,AJ$1,1,1,"Данные"), 1),2) -> 388.36 | AK49: =(AI49-AI47)*AK$10 -> 1360 | AL49: =(AJ49-AJ47)*AK$10 -> 160 | AM49: =ROUND(INDIRECT(ADDRESS(Данные!$A41,AM$1,1,1,"Данные"), 1),2) -> 19418.39 | AN49: =ROUND(INDIRECT(ADDRESS(Данные!$A41,AN$1,1,1,"Данные"), 1),2) -> 7651.23 | AO49: =(AM49-AM47)*AO$10 -> 1080 | AP49: =(AN49-AN47)*AO$10 -> 200 | AQ49: =ROUND(INDIRECT(ADDRESS(Данные!$A41,AQ$1,1,1,"Данные"), 1),2) -> 15515.04 | AR49: =ROUND(INDIRECT(ADDRESS(Данные!$A41,AR$1,1,1,"Данные"), 1),2) -> 4021.95 | AS49: =(AQ49-AQ47)*AS$10 -> 1500 | AT49: =(AR49-AR47)*AS$10 -> 120 | AU49: =ROUND(INDIRECT(ADDRESS(Данные!$A41,AU$1,1,1,"Данные"), 1),2) -> 2789.65 | AV49: =ROUND(INDIRECT(ADDRESS(Данные!$A41,AV$1,1,1,"Данные"), 1),2) -> 1238.44 | AW49: =(AU49-AU47)*AW$10 -> 72 | AX49: =(AV49-AV47)*AW$10 -> 6 | AY49: =INDIRECT(ADDRESS(Данные!$A41,4,1,1,"Данные"), 1) -> 45280.708 | AZ49: =ROUND(INDIRECT(ADDRESS(Данные!$A41,AZ$1,1,1,"Данные"), 1),2) -> 2535.3 | BA49: =ROUND(INDIRECT(ADDRESS(Данные!$A41,BA$1,1,1,"Данные"), 1),2) -> 0 | BB49: =(AZ49-AZ47)*BB$10 -> 135 | BC49: =(BA49-BA47)*BB$10 -> 0 | BD49: =ROUND(INDIRECT(ADDRESS(Данные!$A41,BD$1,1,1,"Данные"), 1),2) -> 7203.04 | BE49: =ROUND(INDIRECT(ADDRESS(Данные!$A41,BE$1,1,1,"Данные"), 1),2) -> 4699.24 | BF49: =(BD49-BD47)*BF$10 -> 84 | BG49: =(BE49-BE47)*BF$10 -> 66 | BH49: =ROUND(INDIRECT(ADDRESS(Данные!$A41,BH$1,1,1,"Данные"), 1),2) -> 89.23 | BI49: =ROUND(INDIRECT(ADDRESS(Данные!$A41,BI$1,1,1,"Данные"), 1),2) -> 52.02 | BJ49: =(BH49-BH47)*BJ$10 -> 0 | BK49: =(BI49-BI47)*BJ$10 -> 0 | BL49: =ROUND(INDIRECT(ADDRESS(Данные!$A41,BL$1,1,1,"Данные"), 1),2) -> 1238.44 | BM49: =ROUND(INDIRECT(ADDRESS(Данные!$A41,BM$1,1,1,"Данные"), 1),2) -> 1238.44 | BN49: =(BL49-BL47)*BN$10 -> 6 | BO49: =(BM49-BM47)*BN$10 -> 6 | BP49: =ROUND(INDIRECT(ADDRESS(Данные!$A41,BP$1,1,1,"Данные"), 1),2) -> 7616.71 | BQ49: =ROUND(INDIRECT(ADDRESS(Данные!$A41,BQ$1,1,1,"Данные"), 1),2) -> 2343.06 | BR49: =(BP49-BP47)*BR$10 -> 640 | BS49: =(BQ49-BQ47)*BR$10 -> 280 | BT49: =ROUND(INDIRECT(ADDRESS(Данные!$A41,BT$1,1,1,"Данные"), 1),2) -> 107.63 | BU49: =ROUND(INDIRECT(ADDRESS(Данные!$A41,BU$1,1,1,"Данные"), 1),2) -> 6.96 | BV49: =(BT49-BT47)*BV$10 -> 0 | BW49: =(BU49-BU47)*BV$10 -> 0 | BX49: =$A49 -> 45280.708 | BY49: =D49+H49+L49+P49+T49+X49+AC49+AG49+AK49+AO49+AS49+AW49+ BB49+BJ49+BF49+BN49+BR49+BV49 -> 12337 | BZ49: =E49+I49+M49+Q49+U49+Y49+AD49+AH49+AL49+AP49+AT49+AX49+ BC49+BK49+BG49+BO49+BS49+BW49 -> 2158
A50: =INDIRECT(ADDRESS(Данные!$A42,4,1,1,"Данные"), 1) -> 45280.729 | B50: =ROUND(INDIRECT(ADDRESS(Данные!$A42,B$1,1,1,"Данные"), 1),2) -> 12177.78 | C50: =ROUND(INDIRECT(ADDRESS(Данные!$A42,C$1,1,1,"Данные"), 1),2) -> 5255.05 | D50: =(B50-B49)*D$10 -> 480 | E50: =(C50-C49)*D$10 -> 120 | F50: =ROUND(INDIRECT(ADDRESS(Данные!$A42,F$1,1,1,"Данные"), 1),2) -> 41024.19 | G50: =ROUND(INDIRECT(ADDRESS(Данные!$A42,G$1,1,1,"Данные"), 1),2) -> 9016.63 | H50: =(F50-F49)*H$10 -> 800 | I50: =(G50-G49)*H$10 -> 80 | J50: =ROUND(INDIRECT(ADDRESS(Данные!$A42,J$1,1,1,"Данные"), 1),2) -> 16052.05 | K50: =ROUND(INDIRECT(ADDRESS(Данные!$A42,K$1,1,1,"Данные"), 1),2) -> 3848.24 | L50: =(J50-J49)*L$10 -> 520 | M50: =(K50-K49)*L$10 -> 40 | N50: =ROUND(INDIRECT(ADDRESS(Данные!$A42,N$1,1,1,"Данные"), 1),2) -> 6370.97 | O50: =ROUND(INDIRECT(ADDRESS(Данные!$A42,O$1,1,1,"Данные"), 1),2) -> 1168.32 | P50: =(N50-N49)*P$10 -> 520 | Q50: =(O50-O49)*P$10 -> 40 | R50: =ROUND(INDIRECT(ADDRESS(Данные!$A42,R$1,1,1,"Данные"), 1),2) -> 6466.32 | S50: =ROUND(INDIRECT(ADDRESS(Данные!$A42,S$1,1,1,"Данные"), 1),2) -> 3043.72 | T50: =(R50-R49)*T$10 -> 520 | U50: =(S50-S49)*T$10 -> 160 | V50: =ROUND(INDIRECT(ADDRESS(Данные!$A42,V$1,1,1,"Данные"), 1),2) -> 3098.71 | W50: =ROUND(INDIRECT(ADDRESS(Данные!$A42,W$1,1,1,"Данные"), 1),2) -> 1217.61 | X50: =(V50-V49)*X$10 -> 80 | Y50: =(W50-W49)*X$10 -> 0 | Z50: =INDIRECT(ADDRESS(Данные!$A42,4,1,1,"Данные"), 1) -> 45280.729 | AA50: =ROUND(INDIRECT(ADDRESS(Данные!$A42,AA$1,1,1,"Данные"), 1),2) -> 14079.8 | AB50: =ROUND(INDIRECT(ADDRESS(Данные!$A42,AB$1,1,1,"Данные"), 1),2) -> 2864.41 | AC50: =(AA50-AA49)*AC$10 -> 800 | AD50: =(AB50-AB49)*AC$10 -> 40 | AE50: =ROUND(INDIRECT(ADDRESS(Данные!$A42,AE$1,1,1,"Данные"), 1),2) -> 14165.07 | AF50: =ROUND(INDIRECT(ADDRESS(Данные!$A42,AF$1,1,1,"Данные"), 1),2) -> 4580.19 | AG50: =(AE50-AE49)*AG$10 -> 540 | AH50: =(AF50-AF49)*AG$10 -> 240 | AI50: =ROUND(INDIRECT(ADDRESS(Данные!$A42,AI$1,1,1,"Данные"), 1),2) -> 1362.26 | AJ50: =ROUND(INDIRECT(ADDRESS(Данные!$A42,AJ$1,1,1,"Данные"), 1),2) -> 388.38 | AK50: =(AI50-AI49)*AK$10 -> 680 | AL50: =(AJ50-AJ49)*AK$10 -> 80 | AM50: =ROUND(INDIRECT(ADDRESS(Данные!$A42,AM$1,1,1,"Данные"), 1),2) -> 19418.54 | AN50: =ROUND(INDIRECT(ADDRESS(Данные!$A42,AN$1,1,1,"Данные"), 1),2) -> 7651.26 | AO50: =(AM50-AM49)*AO$10 -> 600 | AP50: =(AN50-AN49)*AO$10 -> 120 | AQ50: =ROUND(INDIRECT(ADDRESS(Данные!$A42,AQ$1,1,1,"Данные"), 1),2) -> 15515.18 | AR50: =ROUND(INDIRECT(ADDRESS(Данные!$A42,AR$1,1,1,"Данные"), 1),2) -> 4021.97 | AS50: =(AQ50-AQ49)*AS$10 -> 840 | AT50: =(AR50-AR49)*AS$10 -> 120 | AU50: =ROUND(INDIRECT(ADDRESS(Данные!$A42,AU$1,1,1,"Данные"), 1),2) -> 2789.71 | AV50: =ROUND(INDIRECT(ADDRESS(Данные!$A42,AV$1,1,1,"Данные"), 1),2) -> 1238.45 | AW50: =(AU50-AU49)*AW$10 -> 36 | AX50: =(AV50-AV49)*AW$10 -> 6 | AY50: =INDIRECT(ADDRESS(Данные!$A42,4,1,1,"Данные"), 1) -> 45280.729 | AZ50: =ROUND(INDIRECT(ADDRESS(Данные!$A42,AZ$1,1,1,"Данные"), 1),2) -> 2535.52 | BA50: =ROUND(INDIRECT(ADDRESS(Данные!$A42,BA$1,1,1,"Данные"), 1),2) -> 0 | BB50: =(AZ50-AZ49)*BB$10 -> 66 | BC50: =(BA50-BA49)*BB$10 -> 0 | BD50: =ROUND(INDIRECT(ADDRESS(Данные!$A42,BD$1,1,1,"Данные"), 1),2) -> 7203.1 | BE50: =ROUND(INDIRECT(ADDRESS(Данные!$A42,BE$1,1,1,"Данные"), 1),2) -> 4699.28 | BF50: =(BD50-BD49)*BF$10 -> 36 | BG50: =(BE50-BE49)*BF$10 -> 24 | BH50: =ROUND(INDIRECT(ADDRESS(Данные!$A42,BH$1,1,1,"Данные"), 1),2) -> 89.23 | BI50: =ROUND(INDIRECT(ADDRESS(Данные!$A42,BI$1,1,1,"Данные"), 1),2) -> 52.02 | BJ50: =(BH50-BH49)*BJ$10 -> 0 | BK50: =(BI50-BI49)*BJ$10 -> 0 | BL50: =ROUND(INDIRECT(ADDRESS(Данные!$A42,BL$1,1,1,"Данные"), 1),2) -> 1238.45 | BM50: =ROUND(INDIRECT(ADDRESS(Данные!$A42,BM$1,1,1,"Данные"), 1),2) -> 1238.45 | BN50: =(BL50-BL49)*BN$10 -> 6 | BO50: =(BM50-BM49)*BN$10 -> 6 | BP50: =ROUND(INDIRECT(ADDRESS(Данные!$A42,BP$1,1,1,"Данные"), 1),2) -> 7616.71 | BQ50: =ROUND(INDIRECT(ADDRESS(Данные!$A42,BQ$1,1,1,"Данные"), 1),2) -> 2343.06 | BR50: =(BP50-BP49)*BR$10 -> 0 | BS50: =(BQ50-BQ49)*BR$10 -> 0 | BT50: =ROUND(INDIRECT(ADDRESS(Данные!$A42,BT$1,1,1,"Данные"), 1),2) -> 107.63 | BU50: =ROUND(INDIRECT(ADDRESS(Данные!$A42,BU$1,1,1,"Данные"), 1),2) -> 6.96 | BV50: =(BT50-BT49)*BV$10 -> 0 | BW50: =(BU50-BU49)*BV$10 -> 0 | BX50: =$A50 -> 45280.729 | BY50: =D50+H50+L50+P50+T50+X50+AC50+AG50+AK50+AO50+AS50+AW50+ BB50+BJ50+BF50+BN50+BR50+BV50 -> 6524 | BZ50: =E50+I50+M50+Q50+U50+Y50+AD50+AH50+AL50+AP50+AT50+AX50+ BC50+BK50+BG50+BO50+BS50+BW50 -> 1076
A51: =INDIRECT(ADDRESS(Данные!$A43,4,1,1,"Данные"), 1) -> 45280.75 | B51: =ROUND(INDIRECT(ADDRESS(Данные!$A43,B$1,1,1,"Данные"), 1),2) -> 12177.89 | C51: =ROUND(INDIRECT(ADDRESS(Данные!$A43,C$1,1,1,"Данные"), 1),2) -> 5255.07 | D51: =(B51-B49)*D$10 -> 920 | E51: =(C51-C49)*D$10 -> 200 | F51: =ROUND(INDIRECT(ADDRESS(Данные!$A43,F$1,1,1,"Данные"), 1),2) -> 41024.39 | G51: =ROUND(INDIRECT(ADDRESS(Данные!$A43,G$1,1,1,"Данные"), 1),2) -> 9016.65 | H51: =(F51-F49)*H$10 -> 1600 | I51: =(G51-G49)*H$10 -> 160 | J51: =ROUND(INDIRECT(ADDRESS(Данные!$A43,J$1,1,1,"Данные"), 1),2) -> 16052.18 | K51: =ROUND(INDIRECT(ADDRESS(Данные!$A43,K$1,1,1,"Данные"), 1),2) -> 3848.25 | L51: =(J51-J49)*L$10 -> 1040 | M51: =(K51-K49)*L$10 -> 80 | N51: =ROUND(INDIRECT(ADDRESS(Данные!$A43,N$1,1,1,"Данные"), 1),2) -> 6371.11 | O51: =ROUND(INDIRECT(ADDRESS(Данные!$A43,O$1,1,1,"Данные"), 1),2) -> 1168.33 | P51: =(N51-N49)*P$10 -> 1080 | Q51: =(O51-O49)*P$10 -> 80 | R51: =ROUND(INDIRECT(ADDRESS(Данные!$A43,R$1,1,1,"Данные"), 1),2) -> 6466.46 | S51: =ROUND(INDIRECT(ADDRESS(Данные!$A43,S$1,1,1,"Данные"), 1),2) -> 3043.78 | T51: =(R51-R49)*T$10 -> 1080 | U51: =(S51-S49)*T$10 -> 400 | V51: =ROUND(INDIRECT(ADDRESS(Данные!$A43,V$1,1,1,"Данные"), 1),2) -> 3098.73 | W51: =ROUND(INDIRECT(ADDRESS(Данные!$A43,W$1,1,1,"Данные"), 1),2) -> 1217.62 | X51: =(V51-V49)*X$10 -> 160 | Y51: =(W51-W49)*X$10 -> 40 | Z51: =INDIRECT(ADDRESS(Данные!$A43,4,1,1,"Данные"), 1) -> 45280.75 | AA51: =ROUND(INDIRECT(ADDRESS(Данные!$A43,AA$1,1,1,"Данные"), 1),2) -> 14080.01 | AB51: =ROUND(INDIRECT(ADDRESS(Данные!$A43,AB$1,1,1,"Данные"), 1),2) -> 2864.43 | AC51: =(AA51-AA49)*AC$10 -> 1640 | AD51: =(AB51-AB49)*AC$10 -> 120 | AE51: =ROUND(INDIRECT(ADDRESS(Данные!$A43,AE$1,1,1,"Данные"), 1),2) -> 14165.15 | AF51: =ROUND(INDIRECT(ADDRESS(Данные!$A43,AF$1,1,1,"Данные"), 1),2) -> 4580.22 | AG51: =(AE51-AE49)*AG$10 -> 1020 | AH51: =(AF51-AF49)*AG$10 -> 420 | AI51: =ROUND(INDIRECT(ADDRESS(Данные!$A43,AI$1,1,1,"Данные"), 1),2) -> 1362.43 | AJ51: =ROUND(INDIRECT(ADDRESS(Данные!$A43,AJ$1,1,1,"Данные"), 1),2) -> 388.4 | AK51: =(AI51-AI49)*AK$10 -> 1360 | AL51: =(AJ51-AJ49)*AK$10 -> 160 | AM51: =ROUND(INDIRECT(ADDRESS(Данные!$A43,AM$1,1,1,"Данные"), 1),2) -> 19418.7 | AN51: =ROUND(INDIRECT(ADDRESS(Данные!$A43,AN$1,1,1,"Данные"), 1),2) -> 7651.28 | AO51: =(AM51-AM49)*AO$10 -> 1240 | AP51: =(AN51-AN49)*AO$10 -> 200 | AQ51: =ROUND(INDIRECT(ADDRESS(Данные!$A43,AQ$1,1,1,"Данные"), 1),2) -> 15515.33 | AR51: =ROUND(INDIRECT(ADDRESS(Данные!$A43,AR$1,1,1,"Данные"), 1),2) -> 4021.98 | AS51: =(AQ51-AQ49)*AS$10 -> 1740 | AT51: =(AR51-AR49)*AS$10 -> 180 | AU51: =ROUND(INDIRECT(ADDRESS(Данные!$A43,AU$1,1,1,"Данные"), 1),2) -> 2789.78 | AV51: =ROUND(INDIRECT(ADDRESS(Данные!$A43,AV$1,1,1,"Данные"), 1),2) -> 1238.46 | AW51: =(AU51-AU49)*AW$10 -> 78 | AX51: =(AV51-AV49)*AW$10 -> 12 | AY51: =INDIRECT(ADDRESS(Данные!$A43,4,1,1,"Данные"), 1) -> 45280.75 | AZ51: =ROUND(INDIRECT(ADDRESS(Данные!$A43,AZ$1,1,1,"Данные"), 1),2) -> 2535.74 | BA51: =ROUND(INDIRECT(ADDRESS(Данные!$A43,BA$1,1,1,"Данные"), 1),2) -> 0 | BB51: =(AZ51-AZ49)*BB$10 -> 132 | BC51: =(BA51-BA49)*BB$10 -> 0 | BD51: =ROUND(INDIRECT(ADDRESS(Данные!$A43,BD$1,1,1,"Данные"), 1),2) -> 7203.22 | BE51: =ROUND(INDIRECT(ADDRESS(Данные!$A43,BE$1,1,1,"Данные"), 1),2) -> 4699.39 | BF51: =(BD51-BD49)*BF$10 -> 108 | BG51: =(BE51-BE49)*BF$10 -> 90 | BH51: =ROUND(INDIRECT(ADDRESS(Данные!$A43,BH$1,1,1,"Данные"), 1),2) -> 89.23 | BI51: =ROUND(INDIRECT(ADDRESS(Данные!$A43,BI$1,1,1,"Данные"), 1),2) -> 52.02 | BJ51: =(BH51-BH49)*BJ$10 -> 0 | BK51: =(BI51-BI49)*BJ$10 -> 0 | BL51: =ROUND(INDIRECT(ADDRESS(Данные!$A43,BL$1,1,1,"Данные"), 1),2) -> 1238.46 | BM51: =ROUND(INDIRECT(ADDRESS(Данные!$A43,BM$1,1,1,"Данные"), 1),2) -> 1238.46 | BN51: =(BL51-BL49)*BN$10 -> 12 | BO51: =(BM51-BM49)*BN$10 -> 12 | BP51: =ROUND(INDIRECT(ADDRESS(Данные!$A43,BP$1,1,1,"Данные"), 1),2) -> 7616.71 | BQ51: =ROUND(INDIRECT(ADDRESS(Данные!$A43,BQ$1,1,1,"Данные"), 1),2) -> 2343.06 | BR51: =(BP51-BP49)*BR$10 -> 0 | BS51: =(BQ51-BQ49)*BR$10 -> 0 | BT51: =ROUND(INDIRECT(ADDRESS(Данные!$A43,BT$1,1,1,"Данные"), 1),2) -> 107.63 | BU51: =ROUND(INDIRECT(ADDRESS(Данные!$A43,BU$1,1,1,"Данные"), 1),2) -> 6.96 | BV51: =(BT51-BT49)*BV$10 -> 0 | BW51: =(BU51-BU49)*BV$10 -> 0 | BX51: =$A51 -> 45280.75 | BY51: =D51+H51+L51+P51+T51+X51+AC51+AG51+AK51+AO51+AS51+AW51+ BB51+BJ51+BF51+BN51+BR51+BV51 -> 13210 | BZ51: =E51+I51+M51+Q51+U51+Y51+AD51+AH51+AL51+AP51+AT51+AX51+ BC51+BK51+BG51+BO51+BS51+BW51 -> 2154
A52: =INDIRECT(ADDRESS(Данные!$A44,4,1,1,"Данные"), 1) -> 45280.771 | B52: =ROUND(INDIRECT(ADDRESS(Данные!$A44,B$1,1,1,"Данные"), 1),2) -> 12178 | C52: =ROUND(INDIRECT(ADDRESS(Данные!$A44,C$1,1,1,"Данные"), 1),2) -> 5255.09 | D52: =(B52-B51)*D$10 -> 440 | E52: =(C52-C51)*D$10 -> 80 | F52: =ROUND(INDIRECT(ADDRESS(Данные!$A44,F$1,1,1,"Данные"), 1),2) -> 41024.6 | G52: =ROUND(INDIRECT(ADDRESS(Данные!$A44,G$1,1,1,"Данные"), 1),2) -> 9016.67 | H52: =(F52-F51)*H$10 -> 840 | I52: =(G52-G51)*H$10 -> 80 | J52: =ROUND(INDIRECT(ADDRESS(Данные!$A44,J$1,1,1,"Данные"), 1),2) -> 16052.31 | K52: =ROUND(INDIRECT(ADDRESS(Данные!$A44,K$1,1,1,"Данные"), 1),2) -> 3848.26 | L52: =(J52-J51)*L$10 -> 520 | M52: =(K52-K51)*L$10 -> 40 | N52: =ROUND(INDIRECT(ADDRESS(Данные!$A44,N$1,1,1,"Данные"), 1),2) -> 6371.25 | O52: =ROUND(INDIRECT(ADDRESS(Данные!$A44,O$1,1,1,"Данные"), 1),2) -> 1168.33 | P52: =(N52-N51)*P$10 -> 560 | Q52: =(O52-O51)*P$10 -> 0 | R52: =ROUND(INDIRECT(ADDRESS(Данные!$A44,R$1,1,1,"Данные"), 1),2) -> 6466.61 | S52: =ROUND(INDIRECT(ADDRESS(Данные!$A44,S$1,1,1,"Данные"), 1),2) -> 3043.83 | T52: =(R52-R51)*T$10 -> 600 | U52: =(S52-S51)*T$10 -> 200 | V52: =ROUND(INDIRECT(ADDRESS(Данные!$A44,V$1,1,1,"Данные"), 1),2) -> 3098.74 | W52: =ROUND(INDIRECT(ADDRESS(Данные!$A44,W$1,1,1,"Данные"), 1),2) -> 1217.62 | X52: =(V52-V51)*X$10 -> 40 | Y52: =(W52-W51)*X$10 -> 0 | Z52: =INDIRECT(ADDRESS(Данные!$A44,4,1,1,"Данные"), 1) -> 45280.771 | AA52: =ROUND(INDIRECT(ADDRESS(Данные!$A44,AA$1,1,1,"Данные"), 1),2) -> 14080.22 | AB52: =ROUND(INDIRECT(ADDRESS(Данные!$A44,AB$1,1,1,"Данные"), 1),2) -> 2864.45 | AC52: =(AA52-AA51)*AC$10 -> 840 | AD52: =(AB52-AB51)*AC$10 -> 80 | AE52: =ROUND(INDIRECT(ADDRESS(Данные!$A44,AE$1,1,1,"Данные"), 1),2) -> 14165.23 | AF52: =ROUND(INDIRECT(ADDRESS(Данные!$A44,AF$1,1,1,"Данные"), 1),2) -> 4580.25 | AG52: =(AE52-AE51)*AG$10 -> 480 | AH52: =(AF52-AF51)*AG$10 -> 180 | AI52: =ROUND(INDIRECT(ADDRESS(Данные!$A44,AI$1,1,1,"Данные"), 1),2) -> 1362.62 | AJ52: =ROUND(INDIRECT(ADDRESS(Данные!$A44,AJ$1,1,1,"Данные"), 1),2) -> 388.42 | AK52: =(AI52-AI51)*AK$10 -> 760 | AL52: =(AJ52-AJ51)*AK$10 -> 80 | AM52: =ROUND(INDIRECT(ADDRESS(Данные!$A44,AM$1,1,1,"Данные"), 1),2) -> 19418.86 | AN52: =ROUND(INDIRECT(ADDRESS(Данные!$A44,AN$1,1,1,"Данные"), 1),2) -> 7651.3 | AO52: =(AM52-AM51)*AO$10 -> 640 | AP52: =(AN52-AN51)*AO$10 -> 80 | AQ52: =ROUND(INDIRECT(ADDRESS(Данные!$A44,AQ$1,1,1,"Данные"), 1),2) -> 15515.47 | AR52: =ROUND(INDIRECT(ADDRESS(Данные!$A44,AR$1,1,1,"Данные"), 1),2) -> 4021.99 | AS52: =(AQ52-AQ51)*AS$10 -> 840 | AT52: =(AR52-AR51)*AS$10 -> 60 | AU52: =ROUND(INDIRECT(ADDRESS(Данные!$A44,AU$1,1,1,"Данные"), 1),2) -> 2789.84 | AV52: =ROUND(INDIRECT(ADDRESS(Данные!$A44,AV$1,1,1,"Данные"), 1),2) -> 1238.46 | AW52: =(AU52-AU51)*AW$10 -> 36 | AX52: =(AV52-AV51)*AW$10 -> 0 | AY52: =INDIRECT(ADDRESS(Данные!$A44,4,1,1,"Данные"), 1) -> 45280.771 | AZ52: =ROUND(INDIRECT(ADDRESS(Данные!$A44,AZ$1,1,1,"Данные"), 1),2) -> 2535.97 | BA52: =ROUND(INDIRECT(ADDRESS(Данные!$A44,BA$1,1,1,"Данные"), 1),2) -> 0 | BB52: =(AZ52-AZ51)*BB$10 -> 69 | BC52: =(BA52-BA51)*BB$10 -> 0 | BD52: =ROUND(INDIRECT(ADDRESS(Данные!$A44,BD$1,1,1,"Данные"), 1),2) -> 7203.27 | BE52: =ROUND(INDIRECT(ADDRESS(Данные!$A44,BE$1,1,1,"Данные"), 1),2) -> 4699.42 | BF52: =(BD52-BD51)*BF$10 -> 30 | BG52: =(BE52-BE51)*BF$10 -> 18 | BH52: =ROUND(INDIRECT(ADDRESS(Данные!$A44,BH$1,1,1,"Данные"), 1),2) -> 89.23 | BI52: =ROUND(INDIRECT(ADDRESS(Данные!$A44,BI$1,1,1,"Данные"), 1),2) -> 52.02 | BJ52: =(BH52-BH51)*BJ$10 -> 0 | BK52: =(BI52-BI51)*BJ$10 -> 0 | BL52: =ROUND(INDIRECT(ADDRESS(Данные!$A44,BL$1,1,1,"Данные"), 1),2) -> 1238.46 | BM52: =ROUND(INDIRECT(ADDRESS(Данные!$A44,BM$1,1,1,"Данные"), 1),2) -> 1238.46 | BN52: =(BL52-BL51)*BN$10 -> 0 | BO52: =(BM52-BM51)*BN$10 -> 0 | BP52: =ROUND(INDIRECT(ADDRESS(Данные!$A44,BP$1,1,1,"Данные"), 1),2) -> 7616.71 | BQ52: =ROUND(INDIRECT(ADDRESS(Данные!$A44,BQ$1,1,1,"Данные"), 1),2) -> 2343.06 | BR52: =(BP52-BP51)*BR$10 -> 0 | BS52: =(BQ52-BQ51)*BR$10 -> 0 | BT52: =ROUND(INDIRECT(ADDRESS(Данные!$A44,BT$1,1,1,"Данные"), 1),2) -> 107.63 | BU52: =ROUND(INDIRECT(ADDRESS(Данные!$A44,BU$1,1,1,"Данные"), 1),2) -> 6.96 | BV52: =(BT52-BT51)*BV$10 -> 0 | BW52: =(BU52-BU51)*BV$10 -> 0 | BX52: =$A52 -> 45280.771 | BY52: =D52+H52+L52+P52+T52+X52+AC52+AG52+AK52+AO52+AS52+AW52+ BB52+BJ52+BF52+BN52+BR52+BV52 -> 6695 | BZ52: =E52+I52+M52+Q52+U52+Y52+AD52+AH52+AL52+AP52+AT52+AX52+ BC52+BK52+BG52+BO52+BS52+BW52 -> 898
A53: =INDIRECT(ADDRESS(Данные!$A45,4,1,1,"Данные"), 1) -> 45280.792 | B53: =ROUND(INDIRECT(ADDRESS(Данные!$A45,B$1,1,1,"Данные"), 1),2) -> 12178.11 | C53: =ROUND(INDIRECT(ADDRESS(Данные!$A45,C$1,1,1,"Данные"), 1),2) -> 5255.11 | D53: =(B53-B51)*D$10 -> 880 | E53: =(C53-C51)*D$10 -> 160 | F53: =ROUND(INDIRECT(ADDRESS(Данные!$A45,F$1,1,1,"Данные"), 1),2) -> 41024.83 | G53: =ROUND(INDIRECT(ADDRESS(Данные!$A45,G$1,1,1,"Данные"), 1),2) -> 9016.7 | H53: =(F53-F51)*H$10 -> 1760 | I53: =(G53-G51)*H$10 -> 200 | J53: =ROUND(INDIRECT(ADDRESS(Данные!$A45,J$1,1,1,"Данные"), 1),2) -> 16052.44 | K53: =ROUND(INDIRECT(ADDRESS(Данные!$A45,K$1,1,1,"Данные"), 1),2) -> 3848.27 | L53: =(J53-J51)*L$10 -> 1040 | M53: =(K53-K51)*L$10 -> 80 | N53: =ROUND(INDIRECT(ADDRESS(Данные!$A45,N$1,1,1,"Данные"), 1),2) -> 6371.39 | O53: =ROUND(INDIRECT(ADDRESS(Данные!$A45,O$1,1,1,"Данные"), 1),2) -> 1168.34 | P53: =(N53-N51)*P$10 -> 1120 | Q53: =(O53-O51)*P$10 -> 40 | R53: =ROUND(INDIRECT(ADDRESS(Данные!$A45,R$1,1,1,"Данные"), 1),2) -> 6466.77 | S53: =ROUND(INDIRECT(ADDRESS(Данные!$A45,S$1,1,1,"Данные"), 1),2) -> 3043.89 | T53: =(R53-R51)*T$10 -> 1240 | U53: =(S53-S51)*T$10 -> 440 | V53: =ROUND(INDIRECT(ADDRESS(Данные!$A45,V$1,1,1,"Данные"), 1),2) -> 3098.76 | W53: =ROUND(INDIRECT(ADDRESS(Данные!$A45,W$1,1,1,"Данные"), 1),2) -> 1217.62 | X53: =(V53-V51)*X$10 -> 120 | Y53: =(W53-W51)*X$10 -> 0 | Z53: =INDIRECT(ADDRESS(Данные!$A45,4,1,1,"Данные"), 1) -> 45280.792 | AA53: =ROUND(INDIRECT(ADDRESS(Данные!$A45,AA$1,1,1,"Данные"), 1),2) -> 14080.44 | AB53: =ROUND(INDIRECT(ADDRESS(Данные!$A45,AB$1,1,1,"Данные"), 1),2) -> 2864.46 | AC53: =(AA53-AA51)*AC$10 -> 1720 | AD53: =(AB53-AB51)*AC$10 -> 120 | AE53: =ROUND(INDIRECT(ADDRESS(Данные!$A45,AE$1,1,1,"Данные"), 1),2) -> 14165.31 | AF53: =ROUND(INDIRECT(ADDRESS(Данные!$A45,AF$1,1,1,"Данные"), 1),2) -> 4580.29 | AG53: =(AE53-AE51)*AG$10 -> 960 | AH53: =(AF53-AF51)*AG$10 -> 420 | AI53: =ROUND(INDIRECT(ADDRESS(Данные!$A45,AI$1,1,1,"Данные"), 1),2) -> 1362.81 | AJ53: =ROUND(INDIRECT(ADDRESS(Данные!$A45,AJ$1,1,1,"Данные"), 1),2) -> 388.44 | AK53: =(AI53-AI51)*AK$10 -> 1520 | AL53: =(AJ53-AJ51)*AK$10 -> 160 | AM53: =ROUND(INDIRECT(ADDRESS(Данные!$A45,AM$1,1,1,"Данные"), 1),2) -> 19419.02 | AN53: =ROUND(INDIRECT(ADDRESS(Данные!$A45,AN$1,1,1,"Данные"), 1),2) -> 7651.33 | AO53: =(AM53-AM51)*AO$10 -> 1280 | AP53: =(AN53-AN51)*AO$10 -> 200 | AQ53: =ROUND(INDIRECT(ADDRESS(Данные!$A45,AQ$1,1,1,"Данные"), 1),2) -> 15515.61 | AR53: =ROUND(INDIRECT(ADDRESS(Данные!$A45,AR$1,1,1,"Данные"), 1),2) -> 4022 | AS53: =(AQ53-AQ51)*AS$10 -> 1680 | AT53: =(AR53-AR51)*AS$10 -> 120 | AU53: =ROUND(INDIRECT(ADDRESS(Данные!$A45,AU$1,1,1,"Данные"), 1),2) -> 2789.9 | AV53: =ROUND(INDIRECT(ADDRESS(Данные!$A45,AV$1,1,1,"Данные"), 1),2) -> 1238.47 | AW53: =(AU53-AU51)*AW$10 -> 72 | AX53: =(AV53-AV51)*AW$10 -> 6 | AY53: =INDIRECT(ADDRESS(Данные!$A45,4,1,1,"Данные"), 1) -> 45280.792 | AZ53: =ROUND(INDIRECT(ADDRESS(Данные!$A45,AZ$1,1,1,"Данные"), 1),2) -> 2536.2 | BA53: =ROUND(INDIRECT(ADDRESS(Данные!$A45,BA$1,1,1,"Данные"), 1),2) -> 0 | BB53: =(AZ53-AZ51)*BB$10 -> 138 | BC53: =(BA53-BA51)*BB$10 -> 0 | BD53: =ROUND(INDIRECT(ADDRESS(Данные!$A45,BD$1,1,1,"Данные"), 1),2) -> 7203.3 | BE53: =ROUND(INDIRECT(ADDRESS(Данные!$A45,BE$1,1,1,"Данные"), 1),2) -> 4699.42 | BF53: =(BD53-BD51)*BF$10 -> 48 | BG53: =(BE53-BE51)*BF$10 -> 18 | BH53: =ROUND(INDIRECT(ADDRESS(Данные!$A45,BH$1,1,1,"Данные"), 1),2) -> 89.23 | BI53: =ROUND(INDIRECT(ADDRESS(Данные!$A45,BI$1,1,1,"Данные"), 1),2) -> 52.02 | BJ53: =(BH53-BH51)*BJ$10 -> 0 | BK53: =(BI53-BI51)*BJ$10 -> 0 | BL53: =ROUND(INDIRECT(ADDRESS(Данные!$A45,BL$1,1,1,"Данные"), 1),2) -> 1238.47 | BM53: =ROUND(INDIRECT(ADDRESS(Данные!$A45,BM$1,1,1,"Данные"), 1),2) -> 1238.47 | BN53: =(BL53-BL51)*BN$10 -> 6 | BO53: =(BM53-BM51)*BN$10 -> 6 | BP53: =ROUND(INDIRECT(ADDRESS(Данные!$A45,BP$1,1,1,"Данные"), 1),2) -> 7616.71 | BQ53: =ROUND(INDIRECT(ADDRESS(Данные!$A45,BQ$1,1,1,"Данные"), 1),2) -> 2343.06 | BR53: =(BP53-BP51)*BR$10 -> 0 | BS53: =(BQ53-BQ51)*BR$10 -> 0 | BT53: =ROUND(INDIRECT(ADDRESS(Данные!$A45,BT$1,1,1,"Данные"), 1),2) -> 107.63 | BU53: =ROUND(INDIRECT(ADDRESS(Данные!$A45,BU$1,1,1,"Данные"), 1),2) -> 6.96 | BV53: =(BT53-BT51)*BV$10 -> 0 | BW53: =(BU53-BU51)*BV$10 -> 0 | BX53: =$A53 -> 45280.792 | BY53: =D53+H53+L53+P53+T53+X53+AC53+AG53+AK53+AO53+AS53+AW53+ BB53+BJ53+BF53+BN53+BR53+BV53 -> 13584 | BZ53: =E53+I53+M53+Q53+U53+Y53+AD53+AH53+AL53+AP53+AT53+AX53+ BC53+BK53+BG53+BO53+BS53+BW53 -> 1970
A54: =INDIRECT(ADDRESS(Данные!$A46,4,1,1,"Данные"), 1) -> 45280.812 | B54: =ROUND(INDIRECT(ADDRESS(Данные!$A46,B$1,1,1,"Данные"), 1),2) -> 12178.23 | C54: =ROUND(INDIRECT(ADDRESS(Данные!$A46,C$1,1,1,"Данные"), 1),2) -> 5255.14 | D54: =(B54-B53)*D$10 -> 480 | E54: =(C54-C53)*D$10 -> 120 | F54: =ROUND(INDIRECT(ADDRESS(Данные!$A46,F$1,1,1,"Данные"), 1),2) -> 41025.05 | G54: =ROUND(INDIRECT(ADDRESS(Данные!$A46,G$1,1,1,"Данные"), 1),2) -> 9016.72 | H54: =(F54-F53)*H$10 -> 880 | I54: =(G54-G53)*H$10 -> 80 | J54: =ROUND(INDIRECT(ADDRESS(Данные!$A46,J$1,1,1,"Данные"), 1),2) -> 16052.58 | K54: =ROUND(INDIRECT(ADDRESS(Данные!$A46,K$1,1,1,"Данные"), 1),2) -> 3848.29 | L54: =(J54-J53)*L$10 -> 560 | M54: =(K54-K53)*L$10 -> 80 | N54: =ROUND(INDIRECT(ADDRESS(Данные!$A46,N$1,1,1,"Данные"), 1),2) -> 6371.54 | O54: =ROUND(INDIRECT(ADDRESS(Данные!$A46,O$1,1,1,"Данные"), 1),2) -> 1168.35 | P54: =(N54-N53)*P$10 -> 600 | Q54: =(O54-O53)*P$10 -> 40 | R54: =ROUND(INDIRECT(ADDRESS(Данные!$A46,R$1,1,1,"Данные"), 1),2) -> 6466.93 | S54: =ROUND(INDIRECT(ADDRESS(Данные!$A46,S$1,1,1,"Данные"), 1),2) -> 3043.95 | T54: =(R54-R53)*T$10 -> 640 | U54: =(S54-S53)*T$10 -> 240 | V54: =ROUND(INDIRECT(ADDRESS(Данные!$A46,V$1,1,1,"Данные"), 1),2) -> 3098.78 | W54: =ROUND(INDIRECT(ADDRESS(Данные!$A46,W$1,1,1,"Данные"), 1),2) -> 1217.63 | X54: =(V54-V53)*X$10 -> 80 | Y54: =(W54-W53)*X$10 -> 40 | Z54: =INDIRECT(ADDRESS(Данные!$A46,4,1,1,"Данные"), 1) -> 45280.812 | AA54: =ROUND(INDIRECT(ADDRESS(Данные!$A46,AA$1,1,1,"Данные"), 1),2) -> 14080.65 | AB54: =ROUND(INDIRECT(ADDRESS(Данные!$A46,AB$1,1,1,"Данные"), 1),2) -> 2864.48 | AC54: =(AA54-AA53)*AC$10 -> 840 | AD54: =(AB54-AB53)*AC$10 -> 80 | AE54: =ROUND(INDIRECT(ADDRESS(Данные!$A46,AE$1,1,1,"Данные"), 1),2) -> 14165.39 | AF54: =ROUND(INDIRECT(ADDRESS(Данные!$A46,AF$1,1,1,"Данные"), 1),2) -> 4580.33 | AG54: =(AE54-AE53)*AG$10 -> 480 | AH54: =(AF54-AF53)*AG$10 -> 240 | AI54: =ROUND(INDIRECT(ADDRESS(Данные!$A46,AI$1,1,1,"Данные"), 1),2) -> 1363 | AJ54: =ROUND(INDIRECT(ADDRESS(Данные!$A46,AJ$1,1,1,"Данные"), 1),2) -> 388.45 | AK54: =(AI54-AI53)*AK$10 -> 760 | AL54: =(AJ54-AJ53)*AK$10 -> 40 | AM54: =ROUND(INDIRECT(ADDRESS(Данные!$A46,AM$1,1,1,"Данные"), 1),2) -> 19419.18 | AN54: =ROUND(INDIRECT(ADDRESS(Данные!$A46,AN$1,1,1,"Данные"), 1),2) -> 7651.35 | AO54: =(AM54-AM53)*AO$10 -> 640 | AP54: =(AN54-AN53)*AO$10 -> 80 | AQ54: =ROUND(INDIRECT(ADDRESS(Данные!$A46,AQ$1,1,1,"Данные"), 1),2) -> 15515.75 | AR54: =ROUND(INDIRECT(ADDRESS(Данные!$A46,AR$1,1,1,"Данные"), 1),2) -> 4022.02 | AS54: =(AQ54-AQ53)*AS$10 -> 840 | AT54: =(AR54-AR53)*AS$10 -> 120 | AU54: =ROUND(INDIRECT(ADDRESS(Данные!$A46,AU$1,1,1,"Данные"), 1),2) -> 2789.97 | AV54: =ROUND(INDIRECT(ADDRESS(Данные!$A46,AV$1,1,1,"Данные"), 1),2) -> 1238.47 | AW54: =(AU54-AU53)*AW$10 -> 42 | AX54: =(AV54-AV53)*AW$10 -> 0 | AY54: =INDIRECT(ADDRESS(Данные!$A46,4,1,1,"Данные"), 1) -> 45280.812 | AZ54: =ROUND(INDIRECT(ADDRESS(Данные!$A46,AZ$1,1,1,"Данные"), 1),2) -> 2536.43 | BA54: =ROUND(INDIRECT(ADDRESS(Данные!$A46,BA$1,1,1,"Данные"), 1),2) -> 0 | BB54: =(AZ54-AZ53)*BB$10 -> 69 | BC54: =(BA54-BA53)*BB$10 -> 0 | BD54: =ROUND(INDIRECT(ADDRESS(Данные!$A46,BD$1,1,1,"Данные"), 1),2) -> 7203.34 | BE54: =ROUND(INDIRECT(ADDRESS(Данные!$A46,BE$1,1,1,"Данные"), 1),2) -> 4699.43 | BF54: =(BD54-BD53)*BF$10 -> 24 | BG54: =(BE54-BE53)*BF$10 -> 6 | BH54: =ROUND(INDIRECT(ADDRESS(Данные!$A46,BH$1,1,1,"Данные"), 1),2) -> 89.23 | BI54: =ROUND(INDIRECT(ADDRESS(Данные!$A46,BI$1,1,1,"Данные"), 1),2) -> 52.02 | BJ54: =(BH54-BH53)*BJ$10 -> 0 | BK54: =(BI54-BI53)*BJ$10 -> 0 | BL54: =ROUND(INDIRECT(ADDRESS(Данные!$A46,BL$1,1,1,"Данные"), 1),2) -> 1238.47 | BM54: =ROUND(INDIRECT(ADDRESS(Данные!$A46,BM$1,1,1,"Данные"), 1),2) -> 1238.47 | BN54: =(BL54-BL53)*BN$10 -> 0 | BO54: =(BM54-BM53)*BN$10 -> 0 | BP54: =ROUND(INDIRECT(ADDRESS(Данные!$A46,BP$1,1,1,"Данные"), 1),2) -> 7616.71 | BQ54: =ROUND(INDIRECT(ADDRESS(Данные!$A46,BQ$1,1,1,"Данные"), 1),2) -> 2343.06 | BR54: =(BP54-BP53)*BR$10 -> 0 | BS54: =(BQ54-BQ53)*BR$10 -> 0 | BT54: =ROUND(INDIRECT(ADDRESS(Данные!$A46,BT$1,1,1,"Данные"), 1),2) -> 107.63 | BU54: =ROUND(INDIRECT(ADDRESS(Данные!$A46,BU$1,1,1,"Данные"), 1),2) -> 6.96 | BV54: =(BT54-BT53)*BV$10 -> 0 | BW54: =(BU54-BU53)*BV$10 -> 0 | BX54: =$A54 -> 45280.812 | BY54: =D54+H54+L54+P54+T54+X54+AC54+AG54+AK54+AO54+AS54+AW54+ BB54+BJ54+BF54+BN54+BR54+BV54 -> 6935 | BZ54: =E54+I54+M54+Q54+U54+Y54+AD54+AH54+AL54+AP54+AT54+AX54+ BC54+BK54+BG54+BO54+BS54+BW54 -> 1166
A55: =INDIRECT(ADDRESS(Данные!$A47,4,1,1,"Данные"), 1) -> 45280.833 | B55: =ROUND(INDIRECT(ADDRESS(Данные!$A47,B$1,1,1,"Данные"), 1),2) -> 12178.34 | C55: =ROUND(INDIRECT(ADDRESS(Данные!$A47,C$1,1,1,"Данные"), 1),2) -> 5255.16 | D55: =(B55-B53)*D$10 -> 920 | E55: =(C55-C53)*D$10 -> 200 | F55: =ROUND(INDIRECT(ADDRESS(Данные!$A47,F$1,1,1,"Данные"), 1),2) -> 41025.27 | G55: =ROUND(INDIRECT(ADDRESS(Данные!$A47,G$1,1,1,"Данные"), 1),2) -> 9016.74 | H55: =(F55-F53)*H$10 -> 1760 | I55: =(G55-G53)*H$10 -> 160 | J55: =ROUND(INDIRECT(ADDRESS(Данные!$A47,J$1,1,1,"Данные"), 1),2) -> 16052.71 | K55: =ROUND(INDIRECT(ADDRESS(Данные!$A47,K$1,1,1,"Данные"), 1),2) -> 3848.3 | L55: =(J55-J53)*L$10 -> 1080 | M55: =(K55-K53)*L$10 -> 120 | N55: =ROUND(INDIRECT(ADDRESS(Данные!$A47,N$1,1,1,"Данные"), 1),2) -> 6371.68 | O55: =ROUND(INDIRECT(ADDRESS(Данные!$A47,O$1,1,1,"Данные"), 1),2) -> 1168.36 | P55: =(N55-N53)*P$10 -> 1160 | Q55: =(O55-O53)*P$10 -> 80 | R55: =ROUND(INDIRECT(ADDRESS(Данные!$A47,R$1,1,1,"Данные"), 1),2) -> 6467.09 | S55: =ROUND(INDIRECT(ADDRESS(Данные!$A47,S$1,1,1,"Данные"), 1),2) -> 3044 | T55: =(R55-R53)*T$10 -> 1280 | U55: =(S55-S53)*T$10 -> 440 | V55: =ROUND(INDIRECT(ADDRESS(Данные!$A47,V$1,1,1,"Данные"), 1),2) -> 3098.8 | W55: =ROUND(INDIRECT(ADDRESS(Данные!$A47,W$1,1,1,"Данные"), 1),2) -> 1217.63 | X55: =(V55-V53)*X$10 -> 160 | Y55: =(W55-W53)*X$10 -> 40 | Z55: =INDIRECT(ADDRESS(Данные!$A47,4,1,1,"Данные"), 1) -> 45280.833 | AA55: =ROUND(INDIRECT(ADDRESS(Данные!$A47,AA$1,1,1,"Данные"), 1),2) -> 14080.88 | AB55: =ROUND(INDIRECT(ADDRESS(Данные!$A47,AB$1,1,1,"Данные"), 1),2) -> 2864.5 | AC55: =(AA55-AA53)*AC$10 -> 1760 | AD55: =(AB55-AB53)*AC$10 -> 160 | AE55: =ROUND(INDIRECT(ADDRESS(Данные!$A47,AE$1,1,1,"Данные"), 1),2) -> 14165.47 | AF55: =ROUND(INDIRECT(ADDRESS(Данные!$A47,AF$1,1,1,"Данные"), 1),2) -> 4580.35 | AG55: =(AE55-AE53)*AG$10 -> 960 | AH55: =(AF55-AF53)*AG$10 -> 360 | AI55: =ROUND(INDIRECT(ADDRESS(Данные!$A47,AI$1,1,1,"Данные"), 1),2) -> 1363.18 | AJ55: =ROUND(INDIRECT(ADDRESS(Данные!$A47,AJ$1,1,1,"Данные"), 1),2) -> 388.47 | AK55: =(AI55-AI53)*AK$10 -> 1480 | AL55: =(AJ55-AJ53)*AK$10 -> 120 | AM55: =ROUND(INDIRECT(ADDRESS(Данные!$A47,AM$1,1,1,"Данные"), 1),2) -> 19419.35 | AN55: =ROUND(INDIRECT(ADDRESS(Данные!$A47,AN$1,1,1,"Данные"), 1),2) -> 7651.38 | AO55: =(AM55-AM53)*AO$10 -> 1320 | AP55: =(AN55-AN53)*AO$10 -> 200 | AQ55: =ROUND(INDIRECT(ADDRESS(Данные!$A47,AQ$1,1,1,"Данные"), 1),2) -> 15515.89 | AR55: =ROUND(INDIRECT(ADDRESS(Данные!$A47,AR$1,1,1,"Данные"), 1),2) -> 4022.03 | AS55: =(AQ55-AQ53)*AS$10 -> 1680 | AT55: =(AR55-AR53)*AS$10 -> 180 | AU55: =ROUND(INDIRECT(ADDRESS(Данные!$A47,AU$1,1,1,"Данные"), 1),2) -> 2790.03 | AV55: =ROUND(INDIRECT(ADDRESS(Данные!$A47,AV$1,1,1,"Данные"), 1),2) -> 1238.48 | AW55: =(AU55-AU53)*AW$10 -> 78 | AX55: =(AV55-AV53)*AW$10 -> 6 | AY55: =INDIRECT(ADDRESS(Данные!$A47,4,1,1,"Данные"), 1) -> 45280.833 | AZ55: =ROUND(INDIRECT(ADDRESS(Данные!$A47,AZ$1,1,1,"Данные"), 1),2) -> 2536.67 | BA55: =ROUND(INDIRECT(ADDRESS(Данные!$A47,BA$1,1,1,"Данные"), 1),2) -> 0 | BB55: =(AZ55-AZ53)*BB$10 -> 141 | BC55: =(BA55-BA53)*BB$10 -> 0 | BD55: =ROUND(INDIRECT(ADDRESS(Данные!$A47,BD$1,1,1,"Данные"), 1),2) -> 7203.38 | BE55: =ROUND(INDIRECT(ADDRESS(Данные!$A47,BE$1,1,1,"Данные"), 1),2) -> 4699.43 | BF55: =(BD55-BD53)*BF$10 -> 48 | BG55: =(BE55-BE53)*BF$10 -> 6 | BH55: =ROUND(INDIRECT(ADDRESS(Данные!$A47,BH$1,1,1,"Данные"), 1),2) -> 89.23 | BI55: =ROUND(INDIRECT(ADDRESS(Данные!$A47,BI$1,1,1,"Данные"), 1),2) -> 52.02 | BJ55: =(BH55-BH53)*BJ$10 -> 0 | BK55: =(BI55-BI53)*BJ$10 -> 0 | BL55: =ROUND(INDIRECT(ADDRESS(Данные!$A47,BL$1,1,1,"Данные"), 1),2) -> 1238.48 | BM55: =ROUND(INDIRECT(ADDRESS(Данные!$A47,BM$1,1,1,"Данные"), 1),2) -> 1238.48 | BN55: =(BL55-BL53)*BN$10 -> 6 | BO55: =(BM55-BM53)*BN$10 -> 6 | BP55: =ROUND(INDIRECT(ADDRESS(Данные!$A47,BP$1,1,1,"Данные"), 1),2) -> 7616.71 | BQ55: =ROUND(INDIRECT(ADDRESS(Данные!$A47,BQ$1,1,1,"Данные"), 1),2) -> 2343.06 | BR55: =(BP55-BP53)*BR$10 -> 0 | BS55: =(BQ55-BQ53)*BR$10 -> 0 | BT55: =ROUND(INDIRECT(ADDRESS(Данные!$A47,BT$1,1,1,"Данные"), 1),2) -> 107.63 | BU55: =ROUND(INDIRECT(ADDRESS(Данные!$A47,BU$1,1,1,"Данные"), 1),2) -> 6.96 | BV55: =(BT55-BT53)*BV$10 -> 0 | BW55: =(BU55-BU53)*BV$10 -> 0 | BX55: =$A55 -> 45280.833 | BY55: =D55+H55+L55+P55+T55+X55+AC55+AG55+AK55+AO55+AS55+AW55+ BB55+BJ55+BF55+BN55+BR55+BV55 -> 13833 | BZ55: =E55+I55+M55+Q55+U55+Y55+AD55+AH55+AL55+AP55+AT55+AX55+ BC55+BK55+BG55+BO55+BS55+BW55 -> 2078
A56: =INDIRECT(ADDRESS(Данные!$A48,4,1,1,"Данные"), 1) -> 45280.854 | B56: =ROUND(INDIRECT(ADDRESS(Данные!$A48,B$1,1,1,"Данные"), 1),2) -> 12178.45 | C56: =ROUND(INDIRECT(ADDRESS(Данные!$A48,C$1,1,1,"Данные"), 1),2) -> 5255.18 | D56: =(B56-B55)*D$10 -> 440 | E56: =(C56-C55)*D$10 -> 80 | F56: =ROUND(INDIRECT(ADDRESS(Данные!$A48,F$1,1,1,"Данные"), 1),2) -> 41025.48 | G56: =ROUND(INDIRECT(ADDRESS(Данные!$A48,G$1,1,1,"Данные"), 1),2) -> 9016.76 | H56: =(F56-F55)*H$10 -> 840 | I56: =(G56-G55)*H$10 -> 80 | J56: =ROUND(INDIRECT(ADDRESS(Данные!$A48,J$1,1,1,"Данные"), 1),2) -> 16052.85 | K56: =ROUND(INDIRECT(ADDRESS(Данные!$A48,K$1,1,1,"Данные"), 1),2) -> 3848.31 | L56: =(J56-J55)*L$10 -> 560 | M56: =(K56-K55)*L$10 -> 40 | N56: =ROUND(INDIRECT(ADDRESS(Данные!$A48,N$1,1,1,"Данные"), 1),2) -> 6371.83 | O56: =ROUND(INDIRECT(ADDRESS(Данные!$A48,O$1,1,1,"Данные"), 1),2) -> 1168.37 | P56: =(N56-N55)*P$10 -> 600 | Q56: =(O56-O55)*P$10 -> 40 | R56: =ROUND(INDIRECT(ADDRESS(Данные!$A48,R$1,1,1,"Данные"), 1),2) -> 6467.25 | S56: =ROUND(INDIRECT(ADDRESS(Данные!$A48,S$1,1,1,"Данные"), 1),2) -> 3044.06 | T56: =(R56-R55)*T$10 -> 640 | U56: =(S56-S55)*T$10 -> 240 | V56: =ROUND(INDIRECT(ADDRESS(Данные!$A48,V$1,1,1,"Данные"), 1),2) -> 3098.81 | W56: =ROUND(INDIRECT(ADDRESS(Данные!$A48,W$1,1,1,"Данные"), 1),2) -> 1217.64 | X56: =(V56-V55)*X$10 -> 40 | Y56: =(W56-W55)*X$10 -> 40 | Z56: =INDIRECT(ADDRESS(Данные!$A48,4,1,1,"Данные"), 1) -> 45280.854 | AA56: =ROUND(INDIRECT(ADDRESS(Данные!$A48,AA$1,1,1,"Данные"), 1),2) -> 14081.1 | AB56: =ROUND(INDIRECT(ADDRESS(Данные!$A48,AB$1,1,1,"Данные"), 1),2) -> 2864.51 | AC56: =(AA56-AA55)*AC$10 -> 880 | AD56: =(AB56-AB55)*AC$10 -> 40 | AE56: =ROUND(INDIRECT(ADDRESS(Данные!$A48,AE$1,1,1,"Данные"), 1),2) -> 14165.54 | AF56: =ROUND(INDIRECT(ADDRESS(Данные!$A48,AF$1,1,1,"Данные"), 1),2) -> 4580.36 | AG56: =(AE56-AE55)*AG$10 -> 420 | AH56: =(AF56-AF55)*AG$10 -> 60 | AI56: =ROUND(INDIRECT(ADDRESS(Данные!$A48,AI$1,1,1,"Данные"), 1),2) -> 1363.36 | AJ56: =ROUND(INDIRECT(ADDRESS(Данные!$A48,AJ$1,1,1,"Данные"), 1),2) -> 388.49 | AK56: =(AI56-AI55)*AK$10 -> 720 | AL56: =(AJ56-AJ55)*AK$10 -> 80 | AM56: =ROUND(INDIRECT(ADDRESS(Данные!$A48,AM$1,1,1,"Данные"), 1),2) -> 19419.51 | AN56: =ROUND(INDIRECT(ADDRESS(Данные!$A48,AN$1,1,1,"Данные"), 1),2) -> 7651.4 | AO56: =(AM56-AM55)*AO$10 -> 640 | AP56: =(AN56-AN55)*AO$10 -> 80 | AQ56: =ROUND(INDIRECT(ADDRESS(Данные!$A48,AQ$1,1,1,"Данные"), 1),2) -> 15516.02 | AR56: =ROUND(INDIRECT(ADDRESS(Данные!$A48,AR$1,1,1,"Данные"), 1),2) -> 4022.04 | AS56: =(AQ56-AQ55)*AS$10 -> 780 | AT56: =(AR56-AR55)*AS$10 -> 60 | AU56: =ROUND(INDIRECT(ADDRESS(Данные!$A48,AU$1,1,1,"Данные"), 1),2) -> 2790.1 | AV56: =ROUND(INDIRECT(ADDRESS(Данные!$A48,AV$1,1,1,"Данные"), 1),2) -> 1238.49 | AW56: =(AU56-AU55)*AW$10 -> 42 | AX56: =(AV56-AV55)*AW$10 -> 6 | AY56: =INDIRECT(ADDRESS(Данные!$A48,4,1,1,"Данные"), 1) -> 45280.854 | AZ56: =ROUND(INDIRECT(ADDRESS(Данные!$A48,AZ$1,1,1,"Данные"), 1),2) -> 2536.92 | BA56: =ROUND(INDIRECT(ADDRESS(Данные!$A48,BA$1,1,1,"Данные"), 1),2) -> 0 | BB56: =(AZ56-AZ55)*BB$10 -> 75 | BC56: =(BA56-BA55)*BB$10 -> 0 | BD56: =ROUND(INDIRECT(ADDRESS(Данные!$A48,BD$1,1,1,"Данные"), 1),2) -> 7203.41 | BE56: =ROUND(INDIRECT(ADDRESS(Данные!$A48,BE$1,1,1,"Данные"), 1),2) -> 4699.44 | BF56: =(BD56-BD55)*BF$10 -> 18 | BG56: =(BE56-BE55)*BF$10 -> 6 | BH56: =ROUND(INDIRECT(ADDRESS(Данные!$A48,BH$1,1,1,"Данные"), 1),2) -> 89.23 | BI56: =ROUND(INDIRECT(ADDRESS(Данные!$A48,BI$1,1,1,"Данные"), 1),2) -> 52.02 | BJ56: =(BH56-BH55)*BJ$10 -> 0 | BK56: =(BI56-BI55)*BJ$10 -> 0 | BL56: =ROUND(INDIRECT(ADDRESS(Данные!$A48,BL$1,1,1,"Данные"), 1),2) -> 1238.49 | BM56: =ROUND(INDIRECT(ADDRESS(Данные!$A48,BM$1,1,1,"Данные"), 1),2) -> 1238.49 | BN56: =(BL56-BL55)*BN$10 -> 6 | BO56: =(BM56-BM55)*BN$10 -> 6 | BP56: =ROUND(INDIRECT(ADDRESS(Данные!$A48,BP$1,1,1,"Данные"), 1),2) -> 7616.71 | BQ56: =ROUND(INDIRECT(ADDRESS(Данные!$A48,BQ$1,1,1,"Данные"), 1),2) -> 2343.06 | BR56: =(BP56-BP55)*BR$10 -> 0 | BS56: =(BQ56-BQ55)*BR$10 -> 0 | BT56: =ROUND(INDIRECT(ADDRESS(Данные!$A48,BT$1,1,1,"Данные"), 1),2) -> 107.63 | BU56: =ROUND(INDIRECT(ADDRESS(Данные!$A48,BU$1,1,1,"Данные"), 1),2) -> 6.96 | BV56: =(BT56-BT55)*BV$10 -> 0 | BW56: =(BU56-BU55)*BV$10 -> 0 | BX56: =$A56 -> 45280.854 | BY56: =D56+H56+L56+P56+T56+X56+AC56+AG56+AK56+AO56+AS56+AW56+ BB56+BJ56+BF56+BN56+BR56+BV56 -> 6701 | BZ56: =E56+I56+M56+Q56+U56+Y56+AD56+AH56+AL56+AP56+AT56+AX56+ BC56+BK56+BG56+BO56+BS56+BW56 -> 858
A57: =INDIRECT(ADDRESS(Данные!$A49,4,1,1,"Данные"), 1) -> 45280.875 | B57: =ROUND(INDIRECT(ADDRESS(Данные!$A49,B$1,1,1,"Данные"), 1),2) -> 12178.56 | C57: =ROUND(INDIRECT(ADDRESS(Данные!$A49,C$1,1,1,"Данные"), 1),2) -> 5255.2 | D57: =(B57-B55)*D$10 -> 880 | E57: =(C57-C55)*D$10 -> 160 | F57: =ROUND(INDIRECT(ADDRESS(Данные!$A49,F$1,1,1,"Данные"), 1),2) -> 41025.69 | G57: =ROUND(INDIRECT(ADDRESS(Данные!$A49,G$1,1,1,"Данные"), 1),2) -> 9016.78 | H57: =(F57-F55)*H$10 -> 1680 | I57: =(G57-G55)*H$10 -> 160 | J57: =ROUND(INDIRECT(ADDRESS(Данные!$A49,J$1,1,1,"Данные"), 1),2) -> 16052.98 | K57: =ROUND(INDIRECT(ADDRESS(Данные!$A49,K$1,1,1,"Данные"), 1),2) -> 3848.32 | L57: =(J57-J55)*L$10 -> 1080 | M57: =(K57-K55)*L$10 -> 80 | N57: =ROUND(INDIRECT(ADDRESS(Данные!$A49,N$1,1,1,"Данные"), 1),2) -> 6371.97 | O57: =ROUND(INDIRECT(ADDRESS(Данные!$A49,O$1,1,1,"Данные"), 1),2) -> 1168.38 | P57: =(N57-N55)*P$10 -> 1160 | Q57: =(O57-O55)*P$10 -> 80 | R57: =ROUND(INDIRECT(ADDRESS(Данные!$A49,R$1,1,1,"Данные"), 1),2) -> 6467.41 | S57: =ROUND(INDIRECT(ADDRESS(Данные!$A49,S$1,1,1,"Данные"), 1),2) -> 3044.12 | T57: =(R57-R55)*T$10 -> 1280 | U57: =(S57-S55)*T$10 -> 480 | V57: =ROUND(INDIRECT(ADDRESS(Данные!$A49,V$1,1,1,"Данные"), 1),2) -> 3098.83 | W57: =ROUND(INDIRECT(ADDRESS(Данные!$A49,W$1,1,1,"Данные"), 1),2) -> 1217.64 | X57: =(V57-V55)*X$10 -> 120 | Y57: =(W57-W55)*X$10 -> 40 | Z57: =INDIRECT(ADDRESS(Данные!$A49,4,1,1,"Данные"), 1) -> 45280.875 | AA57: =ROUND(INDIRECT(ADDRESS(Данные!$A49,AA$1,1,1,"Данные"), 1),2) -> 14081.32 | AB57: =ROUND(INDIRECT(ADDRESS(Данные!$A49,AB$1,1,1,"Данные"), 1),2) -> 2864.53 | AC57: =(AA57-AA55)*AC$10 -> 1760 | AD57: =(AB57-AB55)*AC$10 -> 120 | AE57: =ROUND(INDIRECT(ADDRESS(Данные!$A49,AE$1,1,1,"Данные"), 1),2) -> 14165.6 | AF57: =ROUND(INDIRECT(ADDRESS(Данные!$A49,AF$1,1,1,"Данные"), 1),2) -> 4580.37 | AG57: =(AE57-AE55)*AG$10 -> 780 | AH57: =(AF57-AF55)*AG$10 -> 120 | AI57: =ROUND(INDIRECT(ADDRESS(Данные!$A49,AI$1,1,1,"Данные"), 1),2) -> 1363.54 | AJ57: =ROUND(INDIRECT(ADDRESS(Данные!$A49,AJ$1,1,1,"Данные"), 1),2) -> 388.51 | AK57: =(AI57-AI55)*AK$10 -> 1440 | AL57: =(AJ57-AJ55)*AK$10 -> 160 | AM57: =ROUND(INDIRECT(ADDRESS(Данные!$A49,AM$1,1,1,"Данные"), 1),2) -> 19419.67 | AN57: =ROUND(INDIRECT(ADDRESS(Данные!$A49,AN$1,1,1,"Данные"), 1),2) -> 7651.42 | AO57: =(AM57-AM55)*AO$10 -> 1280 | AP57: =(AN57-AN55)*AO$10 -> 160 | AQ57: =ROUND(INDIRECT(ADDRESS(Данные!$A49,AQ$1,1,1,"Данные"), 1),2) -> 15516.16 | AR57: =ROUND(INDIRECT(ADDRESS(Данные!$A49,AR$1,1,1,"Данные"), 1),2) -> 4022.05 | AS57: =(AQ57-AQ55)*AS$10 -> 1620 | AT57: =(AR57-AR55)*AS$10 -> 120 | AU57: =ROUND(INDIRECT(ADDRESS(Данные!$A49,AU$1,1,1,"Данные"), 1),2) -> 2790.17 | AV57: =ROUND(INDIRECT(ADDRESS(Данные!$A49,AV$1,1,1,"Данные"), 1),2) -> 1238.49 | AW57: =(AU57-AU55)*AW$10 -> 84 | AX57: =(AV57-AV55)*AW$10 -> 6 | AY57: =INDIRECT(ADDRESS(Данные!$A49,4,1,1,"Данные"), 1) -> 45280.875 | AZ57: =ROUND(INDIRECT(ADDRESS(Данные!$A49,AZ$1,1,1,"Данные"), 1),2) -> 2537.16 | BA57: =ROUND(INDIRECT(ADDRESS(Данные!$A49,BA$1,1,1,"Данные"), 1),2) -> 0 | BB57: =(AZ57-AZ55)*BB$10 -> 147 | BC57: =(BA57-BA55)*BB$10 -> 0 | BD57: =ROUND(INDIRECT(ADDRESS(Данные!$A49,BD$1,1,1,"Данные"), 1),2) -> 7203.45 | BE57: =ROUND(INDIRECT(ADDRESS(Данные!$A49,BE$1,1,1,"Данные"), 1),2) -> 4699.44 | BF57: =(BD57-BD55)*BF$10 -> 42 | BG57: =(BE57-BE55)*BF$10 -> 6 | BH57: =ROUND(INDIRECT(ADDRESS(Данные!$A49,BH$1,1,1,"Данные"), 1),2) -> 89.23 | BI57: =ROUND(INDIRECT(ADDRESS(Данные!$A49,BI$1,1,1,"Данные"), 1),2) -> 52.02 | BJ57: =(BH57-BH55)*BJ$10 -> 0 | BK57: =(BI57-BI55)*BJ$10 -> 0 | BL57: =ROUND(INDIRECT(ADDRESS(Данные!$A49,BL$1,1,1,"Данные"), 1),2) -> 1238.49 | BM57: =ROUND(INDIRECT(ADDRESS(Данные!$A49,BM$1,1,1,"Данные"), 1),2) -> 1238.49 | BN57: =(BL57-BL55)*BN$10 -> 6 | BO57: =(BM57-BM55)*BN$10 -> 6 | BP57: =ROUND(INDIRECT(ADDRESS(Данные!$A49,BP$1,1,1,"Данные"), 1),2) -> 7616.71 | BQ57: =ROUND(INDIRECT(ADDRESS(Данные!$A49,BQ$1,1,1,"Данные"), 1),2) -> 2343.06 | BR57: =(BP57-BP55)*BR$10 -> 0 | BS57: =(BQ57-BQ55)*BR$10 -> 0 | BT57: =ROUND(INDIRECT(ADDRESS(Данные!$A49,BT$1,1,1,"Данные"), 1),2) -> 107.63 | BU57: =ROUND(INDIRECT(ADDRESS(Данные!$A49,BU$1,1,1,"Данные"), 1),2) -> 6.96 | BV57: =(BT57-BT55)*BV$10 -> 0 | BW57: =(BU57-BU55)*BV$10 -> 0 | BX57: =$A57 -> 45280.875 | BY57: =D57+H57+L57+P57+T57+X57+AC57+AG57+AK57+AO57+AS57+AW57+ BB57+BJ57+BF57+BN57+BR57+BV57 -> 13359 | BZ57: =E57+I57+M57+Q57+U57+Y57+AD57+AH57+AL57+AP57+AT57+AX57+ BC57+BK57+BG57+BO57+BS57+BW57 -> 1698
