Workbook

Sheet Славянка
B1: 31 | C1: 32 | F1: 33 | G1: 34 | J1: 35 | K1: 36 | N1: 37 | O1: 38 | R1: 39 | S1: 40 | V1: 25 | W1: 26 | AA1: 29 | AB1: 30 | AE1: 27 | AF1: 28 | AI1: 21 | AJ1: 22 | AM1: 23 | AN1: 24 | AQ1: 41 | AR1: 42 | AU1: 11 | AV1: 12 | AZ1: 9 | BA1: 10 | BD1: 5 | BE1: 6 | BH1: 19 | BI1: 20 | BL1: 12 | BM1: 12 | BP1: 91 | BQ1: 92 | BT1: 17 | BU1: 18
A2: замера нагрузок в контрольный день | G2: =CONCATENATE(TEXT(Данные!$B$1,"ДД ММММ ГГГГ"), " г.") -> 20 Декабрь 2023 г. | K2: В Е Д О М О С Т Ь | Q2: по | R2: АО "Дальневосточная ресурсоснабжающая компания" | Z2: замера нагрузок в контрольный день | AF2: =CONCATENATE(TEXT(Данные!$B$1,"ДД ММММ ГГГГ"), " г.") -> 20 Декабрь 2023 г. | AJ2: В Е Д О М О С Т Ь | AP2: по | AQ2: АО "Дальневосточная ресурсоснабжающая компания" | AY2: замера нагрузок в контрольный день | BE2: =CONCATENATE(TEXT(Данные!$B$1,"ДД ММММ ГГГГ"), " г.") -> 20 Декабрь 2023 г. | BH2: ВЕДОМОСТЬ | BX2: АО "ДВ РСК"
F3: число, месяц | U3: наименование предприятия | AE3: число, месяц | AT3: наименование предприятия | BB3: число, месяц
A4: п-ст | C4: п/с "Славянка" | K4: напряжение в сети | O4: 10 | Q4: кВ | Z4: п-ст | AB4: п/с "Славянка" | AJ4: напряжение в сети | AN4: 10 | AP4: кВ | AY4: п-ст | BA4: п/с "Славянка" | BE4: напряжение в сети | BI4: 10 | BJ4: кВ
B5: наименование п-ст и ее принадлежность | AA5: наименование п-ст и ее принадлежность | AZ5: наименование п-ст и ее принадлежность
A6: В ремя замера нагрузок | B6: Фидер № | D6: 20 | F6: Фидер № | H6: 25 | J6: Фидер № | L6: 31 | N6: Фидер № | P6: 5 | R6: Фидер № | T6: 6 | V6: Фидер № | X6: 16 | Z6: В ремя замера нагрузок | AA6: Фидер № | AC6: 19 | AE6: Фидер № | AG6: 18 | AI6: Фидер № | AK6: 10 | AM6: Фидер № | AO6: 12 | AQ6: Фидер № | AS6: 8 | AU6: Фидер № | AW6: 26 | AY6: В ремя замера нагрузок | AZ6: Фидер № | BB6: 14 | BD6: Фидер № | BF6: 4 | BH6: Фидер № | BJ6: 4 | BL6: Фидер № | BP6: Фидер № | BR6: 34 | BT6: ПС Славянка Фидер № 34 | BX6: В ремя замера нагрузок
B7: Кто питается | F7: Кто питается | J7: Кто питается | N7: Кто питается | R7: Кто питается | V7: Кто питается | AA7: Кто питается | AE7: Кто питается | AI7: Кто питается | AM7: Кто питается | AQ7: Кто питается | AU7: Кто питается | AZ7: Кто питается | BD7: Кто питается | BH7: Кто питается | BJ7: оп 80 | BL7: Кто питается | BP7: Кто питается | BT7: Кто питается
AW8: ТП-24 | BB8: ТП - 35 | BF8: ТП-47 | BJ8: ТП-21 | BN8: KТП-24 | BR8: ТП-5А | BT8: РП-1 (СРЗ) ТП5А ЗАО "Восток бункер" | BY8: Итого
B9: Т-р тока____________________ | C9: 200/5 | F9: Т-р тока____________________ | G9: 200/5 | J9: Т-р тока____________________ | K9: 200/5 | N9: Т-р тока____________________ | O9: 200/5 | R9: Т-р тока____________________ | S9: 200/5 | V9: Т-р тока____________________ | W9: 200/5 | AA9: Т-р тока____________________ | AB9: 200/5 | AE9: Т-р тока____________________ | AF9: 200/5 | AI9: Т-р тока____________________ | AJ9: 200/5 | AM9: Т-р тока____________________ | AN9: 200/5 | AQ9: Т-р тока____________________ | AR9: 300/5 | AU9: Т-р тока____________________ | AV9: 10/5 | AZ9: Т-р тока____________________ | BD9: Т-р тока____________________ | BE9: 10/5 | BH9: Т-р тока____________________ | BL9: Т-р тока____________________ | BP9: Т-р тока____________________ | BT9: Т-р тока____________________ | BU9: 200/5 | BY9: по фидерам
B10: Расчетный коэф.____________ | D10: 4000 | F10: Расчетный коэф.____________ | H10: 4000 | J10: Расчетный коэф.____________ | L10: 4000 | N10: Расчетный коэф.____________ | P10: 4000 | R10: Расчетный коэф.____________ | T10: 4000 | V10: Расчетный коэф.____________ | X10: 4000 | AA10: Расчетный коэф.____________ | AC10: 4000 | AE10: Расчетный коэф.____________ | AG10: 6000 | AI10: Расчетный коэф.____________ | AK10: 4000 | AM10: Расчетный коэф.____________ | AO10: 4000 | AQ10: Расчетный коэф.____________ | AS10: 6000 | AU10: Расчетный коэф.____________ | AW10: 600 | AZ10: Расчетный коэф.____________ | BB10: 300 | BD10: Расчетный коэф.____________ | BF10: 600 | BH10: Расчетный коэф.____________ | BJ10: 3000 | BL10: Расчетный коэф.____________ | BN10: 600 | BP10: Расчетный коэф.____________ | BR10: 4000 | BT10: Расчетный коэф. | BV10: 4000
B11: показания | D11: нагрузка | F11: показания | H11: нагрузка | J11: показания | L11: нагрузка | N11: показания | P11: нагрузка | R11: показания | T11: нагрузка | V11: показания | X11: нагрузка | AA11: показания | AC11: нагрузка | AE11: показания | AG11: нагрузка | AI11: показания | AK11: нагрузка | AM11: показания | AO11: нагрузка | AQ11: показания | AS11: нагрузка | AU11: показания | AW11: нагрузка | AZ11: показания | BB11: нагрузка | BD11: показания | BF11: нагрузка | BH11: показания | BJ11: нагрузка | BL11: показания | BN11: нагрузка | BP11: показания | BR11: нагрузка | BT11: показания | BV11: нагрузка
B12: эл.счетчиков | F12: эл.счетчиков | J12: эл.счетчиков | N12: эл.счетчиков | R12: эл.счетчиков | V12: эл.счетчиков | AA12: эл.счетчиков | AE12: эл.счетчиков | AI12: эл.счетчиков | AM12: эл.счетчиков | AQ12: эл.счетчиков | AU12: эл.счетчиков | AZ12: эл.счетчиков | BD12: эл.счетчиков | BH12: эл.счетчиков | BL12: эл.счетчиков | BP12: эл.счетчиков | BT12: эл.счетчиков
B13: актив- | C13: реак- | D13: актив. | E13: реакт. | F13: актив- | G13: реак- | H13: актив. | I13: реакт. | J13: актив- | K13: реак- | L13: актив. | M13: реакт. | N13: актив- | O13: реак- | P13: актив. | Q13: реакт. | R13: актив- | S13: реак- | T13: актив. | U13: реакт. | V13: актив- | W13: реак- | X13: актив. | Y13: реакт. | AA13: актив- | AB13: реак- | AC13: актив. | AD13: реакт. | AE13: актив- | AF13: реак- | AG13: актив. | AH13: реакт. | AI13: актив- | AJ13: реак- | AK13: актив. | AL13: реакт. | AM13: актив- | AN13: реак- | AO13: актив. | AP13: реакт. | AQ13: актив- | AR13: реак- | AS13: актив. | AT13: реакт. | AU13: актив- | AV13: реак- | AW13: актив. | AX13: реакт. | AZ13: актив- | BA13: реак- | BB13: актив. | BC13: реакт. | BD13: актив- | BE13: реак- | BF13: актив. | BG13: реакт. | BH13: актив- | BI13: реак- | BJ13: актив. | BK13: реакт. | BL13: актив- | BM13: реак- | BN13: актив. | BO13: реакт. | BP13: актив- | BQ13: реак- | BR13: актив. | BS13: реакт. | BT13: актив- | BU13: реак- | BV13: актив. | BW13: реакт. | BY13: актив. | BZ13: реакт.
B14: ного | C14: тивного | D14: кВт | E14: кВар | F14: ного | G14: тивного | H14: кВт | I14: кВар | J14: ного | K14: тивного | L14: кВт | M14: кВар | N14: ного | O14: тивного | P14: кВт | Q14: кВар | R14: ного | S14: тивного | T14: кВт | U14: кВар | V14: ного | W14: тивного | X14: кВт | Y14: кВар | AA14: ного | AB14: тивного | AC14: кВт | AD14: кВар | AE14: ного | AF14: тивного | AG14: кВт | AH14: кВар | AI14: ного | AJ14: тивного | AK14: кВт | AL14: кВар | AM14: ного | AN14: тивного | AO14: кВт | AP14: кВар | AQ14: ного | AR14: тивного | AS14: кВт | AT14: кВар | AU14: ного | AV14: тивного | AW14: кВт | AX14: кВар | AZ14: ного | BA14: тивного | BB14: кВт | BC14: кВар | BD14: ного | BE14: тивного | BF14: кВт | BG14: кВар | BH14: ного | BI14: тивного | BJ14: кВт | BK14: кВар | BL14: ного | BM14: тивного | BN14: кВт | BO14: кВар | BP14: ного | BQ14: тивного | BR14: кВт | BS14: кВар | BT14: ного+ | BU14: тивного+ | BV14: кВт | BW14: кВар | BY14: кВт | BZ14: кВар
A15: =INDIRECT(ADDRESS(Данные!$A7,4,1,1,"Данные"), 1) -> 45280 | B15: =ROUND(INDIRECT(ADDRESS(Данные!$A7,B$1,1,1,"Данные"), 1),2) -> 12174.93 | C15: =ROUND(INDIRECT(ADDRESS(Данные!$A7,C$1,1,1,"Данные"), 1),2) -> 5254.63 | F15: =ROUND(INDIRECT(ADDRESS(Данные!$A7,F$1,1,1,"Данные"), 1),2) -> 41018.28 | G15: =ROUND(INDIRECT(ADDRESS(Данные!$A7,G$1,1,1,"Данные"), 1),2) -> 9015.95 | J15: =ROUND(INDIRECT(ADDRESS(Данные!$A7,J$1,1,1,"Данные"), 1),2) -> 16047.89 | K15: =ROUND(INDIRECT(ADDRESS(Данные!$A7,K$1,1,1,"Данные"), 1),2) -> 3847.83 | N15: =ROUND(INDIRECT(ADDRESS(Данные!$A7,N$1,1,1,"Данные"), 1),2) -> 6366.54 | O15: =ROUND(INDIRECT(ADDRESS(Данные!$A7,O$1,1,1,"Данные"), 1),2) -> 1168.05 | R15: =ROUND(INDIRECT(ADDRESS(Данные!$A7,R$1,1,1,"Данные"), 1),2) -> 6460.19 | S15: =ROUND(INDIRECT(ADDRESS(Данные!$A7,S$1,1,1,"Данные"), 1),2) -> 3041.54 | V15: =ROUND(INDIRECT(ADDRESS(Данные!$A7,V$1,1,1,"Данные"), 1),2) -> 3097.88 | W15: =ROUND(INDIRECT(ADDRESS(Данные!$A7,W$1,1,1,"Данные"), 1),2) -> 1217.34 | Z15: =INDIRECT(ADDRESS(Данные!$A7,4,1,1,"Данные"), 1) -> 45280 | AA15: =ROUND(INDIRECT(ADDRESS(Данные!$A7,AA$1,1,1,"Данные"), 1),2) -> 14072.62 | AB15: =ROUND(INDIRECT(ADDRESS(Данные!$A7,AB$1,1,1,"Данные"), 1),2) -> 2863.79 | AE15: =ROUND(INDIRECT(ADDRESS(Данные!$A7,AE$1,1,1,"Данные"), 1),2) -> 14162.65 | AF15: =ROUND(INDIRECT(ADDRESS(Данные!$A7,AF$1,1,1,"Данные"), 1),2) -> 4579.62 | AI15: =ROUND(INDIRECT(ADDRESS(Данные!$A7,AI$1,1,1,"Данные"), 1),2) -> 1357.29 | AJ15: =ROUND(INDIRECT(ADDRESS(Данные!$A7,AJ$1,1,1,"Данные"), 1),2) -> 387.72 | AM15: =ROUND(INDIRECT(ADDRESS(Данные!$A7,AM$1,1,1,"Данные"), 1),2) -> 19413.69 | AN15: =ROUND(INDIRECT(ADDRESS(Данные!$A7,AN$1,1,1,"Данные"), 1),2) -> 7650.47 | AQ15: =ROUND(INDIRECT(ADDRESS(Данные!$A7,AQ$1,1,1,"Данные"), 1),2) -> 15511.47 | AR15: =ROUND(INDIRECT(ADDRESS(Данные!$A7,AR$1,1,1,"Данные"), 1),2) -> 4021.51 | AU15: =ROUND(INDIRECT(ADDRESS(Данные!$A7,AU$1,1,1,"Данные"), 1),2) -> 2787.55 | AV15: =ROUND(INDIRECT(ADDRESS(Данные!$A7,AV$1,1,1,"Данные"), 1),2) -> 1238.2 | AY15: =INDIRECT(ADDRESS(Данные!$A7,4,1,1,"Данные"), 1) -> 45280 | AZ15: =ROUND(INDIRECT(ADDRESS(Данные!$A7,AZ$1,1,1,"Данные"), 1),2) -> 2526.91 | BA15: =ROUND(INDIRECT(ADDRESS(Данные!$A7,BA$1,1,1,"Данные"), 1),2) -> 0 | BD15: =ROUND(INDIRECT(ADDRESS(Данные!$A7,BD$1,1,1,"Данные"), 1),2) -> 7201.21 | BE15: =ROUND(INDIRECT(ADDRESS(Данные!$A7,BE$1,1,1,"Данные"), 1),2) -> 4698.23 | BH15: =ROUND(INDIRECT(ADDRESS(Данные!$A7,BH$1,1,1,"Данные"), 1),2) -> 89.23 | BI15: =ROUND(INDIRECT(ADDRESS(Данные!$A7,BI$1,1,1,"Данные"), 1),2) -> 52.02 | BL15: =ROUND(INDIRECT(ADDRESS(Данные!$A7,BL$1,1,1,"Данные"), 1),2) -> 1238.2 | BM15: =ROUND(INDIRECT(ADDRESS(Данные!$A7,BM$1,1,1,"Данные"), 1),2) -> 1238.2 | BP15: =ROUND(INDIRECT(ADDRESS(Данные!$A7,BP$1,1,1,"Данные"), 1),2) -> 7616.51 | BQ15: =ROUND(INDIRECT(ADDRESS(Данные!$A7,BQ$1,1,1,"Данные"), 1),2) -> 2342.98 | BT15: =ROUND(INDIRECT(ADDRESS(Данные!$A7,BT$1,1,1,"Данные"), 1),2) -> 107.63 | BU15: =ROUND(INDIRECT(ADDRESS(Данные!$A7,BU$1,1,1,"Данные"), 1),2) -> 6.96 | BX15: =$A15 -> 45280
A16: =INDIRECT(ADDRESS(Данные!$A8,4,1,1,"Данные"), 1) -> 45280.021 | B16: =ROUND(INDIRECT(ADDRESS(Данные!$A8,B$1,1,1,"Данные"), 1),2) -> 12174.99 | C16: =ROUND(INDIRECT(ADDRESS(Данные!$A8,C$1,1,1,"Данные"), 1),2) -> 5254.64 | D16: =(B16-B15)*D$10 -> 240 | E16: =(C16-C15)*D$10 -> 40 | F16: =ROUND(INDIRECT(ADDRESS(Данные!$A8,F$1,1,1,"Данные"), 1),2) -> 41018.44 | G16: =ROUND(INDIRECT(ADDRESS(Данные!$A8,G$1,1,1,"Данные"), 1),2) -> 9015.97 | H16: =(F16-F15)*H$10 -> 640 | I16: =(G16-G15)*H$10 -> 80 | J16: =ROUND(INDIRECT(ADDRESS(Данные!$A8,J$1,1,1,"Данные"), 1),2) -> 16048 | K16: =ROUND(INDIRECT(ADDRESS(Данные!$A8,K$1,1,1,"Данные"), 1),2) -> 3847.84 | L16: =(J16-J15)*L$10 -> 440 | M16: =(K16-K15)*L$10 -> 40 | N16: =ROUND(INDIRECT(ADDRESS(Данные!$A8,N$1,1,1,"Данные"), 1),2) -> 6366.68 | O16: =ROUND(INDIRECT(ADDRESS(Данные!$A8,O$1,1,1,"Данные"), 1),2) -> 1168.06 | P16: =(N16-N15)*P$10 -> 560 | Q16: =(O16-O15)*P$10 -> 40 | R16: =ROUND(INDIRECT(ADDRESS(Данные!$A8,R$1,1,1,"Данные"), 1),2) -> 6460.35 | S16: =ROUND(INDIRECT(ADDRESS(Данные!$A8,S$1,1,1,"Данные"), 1),2) -> 3041.59 | T16: =(R16-R15)*T$10 -> 640 | U16: =(S16-S15)*T$10 -> 200 | V16: =ROUND(INDIRECT(ADDRESS(Данные!$A8,V$1,1,1,"Данные"), 1),2) -> 3097.9 | W16: =ROUND(INDIRECT(ADDRESS(Данные!$A8,W$1,1,1,"Данные"), 1),2) -> 1217.34 | X16: =(V16-V15)*X$10 -> 80 | Y16: =(W16-W15)*X$10 -> 0 | Z16: =INDIRECT(ADDRESS(Данные!$A8,4,1,1,"Данные"), 1) -> 45280.021 | AA16: =ROUND(INDIRECT(ADDRESS(Данные!$A8,AA$1,1,1,"Данные"), 1),2) -> 14072.82 | AB16: =ROUND(INDIRECT(ADDRESS(Данные!$A8,AB$1,1,1,"Данные"), 1),2) -> 2863.81 | AC16: =(AA16-AA15)*AC$10 -> 800 | AD16: =(AB16-AB15)*AC$10 -> 80 | AE16: =ROUND(INDIRECT(ADDRESS(Данные!$A8,AE$1,1,1,"Данные"), 1),2) -> 14162.72 | AF16: =ROUND(INDIRECT(ADDRESS(Данные!$A8,AF$1,1,1,"Данные"), 1),2) -> 4579.63 | AG16: =(AE16-AE15)*AG$10 -> 420 | AH16: =(AF16-AF15)*AG$10 -> 60 | AI16: =ROUND(INDIRECT(ADDRESS(Данные!$A8,AI$1,1,1,"Данные"), 1),2) -> 1357.41 | AJ16: =ROUND(INDIRECT(ADDRESS(Данные!$A8,AJ$1,1,1,"Данные"), 1),2) -> 387.73 | AK16: =(AI16-AI15)*AK$10 -> 480 | AL16: =(AJ16-AJ15)*AK$10 -> 40 | AM16: =ROUND(INDIRECT(ADDRESS(Данные!$A8,AM$1,1,1,"Данные"), 1),2) -> 19413.82 | AN16: =ROUND(INDIRECT(ADDRESS(Данные!$A8,AN$1,1,1,"Данные"), 1),2) -> 7650.49 | AO16: =(AM16-AM15)*AO$10 -> 520 | AP16: =(AN16-AN15)*AO$10 -> 80 | AQ16: =ROUND(INDIRECT(ADDRESS(Данные!$A8,AQ$1,1,1,"Данные"), 1),2) -> 15511.56 | AR16: =ROUND(INDIRECT(ADDRESS(Данные!$A8,AR$1,1,1,"Данные"), 1),2) -> 4021.52 | AS16: =(AQ16-AQ15)*AS$10 -> 540 | AT16: =(AR16-AR15)*AS$10 -> 60 | AU16: =ROUND(INDIRECT(ADDRESS(Данные!$A8,AU$1,1,1,"Данные"), 1),2) -> 2787.61 | AV16: =ROUND(INDIRECT(ADDRESS(Данные!$A8,AV$1,1,1,"Данные"), 1),2) -> 1238.21 | AW16: =(AU16-AU15)*AW$10 -> 36 | AX16: =(AV16-AV15)*AW$10 -> 6 | AY16: =INDIRECT(ADDRESS(Данные!$A8,4,1,1,"Данные"), 1) -> 45280.021 | AZ16: =ROUND(INDIRECT(ADDRESS(Данные!$A8,AZ$1,1,1,"Данные"), 1),2) -> 2527.19 | BA16: =ROUND(INDIRECT(ADDRESS(Данные!$A8,BA$1,1,1,"Данные"), 1),2) -> 0 | BB16: =(AZ16-AZ15)*BB$10 -> 84 | BC16: =(BA16-BA15)*BB$10 -> 0 | BD16: =ROUND(INDIRECT(ADDRESS(Данные!$A8,BD$1,1,1,"Данные"), 1),2) -> 7201.25 | BE16: =ROUND(INDIRECT(ADDRESS(Данные!$A8,BE$1,1,1,"Данные"), 1),2) -> 4698.24 | BF16: =(BD16-BD15)*BF$10 -> 24 | BG16: =(BE16-BE15)*BF$10 -> 6 | BH16: =ROUND(INDIRECT(ADDRESS(Данные!$A8,BH$1,1,1,"Данные"), 1),2) -> 89.23 | BI16: =ROUND(INDIRECT(ADDRESS(Данные!$A8,BI$1,1,1,"Данные"), 1),2) -> 52.02 | BJ16: =(BH16-BH15)*BJ$10 -> 0 | BK16: =(BI16-BI15)*BJ$10 -> 0 | BL16: =ROUND(INDIRECT(ADDRESS(Данные!$A8,BL$1,1,1,"Данные"), 1),2) -> 1238.21 | BM16: =ROUND(INDIRECT(ADDRESS(Данные!$A8,BM$1,1,1,"Данные"), 1),2) -> 1238.21 | BN16: =(BL16-BL15)*BN$10 -> 6 | BO16: =(BM16-BM15)*BN$10 -> 6 | BP16: =ROUND(INDIRECT(ADDRESS(Данные!$A8,BP$1,1,1,"Данные"), 1),2) -> 7616.51 | BQ16: =ROUND(INDIRECT(ADDRESS(Данные!$A8,BQ$1,1,1,"Данные"), 1),2) -> 2342.98 | BR16: =(BP16-BP15)*BR$10 -> 0 | BS16: =(BQ16-BQ15)*BR$10 -> 0 | BT16: =ROUND(INDIRECT(ADDRESS(Данные!$A8,BT$1,1,1,"Данные"), 1),2) -> 107.63 | BU16: =ROUND(INDIRECT(ADDRESS(Данные!$A8,BU$1,1,1,"Данные"), 1),2) -> 6.96 | BV16: =(BT16-BT15)*BV$10 -> 0 | BW16: =(BU16-BU15)*BV$10 -> 0 | BX16: =$A16 -> 45280.021 | BY16: =D16+H16+L16+P16+T16+X16+AC16+AG16+AK16+AO16+AS16+AW16+ BB16+BJ16+BF16+BN16+BR16+BV16 -> 5510 | BZ16: =E16+I16+M16+Q16+U16+Y16+AD16+AH16+AL16+AP16+AT16+AX16+ BC16+BK16+BG16+BO16+BS16+BW16 -> 738
A17: =INDIRECT(ADDRESS(Данные!$A9,4,1,1,"Данные"), 1) -> 45280.042 | B17: =ROUND(INDIRECT(ADDRESS(Данные!$A9,B$1,1,1,"Данные"), 1),2) -> 12175.05 | C17: =ROUND(INDIRECT(ADDRESS(Данные!$A9,C$1,1,1,"Данные"), 1),2) -> 5254.64 | D17: =(B17-B15)*D$10 -> 480 | E17: =(C17-C15)*D$10 -> 40 | F17: =ROUND(INDIRECT(ADDRESS(Данные!$A9,F$1,1,1,"Данные"), 1),2) -> 41018.59 | G17: =ROUND(INDIRECT(ADDRESS(Данные!$A9,G$1,1,1,"Данные"), 1),2) -> 9015.99 | H17: =(F17-F15)*H$10 -> 1240 | I17: =(G17-G15)*H$10 -> 160 | J17: =ROUND(INDIRECT(ADDRESS(Данные!$A9,J$1,1,1,"Данные"), 1),2) -> 16048.11 | K17: =ROUND(INDIRECT(ADDRESS(Данные!$A9,K$1,1,1,"Данные"), 1),2) -> 3847.85 | L17: =(J17-J15)*L$10 -> 880 | M17: =(K17-K15)*L$10 -> 80 | N17: =ROUND(INDIRECT(ADDRESS(Данные!$A9,N$1,1,1,"Данные"), 1),2) -> 6366.81 | O17: =ROUND(INDIRECT(ADDRESS(Данные!$A9,O$1,1,1,"Данные"), 1),2) -> 1168.07 | P17: =(N17-N15)*P$10 -> 1080 | Q17: =(O17-O15)*P$10 -> 80 | R17: =ROUND(INDIRECT(ADDRESS(Данные!$A9,R$1,1,1,"Данные"), 1),2) -> 6460.5 | S17: =ROUND(INDIRECT(ADDRESS(Данные!$A9,S$1,1,1,"Данные"), 1),2) -> 3041.65 | T17: =(R17-R15)*T$10 -> 1240 | U17: =(S17-S15)*T$10 -> 440 | V17: =ROUND(INDIRECT(ADDRESS(Данные!$A9,V$1,1,1,"Данные"), 1),2) -> 3097.91 | W17: =ROUND(INDIRECT(ADDRESS(Данные!$A9,W$1,1,1,"Данные"), 1),2) -> 1217.35 | X17: =(V17-V15)*X$10 -> 120 | Y17: =(W17-W15)*X$10 -> 40 | Z17: =INDIRECT(ADDRESS(Данные!$A9,4,1,1,"Данные"), 1) -> 45280.042 | AA17: =ROUND(INDIRECT(ADDRESS(Данные!$A9,AA$1,1,1,"Данные"), 1),2) -> 14073.01 | AB17: =ROUND(INDIRECT(ADDRESS(Данные!$A9,AB$1,1,1,"Данные"), 1),2) -> 2863.83 | AC17: =(AA17-AA15)*AC$10 -> 1560 | AD17: =(AB17-AB15)*AC$10 -> 160 | AE17: =ROUND(INDIRECT(ADDRESS(Данные!$A9,AE$1,1,1,"Данные"), 1),2) -> 14162.78 | AF17: =ROUND(INDIRECT(ADDRESS(Данные!$A9,AF$1,1,1,"Данные"), 1),2) -> 4579.64 | AG17: =(AE17-AE15)*AG$10 -> 780 | AH17: =(AF17-AF15)*AG$10 -> 120 | AI17: =ROUND(INDIRECT(ADDRESS(Данные!$A9,AI$1,1,1,"Данные"), 1),2) -> 1357.53 | AJ17: =ROUND(INDIRECT(ADDRESS(Данные!$A9,AJ$1,1,1,"Данные"), 1),2) -> 387.75 | AK17: =(AI17-AI15)*AK$10 -> 960 | AL17: =(AJ17-AJ15)*AK$10 -> 120 | AM17: =ROUND(INDIRECT(ADDRESS(Данные!$A9,AM$1,1,1,"Данные"), 1),2) -> 19413.96 | AN17: =ROUND(INDIRECT(ADDRESS(Данные!$A9,AN$1,1,1,"Данные"), 1),2) -> 7650.51 | AO17: =(AM17-AM15)*AO$10 -> 1080 | AP17: =(AN17-AN15)*AO$10 -> 160 | AQ17: =ROUND(INDIRECT(ADDRESS(Данные!$A9,AQ$1,1,1,"Данные"), 1),2) -> 15511.65 | AR17: =ROUND(INDIRECT(ADDRESS(Данные!$A9,AR$1,1,1,"Данные"), 1),2) -> 4021.54 | AS17: =(AQ17-AQ15)*AS$10 -> 1080 | AT17: =(AR17-AR15)*AS$10 -> 180 | AU17: =ROUND(INDIRECT(ADDRESS(Данные!$A9,AU$1,1,1,"Данные"), 1),2) -> 2787.68 | AV17: =ROUND(INDIRECT(ADDRESS(Данные!$A9,AV$1,1,1,"Данные"), 1),2) -> 1238.21 | AW17: =(AU17-AU15)*AW$10 -> 78 | AX17: =(AV17-AV15)*AW$10 -> 6 | AY17: =INDIRECT(ADDRESS(Данные!$A9,4,1,1,"Данные"), 1) -> 45280.042 | AZ17: =ROUND(INDIRECT(ADDRESS(Данные!$A9,AZ$1,1,1,"Данные"), 1),2) -> 2527.47 | BA17: =ROUND(INDIRECT(ADDRESS(Данные!$A9,BA$1,1,1,"Данные"), 1),2) -> 0 | BB17: =(AZ17-AZ15)*BB$10 -> 168 | BC17: =(BA17-BA15)*BB$10 -> 0 | BD17: =ROUND(INDIRECT(ADDRESS(Данные!$A9,BD$1,1,1,"Данные"), 1),2) -> 7201.28 | BE17: =ROUND(INDIRECT(ADDRESS(Данные!$A9,BE$1,1,1,"Данные"), 1),2) -> 4698.25 | BF17: =(BD17-BD15)*BF$10 -> 42 | BG17: =(BE17-BE15)*BF$10 -> 12 | BH17: =ROUND(INDIRECT(ADDRESS(Данные!$A9,BH$1,1,1,"Данные"), 1),2) -> 89.23 | BI17: =ROUND(INDIRECT(ADDRESS(Данные!$A9,BI$1,1,1,"Данные"), 1),2) -> 52.02 | BJ17: =(BH17-BH15)*BJ$10 -> 0 | BK17: =(BI17-BI15)*BJ$10 -> 0 | BL17: =ROUND(INDIRECT(ADDRESS(Данные!$A9,BL$1,1,1,"Данные"), 1),2) -> 1238.21 | BM17: =ROUND(INDIRECT(ADDRESS(Данные!$A9,BM$1,1,1,"Данные"), 1),2) -> 1238.21 | BN17: =(BL17-BL15)*BN$10 -> 6 | BO17: =(BM17-BM15)*BN$10 -> 6 | BP17: =ROUND(INDIRECT(ADDRESS(Данные!$A9,BP$1,1,1,"Данные"), 1),2) -> 7616.51 | BQ17: =ROUND(INDIRECT(ADDRESS(Данные!$A9,BQ$1,1,1,"Данные"), 1),2) -> 2342.98 | BR17: =(BP17-BP15)*BR$10 -> 0 | BS17: =(BQ17-BQ15)*BR$10 -> 0 | BT17: =ROUND(INDIRECT(ADDRESS(Данные!$A9,BT$1,1,1,"Данные"), 1),2) -> 107.63 | BU17: =ROUND(INDIRECT(ADDRESS(Данные!$A9,BU$1,1,1,"Данные"), 1),2) -> 6.96 | BV17: =(BT17-BT15)*BV$10 -> 0 | BW17: =(BU17-BU15)*BV$10 -> 0 | BX17: =$A17 -> 45280.042 | BY17: =D17+H17+L17+P17+T17+X17+AC17+AG17+AK17+AO17+AS17+AW17+ BB17+BJ17+BF17+BN17+BR17+BV17 -> 10794 | BZ17: =E17+I17+M17+Q17+U17+Y17+AD17+AH17+AL17+AP17+AT17+AX17+ BC17+BK17+BG17+BO17+BS17+BW17 -> 1604
A18: =INDIRECT(ADDRESS(Данные!$A10,4,1,1,"Данные"), 1) -> 45280.062 | B18: =ROUND(INDIRECT(ADDRESS(Данные!$A10,B$1,1,1,"Данные"), 1),2) -> 12175.11 | C18: =ROUND(INDIRECT(ADDRESS(Данные!$A10,C$1,1,1,"Данные"), 1),2) -> 5254.64 | D18: =(B18-B17)*D$10 -> 240 | E18: =(C18-C17)*D$10 -> 0 | F18: =ROUND(INDIRECT(ADDRESS(Данные!$A10,F$1,1,1,"Данные"), 1),2) -> 41018.73 | G18: =ROUND(INDIRECT(ADDRESS(Данные!$A10,G$1,1,1,"Данные"), 1),2) -> 9016 | H18: =(F18-F17)*H$10 -> 560 | I18: =(G18-G17)*H$10 -> 40 | J18: =ROUND(INDIRECT(ADDRESS(Данные!$A10,J$1,1,1,"Данные"), 1),2) -> 16048.22 | K18: =ROUND(INDIRECT(ADDRESS(Данные!$A10,K$1,1,1,"Данные"), 1),2) -> 3847.86 | L18: =(J18-J17)*L$10 -> 440 | M18: =(K18-K17)*L$10 -> 40 | N18: =ROUND(INDIRECT(ADDRESS(Данные!$A10,N$1,1,1,"Данные"), 1),2) -> 6366.94 | O18: =ROUND(INDIRECT(ADDRESS(Данные!$A10,O$1,1,1,"Данные"), 1),2) -> 1168.08 | P18: =(N18-N17)*P$10 -> 520 | Q18: =(O18-O17)*P$10 -> 40 | R18: =ROUND(INDIRECT(ADDRESS(Данные!$A10,R$1,1,1,"Данные"), 1),2) -> 6460.65 | S18: =ROUND(INDIRECT(ADDRESS(Данные!$A10,S$1,1,1,"Данные"), 1),2) -> 3041.71 | T18: =(R18-R17)*T$10 -> 600 | U18: =(S18-S17)*T$10 -> 240 | V18: =ROUND(INDIRECT(ADDRESS(Данные!$A10,V$1,1,1,"Данные"), 1),2) -> 3097.92 | W18: =ROUND(INDIRECT(ADDRESS(Данные!$A10,W$1,1,1,"Данные"), 1),2) -> 1217.35 | X18: =(V18-V17)*X$10 -> 40 | Y18: =(W18-W17)*X$10 -> 0 | Z18: =INDIRECT(ADDRESS(Данные!$A10,4,1,1,"Данные"), 1) -> 45280.062 | AA18: =ROUND(INDIRECT(ADDRESS(Данные!$A10,AA$1,1,1,"Данные"), 1),2) -> 14073.19 | AB18: =ROUND(INDIRECT(ADDRESS(Данные!$A10,AB$1,1,1,"Данные"), 1),2) -> 2863.84 | AC18: =(AA18-AA17)*AC$10 -> 720 | AD18: =(AB18-AB17)*AC$10 -> 40 | AE18: =ROUND(INDIRECT(ADDRESS(Данные!$A10,AE$1,1,1,"Данные"), 1),2) -> 14162.85 | AF18: =ROUND(INDIRECT(ADDRESS(Данные!$A10,AF$1,1,1,"Данные"), 1),2) -> 4579.65 | AG18: =(AE18-AE17)*AG$10 -> 420 | AH18: =(AF18-AF17)*AG$10 -> 60 | AI18: =ROUND(INDIRECT(ADDRESS(Данные!$A10,AI$1,1,1,"Данные"), 1),2) -> 1357.63 | AJ18: =ROUND(INDIRECT(ADDRESS(Данные!$A10,AJ$1,1,1,"Данные"), 1),2) -> 387.77 | AK18: =(AI18-AI17)*AK$10 -> 400 | AL18: =(AJ18-AJ17)*AK$10 -> 80 | AM18: =ROUND(INDIRECT(ADDRESS(Данные!$A10,AM$1,1,1,"Данные"), 1),2) -> 19414.09 | AN18: =ROUND(INDIRECT(ADDRESS(Данные!$A10,AN$1,1,1,"Данные"), 1),2) -> 7650.53 | AO18: =(AM18-AM17)*AO$10 -> 520 | AP18: =(AN18-AN17)*AO$10 -> 80 | AQ18: =ROUND(INDIRECT(ADDRESS(Данные!$A10,AQ$1,1,1,"Данные"), 1),2) -> 15511.73 | AR18: =ROUND(INDIRECT(ADDRESS(Данные!$A10,AR$1,1,1,"Данные"), 1),2) -> 4021.55 | AS18: =(AQ18-AQ17)*AS$10 -> 480 | AT18: =(AR18-AR17)*AS$10 -> 60 | AU18: =ROUND(INDIRECT(ADDRESS(Данные!$A10,AU$1,1,1,"Данные"), 1),2) -> 2787.75 | AV18: =ROUND(INDIRECT(ADDRESS(Данные!$A10,AV$1,1,1,"Данные"), 1),2) -> 1238.22 | AW18: =(AU18-AU17)*AW$10 -> 42 | AX18: =(AV18-AV17)*AW$10 -> 6 | AY18: =INDIRECT(ADDRESS(Данные!$A10,4,1,1,"Данные"), 1) -> 45280.062 | AZ18: =ROUND(INDIRECT(ADDRESS(Данные!$A10,AZ$1,1,1,"Данные"), 1),2) -> 2527.76 | BA18: =ROUND(INDIRECT(ADDRESS(Данные!$A10,BA$1,1,1,"Данные"), 1),2) -> 0 | BB18: =(AZ18-AZ17)*BB$10 -> 87 | BC18: =(BA18-BA17)*BB$10 -> 0 | BD18: =ROUND(INDIRECT(ADDRESS(Данные!$A10,BD$1,1,1,"Данные"), 1),2) -> 7201.32 | BE18: =ROUND(INDIRECT(ADDRESS(Данные!$A10,BE$1,1,1,"Данные"), 1),2) -> 4698.25 | BF18: =(BD18-BD17)*BF$10 -> 24 | BG18: =(BE18-BE17)*BF$10 -> 0 | BH18: =ROUND(INDIRECT(ADDRESS(Данные!$A10,BH$1,1,1,"Данные"), 1),2) -> 89.23 | BI18: =ROUND(INDIRECT(ADDRESS(Данные!$A10,BI$1,1,1,"Данные"), 1),2) -> 52.02 | BJ18: =(BH18-BH17)*BJ$10 -> 0 | BK18: =(BI18-BI17)*BJ$10 -> 0 | BL18: =ROUND(INDIRECT(ADDRESS(Данные!$A10,BL$1,1,1,"Данные"), 1),2) -> 1238.22 | BM18: =ROUND(INDIRECT(ADDRESS(Данные!$A10,BM$1,1,1,"Данные"), 1),2) -> 1238.22 | BN18: =(BL18-BL17)*BN$10 -> 6 | BO18: =(BM18-BM17)*BN$10 -> 6 | BP18: =ROUND(INDIRECT(ADDRESS(Данные!$A10,BP$1,1,1,"Данные"), 1),2) -> 7616.51 | BQ18: =ROUND(INDIRECT(ADDRESS(Данные!$A10,BQ$1,1,1,"Данные"), 1),2) -> 2342.98 | BR18: =(BP18-BP17)*BR$10 -> 0 | BS18: =(BQ18-BQ17)*BR$10 -> 0 | BT18: =ROUND(INDIRECT(ADDRESS(Данные!$A10,BT$1,1,1,"Данные"), 1),2) -> 107.63 | BU18: =ROUND(INDIRECT(ADDRESS(Данные!$A10,BU$1,1,1,"Данные"), 1),2) -> 6.96 | BV18: =(BT18-BT17)*BV$10 -> 0 | BW18: =(BU18-BU17)*BV$10 -> 0 | BX18: =$A18 -> 45280.062 | BY18: =D18+H18+L18+P18+T18+X18+AC18+AG18+AK18+AO18+AS18+AW18+ BB18+BJ18+BF18+BN18+BR18+BV18 -> 5099 | BZ18: =E18+I18+M18+Q18+U18+Y18+AD18+AH18+AL18+AP18+AT18+AX18+ BC18+BK18+BG18+BO18+BS18+BW18 -> 692
A19: =INDIRECT(ADDRESS(Данные!$A11,4,1,1,"Данные"), 1) -> 45280.083 | B19: =ROUND(INDIRECT(ADDRESS(Данные!$A11,B$1,1,1,"Данные"), 1),2) -> 12175.17 | C19: =ROUND(INDIRECT(ADDRESS(Данные!$A11,C$1,1,1,"Данные"), 1),2) -> 5254.65 | D19: =(B19-B17)*D$10 -> 480 | E19: =(C19-C17)*D$10 -> 40 | F19: =ROUND(INDIRECT(ADDRESS(Данные!$A11,F$1,1,1,"Данные"), 1),2) -> 41018.87 | G19: =ROUND(INDIRECT(ADDRESS(Данные!$A11,G$1,1,1,"Данные"), 1),2) -> 9016.02 | H19: =(F19-F17)*H$10 -> 1120 | I19: =(G19-G17)*H$10 -> 120 | J19: =ROUND(INDIRECT(ADDRESS(Данные!$A11,J$1,1,1,"Данные"), 1),2) -> 16048.32 | K19: =ROUND(INDIRECT(ADDRESS(Данные!$A11,K$1,1,1,"Данные"), 1),2) -> 3847.87 | L19: =(J19-J17)*L$10 -> 840 | M19: =(K19-K17)*L$10 -> 80 | N19: =ROUND(INDIRECT(ADDRESS(Данные!$A11,N$1,1,1,"Данные"), 1),2) -> 6367.07 | O19: =ROUND(INDIRECT(ADDRESS(Данные!$A11,O$1,1,1,"Данные"), 1),2) -> 1168.09 | P19: =(N19-N17)*P$10 -> 1040 | Q19: =(O19-O17)*P$10 -> 80 | R19: =ROUND(INDIRECT(ADDRESS(Данные!$A11,R$1,1,1,"Данные"), 1),2) -> 6460.8 | S19: =ROUND(INDIRECT(ADDRESS(Данные!$A11,S$1,1,1,"Данные"), 1),2) -> 3041.76 | T19: =(R19-R17)*T$10 -> 1200 | U19: =(S19-S17)*T$10 -> 440 | V19: =ROUND(INDIRECT(ADDRESS(Данные!$A11,V$1,1,1,"Данные"), 1),2) -> 3097.93 | W19: =ROUND(INDIRECT(ADDRESS(Данные!$A11,W$1,1,1,"Данные"), 1),2) -> 1217.36 | X19: =(V19-V17)*X$10 -> 80 | Y19: =(W19-W17)*X$10 -> 40 | Z19: =INDIRECT(ADDRESS(Данные!$A11,4,1,1,"Данные"), 1) -> 45280.083 | AA19: =ROUND(INDIRECT(ADDRESS(Данные!$A11,AA$1,1,1,"Данные"), 1),2) -> 14073.38 | AB19: =ROUND(INDIRECT(ADDRESS(Данные!$A11,AB$1,1,1,"Данные"), 1),2) -> 2863.86 | AC19: =(AA19-AA17)*AC$10 -> 1480 | AD19: =(AB19-AB17)*AC$10 -> 120 | AE19: =ROUND(INDIRECT(ADDRESS(Данные!$A11,AE$1,1,1,"Данные"), 1),2) -> 14162.92 | AF19: =ROUND(INDIRECT(ADDRESS(Данные!$A11,AF$1,1,1,"Данные"), 1),2) -> 4579.66 | AG19: =(AE19-AE17)*AG$10 -> 840 | AH19: =(AF19-AF17)*AG$10 -> 120 | AI19: =ROUND(INDIRECT(ADDRESS(Данные!$A11,AI$1,1,1,"Данные"), 1),2) -> 1357.74 | AJ19: =ROUND(INDIRECT(ADDRESS(Данные!$A11,AJ$1,1,1,"Данные"), 1),2) -> 387.79 | AK19: =(AI19-AI17)*AK$10 -> 840 | AL19: =(AJ19-AJ17)*AK$10 -> 160 | AM19: =ROUND(INDIRECT(ADDRESS(Данные!$A11,AM$1,1,1,"Данные"), 1),2) -> 19414.22 | AN19: =ROUND(INDIRECT(ADDRESS(Данные!$A11,AN$1,1,1,"Данные"), 1),2) -> 7650.55 | AO19: =(AM19-AM17)*AO$10 -> 1040 | AP19: =(AN19-AN17)*AO$10 -> 160 | AQ19: =ROUND(INDIRECT(ADDRESS(Данные!$A11,AQ$1,1,1,"Данные"), 1),2) -> 15511.82 | AR19: =ROUND(INDIRECT(ADDRESS(Данные!$A11,AR$1,1,1,"Данные"), 1),2) -> 4021.56 | AS19: =(AQ19-AQ17)*AS$10 -> 1020 | AT19: =(AR19-AR17)*AS$10 -> 120 | AU19: =ROUND(INDIRECT(ADDRESS(Данные!$A11,AU$1,1,1,"Данные"), 1),2) -> 2787.82 | AV19: =ROUND(INDIRECT(ADDRESS(Данные!$A11,AV$1,1,1,"Данные"), 1),2) -> 1238.23 | AW19: =(AU19-AU17)*AW$10 -> 84 | AX19: =(AV19-AV17)*AW$10 -> 12 | AY19: =INDIRECT(ADDRESS(Данные!$A11,4,1,1,"Данные"), 1) -> 45280.083 | AZ19: =ROUND(INDIRECT(ADDRESS(Данные!$A11,AZ$1,1,1,"Данные"), 1),2) -> 2528.03 | BA19: =ROUND(INDIRECT(ADDRESS(Данные!$A11,BA$1,1,1,"Данные"), 1),2) -> 0 | BB19: =(AZ19-AZ17)*BB$10 -> 168 | BC19: =(BA19-BA17)*BB$10 -> 0 | BD19: =ROUND(INDIRECT(ADDRESS(Данные!$A11,BD$1,1,1,"Данные"), 1),2) -> 7201.36 | BE19: =ROUND(INDIRECT(ADDRESS(Данные!$A11,BE$1,1,1,"Данные"), 1),2) -> 4698.26 | BF19: =(BD19-BD17)*BF$10 -> 48 | BG19: =(BE19-BE17)*BF$10 -> 6 | BH19: =ROUND(INDIRECT(ADDRESS(Данные!$A11,BH$1,1,1,"Данные"), 1),2) -> 89.23 | BI19: =ROUND(INDIRECT(ADDRESS(Данные!$A11,BI$1,1,1,"Данные"), 1),2) -> 52.02 | BJ19: =(BH19-BH17)*BJ$10 -> 0 | BK19: =(BI19-BI17)*BJ$10 -> 0 | BL19: =ROUND(INDIRECT(ADDRESS(Данные!$A11,BL$1,1,1,"Данные"), 1),2) -> 1238.23 | BM19: =ROUND(INDIRECT(ADDRESS(Данные!$A11,BM$1,1,1,"Данные"), 1),2) -> 1238.23 | BN19: =(BL19-BL17)*BN$10 -> 12 | BO19: =(BM19-BM17)*BN$10 -> 12 | BP19: =ROUND(INDIRECT(ADDRESS(Данные!$A11,BP$1,1,1,"Данные"), 1),2) -> 7616.51 | BQ19: =ROUND(INDIRECT(ADDRESS(Данные!$A11,BQ$1,1,1,"Данные"), 1),2) -> 2342.98 | BR19: =(BP19-BP17)*BR$10 -> 0 | BS19: =(BQ19-BQ17)*BR$10 -> 0 | BT19: =ROUND(INDIRECT(ADDRESS(Данные!$A11,BT$1,1,1,"Данные"), 1),2) -> 107.63 | BU19: =ROUND(INDIRECT(ADDRESS(Данные!$A11,BU$1,1,1,"Данные"), 1),2) -> 6.96 | BV19: =(BT19-BT17)*BV$10 -> 0 | BW19: =(BU19-BU17)*BV$10 -> 0 | BX19: =$A19 -> 45280.083 | BY19: =D19+H19+L19+P19+T19+X19+AC19+AG19+AK19+AO19+AS19+AW19+ BB19+BJ19+BF19+BN19+BR19+BV19 -> 10292 | BZ19: =E19+I19+M19+Q19+U19+Y19+AD19+AH19+AL19+AP19+AT19+AX19+ BC19+BK19+BG19+BO19+BS19+BW19 -> 1510
A20: =INDIRECT(ADDRESS(Данные!$A12,4,1,1,"Данные"), 1) -> 45280.104 | B20: =ROUND(INDIRECT(ADDRESS(Данные!$A12,B$1,1,1,"Данные"), 1),2) -> 12175.23 | C20: =ROUND(INDIRECT(ADDRESS(Данные!$A12,C$1,1,1,"Данные"), 1),2) -> 5254.65 | D20: =(B20-B19)*D$10 -> 240 | E20: =(C20-C19)*D$10 -> 0 | F20: =ROUND(INDIRECT(ADDRESS(Данные!$A12,F$1,1,1,"Данные"), 1),2) -> 41019 | G20: =ROUND(INDIRECT(ADDRESS(Данные!$A12,G$1,1,1,"Данные"), 1),2) -> 9016.04 | H20: =(F20-F19)*H$10 -> 520 | I20: =(G20-G19)*H$10 -> 80 | J20: =ROUND(INDIRECT(ADDRESS(Данные!$A12,J$1,1,1,"Данные"), 1),2) -> 16048.43 | K20: =ROUND(INDIRECT(ADDRESS(Данные!$A12,K$1,1,1,"Данные"), 1),2) -> 3847.89 | L20: =(J20-J19)*L$10 -> 440 | M20: =(K20-K19)*L$10 -> 80 | N20: =ROUND(INDIRECT(ADDRESS(Данные!$A12,N$1,1,1,"Данные"), 1),2) -> 6367.19 | O20: =ROUND(INDIRECT(ADDRESS(Данные!$A12,O$1,1,1,"Данные"), 1),2) -> 1168.09 | P20: =(N20-N19)*P$10 -> 480 | Q20: =(O20-O19)*P$10 -> 0 | R20: =ROUND(INDIRECT(ADDRESS(Данные!$A12,R$1,1,1,"Данные"), 1),2) -> 6460.96 | S20: =ROUND(INDIRECT(ADDRESS(Данные!$A12,S$1,1,1,"Данные"), 1),2) -> 3041.82 | T20: =(R20-R19)*T$10 -> 640 | U20: =(S20-S19)*T$10 -> 240 | V20: =ROUND(INDIRECT(ADDRESS(Данные!$A12,V$1,1,1,"Данные"), 1),2) -> 3097.94 | W20: =ROUND(INDIRECT(ADDRESS(Данные!$A12,W$1,1,1,"Данные"), 1),2) -> 1217.36 | X20: =(V20-V19)*X$10 -> 40 | Y20: =(W20-W19)*X$10 -> 0 | Z20: =INDIRECT(ADDRESS(Данные!$A12,4,1,1,"Данные"), 1) -> 45280.104 | AA20: =ROUND(INDIRECT(ADDRESS(Данные!$A12,AA$1,1,1,"Данные"), 1),2) -> 14073.56 | AB20: =ROUND(INDIRECT(ADDRESS(Данные!$A12,AB$1,1,1,"Данные"), 1),2) -> 2863.87 | AC20: =(AA20-AA19)*AC$10 -> 720 | AD20: =(AB20-AB19)*AC$10 -> 40 | AE20: =ROUND(INDIRECT(ADDRESS(Данные!$A12,AE$1,1,1,"Данные"), 1),2) -> 14162.98 | AF20: =ROUND(INDIRECT(ADDRESS(Данные!$A12,AF$1,1,1,"Данные"), 1),2) -> 4579.67 | AG20: =(AE20-AE19)*AG$10 -> 360 | AH20: =(AF20-AF19)*AG$10 -> 60 | AI20: =ROUND(INDIRECT(ADDRESS(Данные!$A12,AI$1,1,1,"Данные"), 1),2) -> 1357.83 | AJ20: =ROUND(INDIRECT(ADDRESS(Данные!$A12,AJ$1,1,1,"Данные"), 1),2) -> 387.8 | AK20: =(AI20-AI19)*AK$10 -> 360 | AL20: =(AJ20-AJ19)*AK$10 -> 40 | AM20: =ROUND(INDIRECT(ADDRESS(Данные!$A12,AM$1,1,1,"Данные"), 1),2) -> 19414.36 | AN20: =ROUND(INDIRECT(ADDRESS(Данные!$A12,AN$1,1,1,"Данные"), 1),2) -> 7650.58 | AO20: =(AM20-AM19)*AO$10 -> 560 | AP20: =(AN20-AN19)*AO$10 -> 120 | AQ20: =ROUND(INDIRECT(ADDRESS(Данные!$A12,AQ$1,1,1,"Данные"), 1),2) -> 15511.9 | AR20: =ROUND(INDIRECT(ADDRESS(Данные!$A12,AR$1,1,1,"Данные"), 1),2) -> 4021.58 | AS20: =(AQ20-AQ19)*AS$10 -> 480 | AT20: =(AR20-AR19)*AS$10 -> 120 | AU20: =ROUND(INDIRECT(ADDRESS(Данные!$A12,AU$1,1,1,"Данные"), 1),2) -> 2787.89 | AV20: =ROUND(INDIRECT(ADDRESS(Данные!$A12,AV$1,1,1,"Данные"), 1),2) -> 1238.24 | AW20: =(AU20-AU19)*AW$10 -> 42 | AX20: =(AV20-AV19)*AW$10 -> 6 | AY20: =INDIRECT(ADDRESS(Данные!$A12,4,1,1,"Данные"), 1) -> 45280.104 | AZ20: =ROUND(INDIRECT(ADDRESS(Данные!$A12,AZ$1,1,1,"Данные"), 1),2) -> 2528.32 | BA20: =ROUND(INDIRECT(ADDRESS(Данные!$A12,BA$1,1,1,"Данные"), 1),2) -> 0 | BB20: =(AZ20-AZ19)*BB$10 -> 87 | BC20: =(BA20-BA19)*BB$10 -> 0 | BD20: =ROUND(INDIRECT(ADDRESS(Данные!$A12,BD$1,1,1,"Данные"), 1),2) -> 7201.39 | BE20: =ROUND(INDIRECT(ADDRESS(Данные!$A12,BE$1,1,1,"Данные"), 1),2) -> 4698.27 | BF20: =(BD20-BD19)*BF$10 -> 18 | BG20: =(BE20-BE19)*BF$10 -> 6 | BH20: =ROUND(INDIRECT(ADDRESS(Данные!$A12,BH$1,1,1,"Данные"), 1),2) -> 89.23 | BI20: =ROUND(INDIRECT(ADDRESS(Данные!$A12,BI$1,1,1,"Данные"), 1),2) -> 52.02 | BJ20: =(BH20-BH19)*BJ$10 -> 0 | BK20: =(BI20-BI19)*BJ$10 -> 0 | BL20: =ROUND(INDIRECT(ADDRESS(Данные!$A12,BL$1,1,1,"Данные"), 1),2) -> 1238.24 | BM20: =ROUND(INDIRECT(ADDRESS(Данные!$A12,BM$1,1,1,"Данные"), 1),2) -> 1238.24 | BN20: =(BL20-BL19)*BN$10 -> 6 | BO20: =(BM20-BM19)*BN$10 -> 6 | BP20: =ROUND(INDIRECT(ADDRESS(Данные!$A12,BP$1,1,1,"Данные"), 1),2) -> 7616.51 | BQ20: =ROUND(INDIRECT(ADDRESS(Данные!$A12,BQ$1,1,1,"Данные"), 1),2) -> 2342.98 | BR20: =(BP20-BP19)*BR$10 -> 0 | BS20: =(BQ20-BQ19)*BR$10 -> 0 | BT20: =ROUND(INDIRECT(ADDRESS(Данные!$A12,BT$1,1,1,"Данные"), 1),2) -> 107.63 | BU20: =ROUND(INDIRECT(ADDRESS(Данные!$A12,BU$1,1,1,"Данные"), 1),2) -> 6.96 | BV20: =(BT20-BT19)*BV$10 -> 0 | BW20: =(BU20-BU19)*BV$10 -> 0 | BX20: =$A20 -> 45280.104 | BY20: =D20+H20+L20+P20+T20+X20+AC20+AG20+AK20+AO20+AS20+AW20+ BB20+BJ20+BF20+BN20+BR20+BV20 -> 4993 | BZ20: =E20+I20+M20+Q20+U20+Y20+AD20+AH20+AL20+AP20+AT20+AX20+ BC20+BK20+BG20+BO20+BS20+BW20 -> 798
A21: =INDIRECT(ADDRESS(Данные!$A13,4,1,1,"Данные"), 1) -> 45280.125 | B21: =ROUND(INDIRECT(ADDRESS(Данные!$A13,B$1,1,1,"Данные"), 1),2) -> 12175.3 | C21: =ROUND(INDIRECT(ADDRESS(Данные!$A13,C$1,1,1,"Данные"), 1),2) -> 5254.65 | D21: =(B21-B19)*D$10 -> 520 | E21: =(C21-C19)*D$10 -> 0 | F21: =ROUND(INDIRECT(ADDRESS(Данные!$A13,F$1,1,1,"Данные"), 1),2) -> 41019.13 | G21: =ROUND(INDIRECT(ADDRESS(Данные!$A13,G$1,1,1,"Данные"), 1),2) -> 9016.06 | H21: =(F21-F19)*H$10 -> 1040 | I21: =(G21-G19)*H$10 -> 160 | J21: =ROUND(INDIRECT(ADDRESS(Данные!$A13,J$1,1,1,"Данные"), 1),2) -> 16048.53 | K21: =ROUND(INDIRECT(ADDRESS(Данные!$A13,K$1,1,1,"Данные"), 1),2) -> 3847.9 | L21: =(J21-J19)*L$10 -> 840 | M21: =(K21-K19)*L$10 -> 120 | N21: =ROUND(INDIRECT(ADDRESS(Данные!$A13,N$1,1,1,"Данные"), 1),2) -> 6367.32 | O21: =ROUND(INDIRECT(ADDRESS(Данные!$A13,O$1,1,1,"Данные"), 1),2) -> 1168.1 | P21: =(N21-N19)*P$10 -> 1000 | Q21: =(O21-O19)*P$10 -> 40 | R21: =ROUND(INDIRECT(ADDRESS(Данные!$A13,R$1,1,1,"Данные"), 1),2) -> 6461.13 | S21: =ROUND(INDIRECT(ADDRESS(Данные!$A13,S$1,1,1,"Данные"), 1),2) -> 3041.89 | T21: =(R21-R19)*T$10 -> 1320 | U21: =(S21-S19)*T$10 -> 520 | V21: =ROUND(INDIRECT(ADDRESS(Данные!$A13,V$1,1,1,"Данные"), 1),2) -> 3097.96 | W21: =ROUND(INDIRECT(ADDRESS(Данные!$A13,W$1,1,1,"Данные"), 1),2) -> 1217.37 | X21: =(V21-V19)*X$10 -> 120 | Y21: =(W21-W19)*X$10 -> 40 | Z21: =INDIRECT(ADDRESS(Данные!$A13,4,1,1,"Данные"), 1) -> 45280.125 | AA21: =ROUND(INDIRECT(ADDRESS(Данные!$A13,AA$1,1,1,"Данные"), 1),2) -> 14073.74 | AB21: =ROUND(INDIRECT(ADDRESS(Данные!$A13,AB$1,1,1,"Данные"), 1),2) -> 2863.89 | AC21: =(AA21-AA19)*AC$10 -> 1440 | AD21: =(AB21-AB19)*AC$10 -> 120 | AE21: =ROUND(INDIRECT(ADDRESS(Данные!$A13,AE$1,1,1,"Данные"), 1),2) -> 14163.05 | AF21: =ROUND(INDIRECT(ADDRESS(Данные!$A13,AF$1,1,1,"Данные"), 1),2) -> 4579.68 | AG21: =(AE21-AE19)*AG$10 -> 780 | AH21: =(AF21-AF19)*AG$10 -> 120 | AI21: =ROUND(INDIRECT(ADDRESS(Данные!$A13,AI$1,1,1,"Данные"), 1),2) -> 1357.93 | AJ21: =ROUND(INDIRECT(ADDRESS(Данные!$A13,AJ$1,1,1,"Данные"), 1),2) -> 387.82 | AK21: =(AI21-AI19)*AK$10 -> 760 | AL21: =(AJ21-AJ19)*AK$10 -> 120 | AM21: =ROUND(INDIRECT(ADDRESS(Данные!$A13,AM$1,1,1,"Данные"), 1),2) -> 19414.49 | AN21: =ROUND(INDIRECT(ADDRESS(Данные!$A13,AN$1,1,1,"Данные"), 1),2) -> 7650.6 | AO21: =(AM21-AM19)*AO$10 -> 1080 | AP21: =(AN21-AN19)*AO$10 -> 200 | AQ21: =ROUND(INDIRECT(ADDRESS(Данные!$A13,AQ$1,1,1,"Данные"), 1),2) -> 15511.98 | AR21: =ROUND(INDIRECT(ADDRESS(Данные!$A13,AR$1,1,1,"Данные"), 1),2) -> 4021.59 | AS21: =(AQ21-AQ19)*AS$10 -> 960 | AT21: =(AR21-AR19)*AS$10 -> 180 | AU21: =ROUND(INDIRECT(ADDRESS(Данные!$A13,AU$1,1,1,"Данные"), 1),2) -> 2787.96 | AV21: =ROUND(INDIRECT(ADDRESS(Данные!$A13,AV$1,1,1,"Данные"), 1),2) -> 1238.24 | AW21: =(AU21-AU19)*AW$10 -> 84 | AX21: =(AV21-AV19)*AW$10 -> 6 | AY21: =INDIRECT(ADDRESS(Данные!$A13,4,1,1,"Данные"), 1) -> 45280.125 | AZ21: =ROUND(INDIRECT(ADDRESS(Данные!$A13,AZ$1,1,1,"Данные"), 1),2) -> 2528.6 | BA21: =ROUND(INDIRECT(ADDRESS(Данные!$A13,BA$1,1,1,"Данные"), 1),2) -> 0 | BB21: =(AZ21-AZ19)*BB$10 -> 171 | BC21: =(BA21-BA19)*BB$10 -> 0 | BD21: =ROUND(INDIRECT(ADDRESS(Данные!$A13,BD$1,1,1,"Данные"), 1),2) -> 7201.43 | BE21: =ROUND(INDIRECT(ADDRESS(Данные!$A13,BE$1,1,1,"Данные"), 1),2) -> 4698.28 | BF21: =(BD21-BD19)*BF$10 -> 42 | BG21: =(BE21-BE19)*BF$10 -> 12 | BH21: =ROUND(INDIRECT(ADDRESS(Данные!$A13,BH$1,1,1,"Данные"), 1),2) -> 89.23 | BI21: =ROUND(INDIRECT(ADDRESS(Данные!$A13,BI$1,1,1,"Данные"), 1),2) -> 52.02 | BJ21: =(BH21-BH19)*BJ$10 -> 0 | BK21: =(BI21-BI19)*BJ$10 -> 0 | BL21: =ROUND(INDIRECT(ADDRESS(Данные!$A13,BL$1,1,1,"Данные"), 1),2) -> 1238.24 | BM21: =ROUND(INDIRECT(ADDRESS(Данные!$A13,BM$1,1,1,"Данные"), 1),2) -> 1238.24 | BN21: =(BL21-BL19)*BN$10 -> 6 | BO21: =(BM21-BM19)*BN$10 -> 6 | BP21: =ROUND(INDIRECT(ADDRESS(Данные!$A13,BP$1,1,1,"Данные"), 1),2) -> 7616.51 | BQ21: =ROUND(INDIRECT(ADDRESS(Данные!$A13,BQ$1,1,1,"Данные"), 1),2) -> 2342.98 | BR21: =(BP21-BP19)*BR$10 -> 0 | BS21: =(BQ21-BQ19)*BR$10 -> 0 | BT21: =ROUND(INDIRECT(ADDRESS(Данные!$A13,BT$1,1,1,"Данные"), 1),2) -> 107.63 | BU21: =ROUND(INDIRECT(ADDRESS(Данные!$A13,BU$1,1,1,"Данные"), 1),2) -> 6.96 | BV21: =(BT21-BT19)*BV$10 -> 0 | BW21: =(BU21-BU19)*BV$10 -> 0 | BX21: =$A21 -> 45280.125 | BY21: =D21+H21+L21+P21+T21+X21+AC21+AG21+AK21+AO21+AS21+AW21+ BB21+BJ21+BF21+BN21+BR21+BV21 -> 10163 | BZ21: =E21+I21+M21+Q21+U21+Y21+AD21+AH21+AL21+AP21+AT21+AX21+ BC21+BK21+BG21+BO21+BS21+BW21 -> 1644
A22: =INDIRECT(ADDRESS(Данные!$A14,4,1,1,"Данные"), 1) -> 45280.146 | B22: =ROUND(INDIRECT(ADDRESS(Данные!$A14,B$1,1,1,"Данные"), 1),2) -> 12175.36 | C22: =ROUND(INDIRECT(ADDRESS(Данные!$A14,C$1,1,1,"Данные"), 1),2) -> 5254.66 | D22: =(B22-B21)*D$10 -> 240 | E22: =(C22-C21)*D$10 -> 40 | F22: =ROUND(INDIRECT(ADDRESS(Данные!$A14,F$1,1,1,"Данные"), 1),2) -> 41019.27 | G22: =ROUND(INDIRECT(ADDRESS(Данные!$A14,G$1,1,1,"Данные"), 1),2) -> 9016.08 | H22: =(F22-F21)*H$10 -> 560 | I22: =(G22-G21)*H$10 -> 80 | J22: =ROUND(INDIRECT(ADDRESS(Данные!$A14,J$1,1,1,"Данные"), 1),2) -> 16048.63 | K22: =ROUND(INDIRECT(ADDRESS(Данные!$A14,K$1,1,1,"Данные"), 1),2) -> 3847.91 | L22: =(J22-J21)*L$10 -> 400 | M22: =(K22-K21)*L$10 -> 40 | N22: =ROUND(INDIRECT(ADDRESS(Данные!$A14,N$1,1,1,"Данные"), 1),2) -> 6367.45 | O22: =ROUND(INDIRECT(ADDRESS(Данные!$A14,O$1,1,1,"Данные"), 1),2) -> 1168.11 | P22: =(N22-N21)*P$10 -> 520 | Q22: =(O22-O21)*P$10 -> 40 | R22: =ROUND(INDIRECT(ADDRESS(Данные!$A14,R$1,1,1,"Данные"), 1),2) -> 6461.29 | S22: =ROUND(INDIRECT(ADDRESS(Данные!$A14,S$1,1,1,"Данные"), 1),2) -> 3041.95 | T22: =(R22-R21)*T$10 -> 640 | U22: =(S22-S21)*T$10 -> 240 | V22: =ROUND(INDIRECT(ADDRESS(Данные!$A14,V$1,1,1,"Данные"), 1),2) -> 3097.97 | W22: =ROUND(INDIRECT(ADDRESS(Данные!$A14,W$1,1,1,"Данные"), 1),2) -> 1217.37 | X22: =(V22-V21)*X$10 -> 40 | Y22: =(W22-W21)*X$10 -> 0 | Z22: =INDIRECT(ADDRESS(Данные!$A14,4,1,1,"Данные"), 1) -> 45280.146 | AA22: =ROUND(INDIRECT(ADDRESS(Данные!$A14,AA$1,1,1,"Данные"), 1),2) -> 14073.92 | AB22: =ROUND(INDIRECT(ADDRESS(Данные!$A14,AB$1,1,1,"Данные"), 1),2) -> 2863.9 | AC22: =(AA22-AA21)*AC$10 -> 720 | AD22: =(AB22-AB21)*AC$10 -> 40 | AE22: =ROUND(INDIRECT(ADDRESS(Данные!$A14,AE$1,1,1,"Данные"), 1),2) -> 14163.11 | AF22: =ROUND(INDIRECT(ADDRESS(Данные!$A14,AF$1,1,1,"Данные"), 1),2) -> 4579.69 | AG22: =(AE22-AE21)*AG$10 -> 360 | AH22: =(AF22-AF21)*AG$10 -> 60 | AI22: =ROUND(INDIRECT(ADDRESS(Данные!$A14,AI$1,1,1,"Данные"), 1),2) -> 1358.02 | AJ22: =ROUND(INDIRECT(ADDRESS(Данные!$A14,AJ$1,1,1,"Данные"), 1),2) -> 387.84 | AK22: =(AI22-AI21)*AK$10 -> 360 | AL22: =(AJ22-AJ21)*AK$10 -> 80 | AM22: =ROUND(INDIRECT(ADDRESS(Данные!$A14,AM$1,1,1,"Данные"), 1),2) -> 19414.63 | AN22: =ROUND(INDIRECT(ADDRESS(Данные!$A14,AN$1,1,1,"Данные"), 1),2) -> 7650.62 | AO22: =(AM22-AM21)*AO$10 -> 560 | AP22: =(AN22-AN21)*AO$10 -> 80 | AQ22: =ROUND(INDIRECT(ADDRESS(Данные!$A14,AQ$1,1,1,"Данные"), 1),2) -> 15512.06 | AR22: =ROUND(INDIRECT(ADDRESS(Данные!$A14,AR$1,1,1,"Данные"), 1),2) -> 4021.6 | AS22: =(AQ22-AQ21)*AS$10 -> 480 | AT22: =(AR22-AR21)*AS$10 -> 60 | AU22: =ROUND(INDIRECT(ADDRESS(Данные!$A14,AU$1,1,1,"Данные"), 1),2) -> 2788.03 | AV22: =ROUND(INDIRECT(ADDRESS(Данные!$A14,AV$1,1,1,"Данные"), 1),2) -> 1238.25 | AW22: =(AU22-AU21)*AW$10 -> 42 | AX22: =(AV22-AV21)*AW$10 -> 6 | AY22: =INDIRECT(ADDRESS(Данные!$A14,4,1,1,"Данные"), 1) -> 45280.146 | AZ22: =ROUND(INDIRECT(ADDRESS(Данные!$A14,AZ$1,1,1,"Данные"), 1),2) -> 2528.88 | BA22: =ROUND(INDIRECT(ADDRESS(Данные!$A14,BA$1,1,1,"Данные"), 1),2) -> 0 | BB22: =(AZ22-AZ21)*BB$10 -> 84 | BC22: =(BA22-BA21)*BB$10 -> 0 | BD22: =ROUND(INDIRECT(ADDRESS(Данные!$A14,BD$1,1,1,"Данные"), 1),2) -> 7201.47 | BE22: =ROUND(INDIRECT(ADDRESS(Данные!$A14,BE$1,1,1,"Данные"), 1),2) -> 4698.28 | BF22: =(BD22-BD21)*BF$10 -> 24 | BG22: =(BE22-BE21)*BF$10 -> 0 | BH22: =ROUND(INDIRECT(ADDRESS(Данные!$A14,BH$1,1,1,"Данные"), 1),2) -> 89.23 | BI22: =ROUND(INDIRECT(ADDRESS(Данные!$A14,BI$1,1,1,"Данные"), 1),2) -> 52.02 | BJ22: =(BH22-BH21)*BJ$10 -> 0 | BK22: =(BI22-BI21)*BJ$10 -> 0 | BL22: =ROUND(INDIRECT(ADDRESS(Данные!$A14,BL$1,1,1,"Данные"), 1),2) -> 1238.25 | BM22: =ROUND(INDIRECT(ADDRESS(Данные!$A14,BM$1,1,1,"Данные"), 1),2) -> 1238.25 | BN22: =(BL22-BL21)*BN$10 -> 6 | BO22: =(BM22-BM21)*BN$10 -> 6 | BP22: =ROUND(INDIRECT(ADDRESS(Данные!$A14,BP$1,1,1,"Данные"), 1),2) -> 7616.51 | BQ22: =ROUND(INDIRECT(ADDRESS(Данные!$A14,BQ$1,1,1,"Данные"), 1),2) -> 2342.98 | BR22: =(BP22-BP21)*BR$10 -> 0 | BS22: =(BQ22-BQ21)*BR$10 -> 0 | BT22: =ROUND(INDIRECT(ADDRESS(Данные!$A14,BT$1,1,1,"Данные"), 1),2) -> 107.63 | BU22: =ROUND(INDIRECT(ADDRESS(Данные!$A14,BU$1,1,1,"Данные"), 1),2) -> 6.96 | BV22: =(BT22-BT21)*BV$10 -> 0 | BW22: =(BU22-BU21)*BV$10 -> 0 | BX22: =$A22 -> 45280.146 | BY22: =D22+H22+L22+P22+T22+X22+AC22+AG22+AK22+AO22+AS22+AW22+ BB22+BJ22+BF22+BN22+BR22+BV22 -> 5036 | BZ22: =E22+I22+M22+Q22+U22+Y22+AD22+AH22+AL22+AP22+AT22+AX22+ BC22+BK22+BG22+BO22+BS22+BW22 -> 772
A23: =INDIRECT(ADDRESS(Данные!$A15,4,1,1,"Данные"), 1) -> 45280.167 | B23: =ROUND(INDIRECT(ADDRESS(Данные!$A15,B$1,1,1,"Данные"), 1),2) -> 12175.42 | C23: =ROUND(INDIRECT(ADDRESS(Данные!$A15,C$1,1,1,"Данные"), 1),2) -> 5254.66 | D23: =(B23-B21)*D$10 -> 480 | E23: =(C23-C21)*D$10 -> 40 | F23: =ROUND(INDIRECT(ADDRESS(Данные!$A15,F$1,1,1,"Данные"), 1),2) -> 41019.4 | G23: =ROUND(INDIRECT(ADDRESS(Данные!$A15,G$1,1,1,"Данные"), 1),2) -> 9016.09 | H23: =(F23-F21)*H$10 -> 1080 | I23: =(G23-G21)*H$10 -> 120 | J23: =ROUND(INDIRECT(ADDRESS(Данные!$A15,J$1,1,1,"Данные"), 1),2) -> 16048.73 | K23: =ROUND(INDIRECT(ADDRESS(Данные!$A15,K$1,1,1,"Данные"), 1),2) -> 3847.92 | L23: =(J23-J21)*L$10 -> 800 | M23: =(K23-K21)*L$10 -> 80 | N23: =ROUND(INDIRECT(ADDRESS(Данные!$A15,N$1,1,1,"Данные"), 1),2) -> 6367.58 | O23: =ROUND(INDIRECT(ADDRESS(Данные!$A15,O$1,1,1,"Данные"), 1),2) -> 1168.12 | P23: =(N23-N21)*P$10 -> 1040 | Q23: =(O23-O21)*P$10 -> 80 | R23: =ROUND(INDIRECT(ADDRESS(Данные!$A15,R$1,1,1,"Данные"), 1),2) -> 6461.46 | S23: =ROUND(INDIRECT(ADDRESS(Данные!$A15,S$1,1,1,"Данные"), 1),2) -> 3042.01 | T23: =(R23-R21)*T$10 -> 1320 | U23: =(S23-S21)*T$10 -> 480 | V23: =ROUND(INDIRECT(ADDRESS(Данные!$A15,V$1,1,1,"Данные"), 1),2) -> 3097.98 | W23: =ROUND(INDIRECT(ADDRESS(Данные!$A15,W$1,1,1,"Данные"), 1),2) -> 1217.38 | X23: =(V23-V21)*X$10 -> 80 | Y23: =(W23-W21)*X$10 -> 40 | Z23: =INDIRECT(ADDRESS(Данные!$A15,4,1,1,"Данные"), 1) -> 45280.167 | AA23: =ROUND(INDIRECT(ADDRESS(Данные!$A15,AA$1,1,1,"Данные"), 1),2) -> 14074.1 | AB23: =ROUND(INDIRECT(ADDRESS(Данные!$A15,AB$1,1,1,"Данные"), 1),2) -> 2863.92 | AC23: =(AA23-AA21)*AC$10 -> 1440 | AD23: =(AB23-AB21)*AC$10 -> 120 | AE23: =ROUND(INDIRECT(ADDRESS(Данные!$A15,AE$1,1,1,"Данные"), 1),2) -> 14163.18 | AF23: =ROUND(INDIRECT(ADDRESS(Данные!$A15,AF$1,1,1,"Данные"), 1),2) -> 4579.7 | AG23: =(AE23-AE21)*AG$10 -> 780 | AH23: =(AF23-AF21)*AG$10 -> 120 | AI23: =ROUND(INDIRECT(ADDRESS(Данные!$A15,AI$1,1,1,"Данные"), 1),2) -> 1358.11 | AJ23: =ROUND(INDIRECT(ADDRESS(Данные!$A15,AJ$1,1,1,"Данные"), 1),2) -> 387.86 | AK23: =(AI23-AI21)*AK$10 -> 720 | AL23: =(AJ23-AJ21)*AK$10 -> 160 | AM23: =ROUND(INDIRECT(ADDRESS(Данные!$A15,AM$1,1,1,"Данные"), 1),2) -> 19414.76 | AN23: =ROUND(INDIRECT(ADDRESS(Данные!$A15,AN$1,1,1,"Данные"), 1),2) -> 7650.64 | AO23: =(AM23-AM21)*AO$10 -> 1080 | AP23: =(AN23-AN21)*AO$10 -> 160 | AQ23: =ROUND(INDIRECT(ADDRESS(Данные!$A15,AQ$1,1,1,"Данные"), 1),2) -> 15512.14 | AR23: =ROUND(INDIRECT(ADDRESS(Данные!$A15,AR$1,1,1,"Данные"), 1),2) -> 4021.61 | AS23: =(AQ23-AQ21)*AS$10 -> 960 | AT23: =(AR23-AR21)*AS$10 -> 120 | AU23: =ROUND(INDIRECT(ADDRESS(Данные!$A15,AU$1,1,1,"Данные"), 1),2) -> 2788.1 | AV23: =ROUND(INDIRECT(ADDRESS(Данные!$A15,AV$1,1,1,"Данные"), 1),2) -> 1238.26 | AW23: =(AU23-AU21)*AW$10 -> 84 | AX23: =(AV23-AV21)*AW$10 -> 12 | AY23: =INDIRECT(ADDRESS(Данные!$A15,4,1,1,"Данные"), 1) -> 45280.167 | AZ23: =ROUND(INDIRECT(ADDRESS(Данные!$A15,AZ$1,1,1,"Данные"), 1),2) -> 2529.17 | BA23: =ROUND(INDIRECT(ADDRESS(Данные!$A15,BA$1,1,1,"Данные"), 1),2) -> 0 | BB23: =(AZ23-AZ21)*BB$10 -> 171 | BC23: =(BA23-BA21)*BB$10 -> 0 | BD23: =ROUND(INDIRECT(ADDRESS(Данные!$A15,BD$1,1,1,"Данные"), 1),2) -> 7201.5 | BE23: =ROUND(INDIRECT(ADDRESS(Данные!$A15,BE$1,1,1,"Данные"), 1),2) -> 4698.29 | BF23: =(BD23-BD21)*BF$10 -> 42 | BG23: =(BE23-BE21)*BF$10 -> 6 | BH23: =ROUND(INDIRECT(ADDRESS(Данные!$A15,BH$1,1,1,"Данные"), 1),2) -> 89.23 | BI23: =ROUND(INDIRECT(ADDRESS(Данные!$A15,BI$1,1,1,"Данные"), 1),2) -> 52.02 | BJ23: =(BH23-BH21)*BJ$10 -> 0 | BK23: =(BI23-BI21)*BJ$10 -> 0 | BL23: =ROUND(INDIRECT(ADDRESS(Данные!$A15,BL$1,1,1,"Данные"), 1),2) -> 1238.26 | BM23: =ROUND(INDIRECT(ADDRESS(Данные!$A15,BM$1,1,1,"Данные"), 1),2) -> 1238.26 | BN23: =(BL23-BL21)*BN$10 -> 12 | BO23: =(BM23-BM21)*BN$10 -> 12 | BP23: =ROUND(INDIRECT(ADDRESS(Данные!$A15,BP$1,1,1,"Данные"), 1),2) -> 7616.51 | BQ23: =ROUND(INDIRECT(ADDRESS(Данные!$A15,BQ$1,1,1,"Данные"), 1),2) -> 2342.98 | BR23: =(BP23-BP21)*BR$10 -> 0 | BS23: =(BQ23-BQ21)*BR$10 -> 0 | BT23: =ROUND(INDIRECT(ADDRESS(Данные!$A15,BT$1,1,1,"Данные"), 1),2) -> 107.63 | BU23: =ROUND(INDIRECT(ADDRESS(Данные!$A15,BU$1,1,1,"Данные"), 1),2) -> 6.96 | BV23: =(BT23-BT21)*BV$10 -> 0 | BW23: =(BU23-BU21)*BV$10 -> 0 | BX23: =$A23 -> 45280.167 | BY23: =D23+H23+L23+P23+T23+X23+AC23+AG23+AK23+AO23+AS23+AW23+ BB23+BJ23+BF23+BN23+BR23+BV23 -> 10089 | BZ23: =E23+I23+M23+Q23+U23+Y23+AD23+AH23+AL23+AP23+AT23+AX23+ BC23+BK23+BG23+BO23+BS23+BW23 -> 1550
A24: =INDIRECT(ADDRESS(Данные!$A16,4,1,1,"Данные"), 1) -> 45280.188 | B24: =ROUND(INDIRECT(ADDRESS(Данные!$A16,B$1,1,1,"Данные"), 1),2) -> 12175.48 | C24: =ROUND(INDIRECT(ADDRESS(Данные!$A16,C$1,1,1,"Данные"), 1),2) -> 5254.67 | D24: =(B24-B23)*D$10 -> 240 | E24: =(C24-C23)*D$10 -> 40 | F24: =ROUND(INDIRECT(ADDRESS(Данные!$A16,F$1,1,1,"Данные"), 1),2) -> 41019.52 | G24: =ROUND(INDIRECT(ADDRESS(Данные!$A16,G$1,1,1,"Данные"), 1),2) -> 9016.11 | H24: =(F24-F23)*H$10 -> 480 | I24: =(G24-G23)*H$10 -> 80 | J24: =ROUND(INDIRECT(ADDRESS(Данные!$A16,J$1,1,1,"Данные"), 1),2) -> 16048.84 | K24: =ROUND(INDIRECT(ADDRESS(Данные!$A16,K$1,1,1,"Данные"), 1),2) -> 3847.93 | L24: =(J24-J23)*L$10 -> 440 | M24: =(K24-K23)*L$10 -> 40 | N24: =ROUND(INDIRECT(ADDRESS(Данные!$A16,N$1,1,1,"Данные"), 1),2) -> 6367.7 | O24: =ROUND(INDIRECT(ADDRESS(Данные!$A16,O$1,1,1,"Данные"), 1),2) -> 1168.12 | P24: =(N24-N23)*P$10 -> 480 | Q24: =(O24-O23)*P$10 -> 0 | R24: =ROUND(INDIRECT(ADDRESS(Данные!$A16,R$1,1,1,"Данные"), 1),2) -> 6461.62 | S24: =ROUND(INDIRECT(ADDRESS(Данные!$A16,S$1,1,1,"Данные"), 1),2) -> 3042.07 | T24: =(R24-R23)*T$10 -> 640 | U24: =(S24-S23)*T$10 -> 240 | V24: =ROUND(INDIRECT(ADDRESS(Данные!$A16,V$1,1,1,"Данные"), 1),2) -> 3098 | W24: =ROUND(INDIRECT(ADDRESS(Данные!$A16,W$1,1,1,"Данные"), 1),2) -> 1217.38 | X24: =(V24-V23)*X$10 -> 80 | Y24: =(W24-W23)*X$10 -> 0 | Z24: =INDIRECT(ADDRESS(Данные!$A16,4,1,1,"Данные"), 1) -> 45280.188 | AA24: =ROUND(INDIRECT(ADDRESS(Данные!$A16,AA$1,1,1,"Данные"), 1),2) -> 14074.28 | AB24: =ROUND(INDIRECT(ADDRESS(Данные!$A16,AB$1,1,1,"Данные"), 1),2) -> 2863.93 | AC24: =(AA24-AA23)*AC$10 -> 720 | AD24: =(AB24-AB23)*AC$10 -> 40 | AE24: =ROUND(INDIRECT(ADDRESS(Данные!$A16,AE$1,1,1,"Данные"), 1),2) -> 14163.24 | AF24: =ROUND(INDIRECT(ADDRESS(Данные!$A16,AF$1,1,1,"Данные"), 1),2) -> 4579.71 | AG24: =(AE24-AE23)*AG$10 -> 360 | AH24: =(AF24-AF23)*AG$10 -> 60 | AI24: =ROUND(INDIRECT(ADDRESS(Данные!$A16,AI$1,1,1,"Данные"), 1),2) -> 1358.21 | AJ24: =ROUND(INDIRECT(ADDRESS(Данные!$A16,AJ$1,1,1,"Данные"), 1),2) -> 387.88 | AK24: =(AI24-AI23)*AK$10 -> 400 | AL24: =(AJ24-AJ23)*AK$10 -> 80 | AM24: =ROUND(INDIRECT(ADDRESS(Данные!$A16,AM$1,1,1,"Данные"), 1),2) -> 19414.9 | AN24: =ROUND(INDIRECT(ADDRESS(Данные!$A16,AN$1,1,1,"Данные"), 1),2) -> 7650.67 | AO24: =(AM24-AM23)*AO$10 -> 560 | AP24: =(AN24-AN23)*AO$10 -> 120 | AQ24: =ROUND(INDIRECT(ADDRESS(Данные!$A16,AQ$1,1,1,"Данные"), 1),2) -> 15512.22 | AR24: =ROUND(INDIRECT(ADDRESS(Данные!$A16,AR$1,1,1,"Данные"), 1),2) -> 4021.63 | AS24: =(AQ24-AQ23)*AS$10 -> 480 | AT24: =(AR24-AR23)*AS$10 -> 120 | AU24: =ROUND(INDIRECT(ADDRESS(Данные!$A16,AU$1,1,1,"Данные"), 1),2) -> 2788.17 | AV24: =ROUND(INDIRECT(ADDRESS(Данные!$A16,AV$1,1,1,"Данные"), 1),2) -> 1238.27 | AW24: =(AU24-AU23)*AW$10 -> 42 | AX24: =(AV24-AV23)*AW$10 -> 6 | AY24: =INDIRECT(ADDRESS(Данные!$A16,4,1,1,"Данные"), 1) -> 45280.188 | AZ24: =ROUND(INDIRECT(ADDRESS(Данные!$A16,AZ$1,1,1,"Данные"), 1),2) -> 2529.46 | BA24: =ROUND(INDIRECT(ADDRESS(Данные!$A16,BA$1,1,1,"Данные"), 1),2) -> 0 | BB24: =(AZ24-AZ23)*BB$10 -> 87 | BC24: =(BA24-BA23)*BB$10 -> 0 | BD24: =ROUND(INDIRECT(ADDRESS(Данные!$A16,BD$1,1,1,"Данные"), 1),2) -> 7201.54 | BE24: =ROUND(INDIRECT(ADDRESS(Данные!$A16,BE$1,1,1,"Данные"), 1),2) -> 4698.3 | BF24: =(BD24-BD23)*BF$10 -> 24 | BG24: =(BE24-BE23)*BF$10 -> 6 | BH24: =ROUND(INDIRECT(ADDRESS(Данные!$A16,BH$1,1,1,"Данные"), 1),2) -> 89.23 | BI24: =ROUND(INDIRECT(ADDRESS(Данные!$A16,BI$1,1,1,"Данные"), 1),2) -> 52.02 | BJ24: =(BH24-BH23)*BJ$10 -> 0 | BK24: =(BI24-BI23)*BJ$10 -> 0 | BL24: =ROUND(INDIRECT(ADDRESS(Данные!$A16,BL$1,1,1,"Данные"), 1),2) -> 1238.27 | BM24: =ROUND(INDIRECT(ADDRESS(Данные!$A16,BM$1,1,1,"Данные"), 1),2) -> 1238.27 | BN24: =(BL24-BL23)*BN$10 -> 6 | BO24: =(BM24-BM23)*BN$10 -> 6 | BP24: =ROUND(INDIRECT(ADDRESS(Данные!$A16,BP$1,1,1,"Данные"), 1),2) -> 7616.51 | BQ24: =ROUND(INDIRECT(ADDRESS(Данные!$A16,BQ$1,1,1,"Данные"), 1),2) -> 2342.98 | BR24: =(BP24-BP23)*BR$10 -> 0 | BS24: =(BQ24-BQ23)*BR$10 -> 0 | BT24: =ROUND(INDIRECT(ADDRESS(Данные!$A16,BT$1,1,1,"Данные"), 1),2) -> 107.63 | BU24: =ROUND(INDIRECT(ADDRESS(Данные!$A16,BU$1,1,1,"Данные"), 1),2) -> 6.96 | BV24: =(BT24-BT23)*BV$10 -> 0 | BW24: =(BU24-BU23)*BV$10 -> 0 | BX24: =$A24 -> 45280.188 | BY24: =D24+H24+L24+P24+T24+X24+AC24+AG24+AK24+AO24+AS24+AW24+ BB24+BJ24+BF24+BN24+BR24+BV24 -> 5039 | BZ24: =E24+I24+M24+Q24+U24+Y24+AD24+AH24+AL24+AP24+AT24+AX24+ BC24+BK24+BG24+BO24+BS24+BW24 -> 838
A25: =INDIRECT(ADDRESS(Данные!$A17,4,1,1,"Данные"), 1) -> 45280.208 | B25: =ROUND(INDIRECT(ADDRESS(Данные!$A17,B$1,1,1,"Данные"), 1),2) -> 12175.54 | C25: =ROUND(INDIRECT(ADDRESS(Данные!$A17,C$1,1,1,"Данные"), 1),2) -> 5254.67 | D25: =(B25-B23)*D$10 -> 480 | E25: =(C25-C23)*D$10 -> 40 | F25: =ROUND(INDIRECT(ADDRESS(Данные!$A17,F$1,1,1,"Данные"), 1),2) -> 41019.65 | G25: =ROUND(INDIRECT(ADDRESS(Данные!$A17,G$1,1,1,"Данные"), 1),2) -> 9016.13 | H25: =(F25-F23)*H$10 -> 1000 | I25: =(G25-G23)*H$10 -> 160 | J25: =ROUND(INDIRECT(ADDRESS(Данные!$A17,J$1,1,1,"Данные"), 1),2) -> 16048.94 | K25: =ROUND(INDIRECT(ADDRESS(Данные!$A17,K$1,1,1,"Данные"), 1),2) -> 3847.94 | L25: =(J25-J23)*L$10 -> 840 | M25: =(K25-K23)*L$10 -> 80 | N25: =ROUND(INDIRECT(ADDRESS(Данные!$A17,N$1,1,1,"Данные"), 1),2) -> 6367.83 | O25: =ROUND(INDIRECT(ADDRESS(Данные!$A17,O$1,1,1,"Данные"), 1),2) -> 1168.13 | P25: =(N25-N23)*P$10 -> 1000 | Q25: =(O25-O23)*P$10 -> 40 | R25: =ROUND(INDIRECT(ADDRESS(Данные!$A17,R$1,1,1,"Данные"), 1),2) -> 6461.78 | S25: =ROUND(INDIRECT(ADDRESS(Данные!$A17,S$1,1,1,"Данные"), 1),2) -> 3042.14 | T25: =(R25-R23)*T$10 -> 1280 | U25: =(S25-S23)*T$10 -> 520 | V25: =ROUND(INDIRECT(ADDRESS(Данные!$A17,V$1,1,1,"Данные"), 1),2) -> 3098.01 | W25: =ROUND(INDIRECT(ADDRESS(Данные!$A17,W$1,1,1,"Данные"), 1),2) -> 1217.39 | X25: =(V25-V23)*X$10 -> 120 | Y25: =(W25-W23)*X$10 -> 40 | Z25: =INDIRECT(ADDRESS(Данные!$A17,4,1,1,"Данные"), 1) -> 45280.208 | AA25: =ROUND(INDIRECT(ADDRESS(Данные!$A17,AA$1,1,1,"Данные"), 1),2) -> 14074.46 | AB25: =ROUND(INDIRECT(ADDRESS(Данные!$A17,AB$1,1,1,"Данные"), 1),2) -> 2863.95 | AC25: =(AA25-AA23)*AC$10 -> 1440 | AD25: =(AB25-AB23)*AC$10 -> 120 | AE25: =ROUND(INDIRECT(ADDRESS(Данные!$A17,AE$1,1,1,"Данные"), 1),2) -> 14163.31 | AF25: =ROUND(INDIRECT(ADDRESS(Данные!$A17,AF$1,1,1,"Данные"), 1),2) -> 4579.72 | AG25: =(AE25-AE23)*AG$10 -> 780 | AH25: =(AF25-AF23)*AG$10 -> 120 | AI25: =ROUND(INDIRECT(ADDRESS(Данные!$A17,AI$1,1,1,"Данные"), 1),2) -> 1358.3 | AJ25: =ROUND(INDIRECT(ADDRESS(Данные!$A17,AJ$1,1,1,"Данные"), 1),2) -> 387.89 | AK25: =(AI25-AI23)*AK$10 -> 760 | AL25: =(AJ25-AJ23)*AK$10 -> 120 | AM25: =ROUND(INDIRECT(ADDRESS(Данные!$A17,AM$1,1,1,"Данные"), 1),2) -> 19415.03 | AN25: =ROUND(INDIRECT(ADDRESS(Данные!$A17,AN$1,1,1,"Данные"), 1),2) -> 7650.69 | AO25: =(AM25-AM23)*AO$10 -> 1080 | AP25: =(AN25-AN23)*AO$10 -> 200 | AQ25: =ROUND(INDIRECT(ADDRESS(Данные!$A17,AQ$1,1,1,"Данные"), 1),2) -> 15512.31 | AR25: =ROUND(INDIRECT(ADDRESS(Данные!$A17,AR$1,1,1,"Данные"), 1),2) -> 4021.64 | AS25: =(AQ25-AQ23)*AS$10 -> 1020 | AT25: =(AR25-AR23)*AS$10 -> 180 | AU25: =ROUND(INDIRECT(ADDRESS(Данные!$A17,AU$1,1,1,"Данные"), 1),2) -> 2788.24 | AV25: =ROUND(INDIRECT(ADDRESS(Данные!$A17,AV$1,1,1,"Данные"), 1),2) -> 1238.28 | AW25: =(AU25-AU23)*AW$10 -> 84 | AX25: =(AV25-AV23)*AW$10 -> 12 | AY25: =INDIRECT(ADDRESS(Данные!$A17,4,1,1,"Данные"), 1) -> 45280.208 | AZ25: =ROUND(INDIRECT(ADDRESS(Данные!$A17,AZ$1,1,1,"Данные"), 1),2) -> 2529.75 | BA25: =ROUND(INDIRECT(ADDRESS(Данные!$A17,BA$1,1,1,"Данные"), 1),2) -> 0 | BB25: =(AZ25-AZ23)*BB$10 -> 174 | BC25: =(BA25-BA23)*BB$10 -> 0 | BD25: =ROUND(INDIRECT(ADDRESS(Данные!$A17,BD$1,1,1,"Данные"), 1),2) -> 7201.58 | BE25: =ROUND(INDIRECT(ADDRESS(Данные!$A17,BE$1,1,1,"Данные"), 1),2) -> 4698.31 | BF25: =(BD25-BD23)*BF$10 -> 48 | BG25: =(BE25-BE23)*BF$10 -> 12 | BH25: =ROUND(INDIRECT(ADDRESS(Данные!$A17,BH$1,1,1,"Данные"), 1),2) -> 89.23 | BI25: =ROUND(INDIRECT(ADDRESS(Данные!$A17,BI$1,1,1,"Данные"), 1),2) -> 52.02 | BJ25: =(BH25-BH23)*BJ$10 -> 0 | BK25: =(BI25-BI23)*BJ$10 -> 0 | BL25: =ROUND(INDIRECT(ADDRESS(Данные!$A17,BL$1,1,1,"Данные"), 1),2) -> 1238.28 | BM25: =ROUND(INDIRECT(ADDRESS(Данные!$A17,BM$1,1,1,"Данные"), 1),2) -> 1238.28 | BN25: =(BL25-BL23)*BN$10 -> 12 | BO25: =(BM25-BM23)*BN$10 -> 12 | BP25: =ROUND(INDIRECT(ADDRESS(Данные!$A17,BP$1,1,1,"Данные"), 1),2) -> 7616.51 | BQ25: =ROUND(INDIRECT(ADDRESS(Данные!$A17,BQ$1,1,1,"Данные"), 1),2) -> 2342.98 | BR25: =(BP25-BP23)*BR$10 -> 0 | BS25: =(BQ25-BQ23)*BR$10 -> 0 | BT25: =ROUND(INDIRECT(ADDRESS(Данные!$A17,BT$1,1,1,"Данные"), 1),2) -> 107.63 | BU25: =ROUND(INDIRECT(ADDRESS(Данные!$A17,BU$1,1,1,"Данные"), 1),2) -> 6.96 | BV25: =(BT25-BT23)*BV$10 -> 0 | BW25: =(BU25-BU23)*BV$10 -> 0 | BX25: =$A25 -> 45280.208 | BY25: =D25+H25+L25+P25+T25+X25+AC25+AG25+AK25+AO25+AS25+AW25+ BB25+BJ25+BF25+BN25+BR25+BV25 -> 10118 | BZ25: =E25+I25+M25+Q25+U25+Y25+AD25+AH25+AL25+AP25+AT25+AX25+ BC25+BK25+BG25+BO25+BS25+BW25 -> 1656
A26: =INDIRECT(ADDRESS(Данные!$A18,4,1,1,"Данные"), 1) -> 45280.229 | B26: =ROUND(INDIRECT(ADDRESS(Данные!$A18,B$1,1,1,"Данные"), 1),2) -> 12175.61 | C26: =ROUND(INDIRECT(ADDRESS(Данные!$A18,C$1,1,1,"Данные"), 1),2) -> 5254.67 | D26: =(B26-B25)*D$10 -> 280 | E26: =(C26-C25)*D$10 -> 0 | F26: =ROUND(INDIRECT(ADDRESS(Данные!$A18,F$1,1,1,"Данные"), 1),2) -> 41019.79 | G26: =ROUND(INDIRECT(ADDRESS(Данные!$A18,G$1,1,1,"Данные"), 1),2) -> 9016.15 | H26: =(F26-F25)*H$10 -> 560 | I26: =(G26-G25)*H$10 -> 80 | J26: =ROUND(INDIRECT(ADDRESS(Данные!$A18,J$1,1,1,"Данные"), 1),2) -> 16049.05 | K26: =ROUND(INDIRECT(ADDRESS(Данные!$A18,K$1,1,1,"Данные"), 1),2) -> 3847.95 | L26: =(J26-J25)*L$10 -> 440 | M26: =(K26-K25)*L$10 -> 40 | N26: =ROUND(INDIRECT(ADDRESS(Данные!$A18,N$1,1,1,"Данные"), 1),2) -> 6367.96 | O26: =ROUND(INDIRECT(ADDRESS(Данные!$A18,O$1,1,1,"Данные"), 1),2) -> 1168.14 | P26: =(N26-N25)*P$10 -> 520 | Q26: =(O26-O25)*P$10 -> 40 | R26: =ROUND(INDIRECT(ADDRESS(Данные!$A18,R$1,1,1,"Данные"), 1),2) -> 6461.94 | S26: =ROUND(INDIRECT(ADDRESS(Данные!$A18,S$1,1,1,"Данные"), 1),2) -> 3042.2 | T26: =(R26-R25)*T$10 -> 640 | U26: =(S26-S25)*T$10 -> 240 | V26: =ROUND(INDIRECT(ADDRESS(Данные!$A18,V$1,1,1,"Данные"), 1),2) -> 3098.02 | W26: =ROUND(INDIRECT(ADDRESS(Данные!$A18,W$1,1,1,"Данные"), 1),2) -> 1217.39 | X26: =(V26-V25)*X$10 -> 40 | Y26: =(W26-W25)*X$10 -> 0 | Z26: =INDIRECT(ADDRESS(Данные!$A18,4,1,1,"Данные"), 1) -> 45280.229 | AA26: =ROUND(INDIRECT(ADDRESS(Данные!$A18,AA$1,1,1,"Данные"), 1),2) -> 14074.65 | AB26: =ROUND(INDIRECT(ADDRESS(Данные!$A18,AB$1,1,1,"Данные"), 1),2) -> 2863.96 | AC26: =(AA26-AA25)*AC$10 -> 760 | AD26: =(AB26-AB25)*AC$10 -> 40 | AE26: =ROUND(INDIRECT(ADDRESS(Данные!$A18,AE$1,1,1,"Данные"), 1),2) -> 14163.37 | AF26: =ROUND(INDIRECT(ADDRESS(Данные!$A18,AF$1,1,1,"Данные"), 1),2) -> 4579.73 | AG26: =(AE26-AE25)*AG$10 -> 360 | AH26: =(AF26-AF25)*AG$10 -> 60 | AI26: =ROUND(INDIRECT(ADDRESS(Данные!$A18,AI$1,1,1,"Данные"), 1),2) -> 1358.39 | AJ26: =ROUND(INDIRECT(ADDRESS(Данные!$A18,AJ$1,1,1,"Данные"), 1),2) -> 387.91 | AK26: =(AI26-AI25)*AK$10 -> 360 | AL26: =(AJ26-AJ25)*AK$10 -> 80 | AM26: =ROUND(INDIRECT(ADDRESS(Данные!$A18,AM$1,1,1,"Данные"), 1),2) -> 19415.17 | AN26: =ROUND(INDIRECT(ADDRESS(Данные!$A18,AN$1,1,1,"Данные"), 1),2) -> 7650.71 | AO26: =(AM26-AM25)*AO$10 -> 560 | AP26: =(AN26-AN25)*AO$10 -> 80 | AQ26: =ROUND(INDIRECT(ADDRESS(Данные!$A18,AQ$1,1,1,"Данные"), 1),2) -> 15512.41 | AR26: =ROUND(INDIRECT(ADDRESS(Данные!$A18,AR$1,1,1,"Данные"), 1),2) -> 4021.65 | AS26: =(AQ26-AQ25)*AS$10 -> 600 | AT26: =(AR26-AR25)*AS$10 -> 60 | AU26: =ROUND(INDIRECT(ADDRESS(Данные!$A18,AU$1,1,1,"Данные"), 1),2) -> 2788.31 | AV26: =ROUND(INDIRECT(ADDRESS(Данные!$A18,AV$1,1,1,"Данные"), 1),2) -> 1238.28 | AW26: =(AU26-AU25)*AW$10 -> 42 | AX26: =(AV26-AV25)*AW$10 -> 0 | AY26: =INDIRECT(ADDRESS(Данные!$A18,4,1,1,"Данные"), 1) -> 45280.229 | AZ26: =ROUND(INDIRECT(ADDRESS(Данные!$A18,AZ$1,1,1,"Данные"), 1),2) -> 2530.03 | BA26: =ROUND(INDIRECT(ADDRESS(Данные!$A18,BA$1,1,1,"Данные"), 1),2) -> 0 | BB26: =(AZ26-AZ25)*BB$10 -> 84 | BC26: =(BA26-BA25)*BB$10 -> 0 | BD26: =ROUND(INDIRECT(ADDRESS(Данные!$A18,BD$1,1,1,"Данные"), 1),2) -> 7201.61 | BE26: =ROUND(INDIRECT(ADDRESS(Данные!$A18,BE$1,1,1,"Данные"), 1),2) -> 4698.32 | BF26: =(BD26-BD25)*BF$10 -> 18 | BG26: =(BE26-BE25)*BF$10 -> 6 | BH26: =ROUND(INDIRECT(ADDRESS(Данные!$A18,BH$1,1,1,"Данные"), 1),2) -> 89.23 | BI26: =ROUND(INDIRECT(ADDRESS(Данные!$A18,BI$1,1,1,"Данные"), 1),2) -> 52.02 | BJ26: =(BH26-BH25)*BJ$10 -> 0 | BK26: =(BI26-BI25)*BJ$10 -> 0 | BL26: =ROUND(INDIRECT(ADDRESS(Данные!$A18,BL$1,1,1,"Данные"), 1),2) -> 1238.28 | BM26: =ROUND(INDIRECT(ADDRESS(Данные!$A18,BM$1,1,1,"Данные"), 1),2) -> 1238.28 | BN26: =(BL26-BL25)*BN$10 -> 0 | BO26: =(BM26-BM25)*BN$10 -> 0 | BP26: =ROUND(INDIRECT(ADDRESS(Данные!$A18,BP$1,1,1,"Данные"), 1),2) -> 7616.51 | BQ26: =ROUND(INDIRECT(ADDRESS(Данные!$A18,BQ$1,1,1,"Данные"), 1),2) -> 2342.98 | BR26: =(BP26-BP25)*BR$10 -> 0 | BS26: =(BQ26-BQ25)*BR$10 -> 0 | BT26: =ROUND(INDIRECT(ADDRESS(Данные!$A18,BT$1,1,1,"Данные"), 1),2) -> 107.63 | BU26: =ROUND(INDIRECT(ADDRESS(Данные!$A18,BU$1,1,1,"Данные"), 1),2) -> 6.96 | BV26: =(BT26-BT25)*BV$10 -> 0 | BW26: =(BU26-BU25)*BV$10 -> 0 | BX26: =$A26 -> 45280.229 | BY26: =D26+H26+L26+P26+T26+X26+AC26+AG26+AK26+AO26+AS26+AW26+ BB26+BJ26+BF26+BN26+BR26+BV26 -> 5264 | BZ26: =E26+I26+M26+Q26+U26+Y26+AD26+AH26+AL26+AP26+AT26+AX26+ BC26+BK26+BG26+BO26+BS26+BW26 -> 726
