Workbook

Sheet 1.3.1.
A3: Форма 1.3.1. Расчет показателя средней продолжительности прекращения передачи электрической энергии потребителям услуг и показателя средней частоты прекращений передачи электрической энергии потребителям услуг сетевой организации, долгосрочный период регулирования которой начинается с 2024 года
F4: АО "Дальневосточная ресурсоснабжающая компания"
F5: Наименование сетевой организации
A7: № п/п | H7: Наименование составляющей показателя | BF7: Метод определения
A8: 1 | H8: Число точек поставки сетевой организации за расчетный период регулирования, в том числе по уровням напряжения, шт.: | BF8: 12854
A10: 1.1 | H10: ВН (110 кВ и выше), шт. | BF10: 0
A11: 1.2 | H11: СН1 (27,5 - 60 кВ), шт. | BF11: 0
A12: 1.3 | H12: СН2 (1 - 20 кВ), шт. | BF12: 322
A13: 1.4 | H13: НН (до 1 кВ), шт. | BF13: 12532
A14: 2 | H14: Показатель средней продолжительности прекращений передачи электрической энергии на точку поставки по уровню напряжения ВН (ПsaidiВН), ч | BF14: 0
A16: 3 | H16: Показатель средней продолжительности прекращений передачи электрической энергии на точку поставки по уровню напряжения СН1 (ПsaidiСН1), ч | BF16: ='8.1. 2023'!AX35 -> 0
A18: 4 | H18: Показатель средней продолжительности прекращений передачи электрической энергии на точку поставки по уровню напряжения СН2 (ПsaidiСН2), ч | BF18: ='8.1. 2023'!BA35 -> 0.039875776
A20: 5 | H20: Показатель средней продолжительности прекращений передачи электрической энергии на точку поставки по уровню напряжения НН (ПsaidiНН), ч | BF20: ='8.1. 2023'!BD35 -> 0.041643792
A22: 6 | H22: Показатель средней частоты прекращений передачи электрической энергии на точку поставки по уровню напряжения ВН (ПsaifiВН), шт. | BF22: 0
A24: 7 | H24: Показатель средней частоты прекращений передачи электрической энергии на точку поставки по уровню напряжения СН1 (ПsaifiСН1), шт. | BF24: ='8.1. 2023'!AY35 -> 0
A26: 8 | H26: Показатель средней частоты прекращений передачи электрической энергии на точку поставки по уровню напряжения СН2 (ПsaifiСН2), шт. | BF26: ='8.1. 2023'!BB35 -> 0.068322981
A28: 9 | H28: Показатель средней частоты прекращений передачи электрической энергии на точку поставки по уровню напряжения НН (ПsaifiНН), шт. | BF28: ='8.1. 2023'!BE35 -> 0.072933291
A31: Ведущий инженер ПТС | AL31: Шевелев Д.С.
A32: Должность | AL32: Ф.И.О. | BW32: Подпись

Sheet 1.7.1.
F3: Форма 1.7.1. Предложения сетевой организации по плановым значениям показателей надежности и качества услуг на каждый расчетный период регулирования в пределах долгосрочного периода регулирования (для территориальной сетевой организации, долгосрочный период регулирования которой начинается с 2024 года)
K4: АО "Дальневосточная ресурсоснабжающая компания"
K5: Наименование сетевой организации
A7: № п/п | F7: Показатель | AD7: Мероприятия, направленные на улучшение показателя (информация представляется справочно) | AX7: Описание (обоснование) | BR7: Значение показателя, годы:
BR8: 2025 | BZ8: 2026 | CH8: 2027 | CP8: 2028 | CX8: 2029
F9: Показатель средней продолжительности прекращений передачи электрической энергии на точку поставки по уровню напряжения ВН (ПsaidiВН), час. | BR9: 0 | BZ9: 0 | CH9: 0 | CP9: 0 | CX9: 0
F10: Показатель средней частоты прекращений передачи электрической энергии на точку поставки по уровню напряжения ВН (ПsaifiВН), шт. | BR10: 0 | BZ10: 0 | CH10: 0 | CP10: 0 | CX10: 0
F11: Показатель средней продолжительности прекращений передачи электрической энергии на точку поставки по уровню напряжения СН2 (ПsaidiСН2), час. | BR11: =MIN('1.3.1.'!BF18,AVERAGE('8.1. 2023'!BA35,'8.1. 2022'!BA38,'8.1. 2021'!BA57))*(1-0.015) -> 0.03927764 | BZ11: =BR11*(1-0.015) -> 0.038688475 | CH11: =BZ11*(1-0.015) -> 0.038108148 | CP11: =CH11*(1-0.015) -> 0.037536526 | CX11: =CP11*(1-0.015) -> 0.036973478
F12: Показатель средней частоты прекращений передачи электрической энергии на точку поставки по уровню напряжения СН2 (ПsaifiСН2), шт. | BR12: =MIN('1.3.1.'!BF26,AVERAGE('8.1. 2023'!BB35,'8.1. 2022'!BB38,'8.1. 2021'!BB57))*(1-0.015) -> 0.067298137 | BZ12: =BR12*(1-0.015) -> 0.066288665 | CH12: =BZ12*(1-0.015) -> 0.065294335 | CP12: =CH12*(1-0.015) -> 0.06431492 | CX12: =CP12*(1-0.015) -> 0.063350196
F13: Показатель средней продолжительности прекращений передачи электрической энергии на точку поставки по уровню напряжения СН1 (ПsaidiСН1), час. | BR13: 0 | BZ13: 0 | CH13: 0 | CP13: 0 | CX13: 0
F14: Показатель средней частоты прекращений передачи электрической энергии на точку поставки по уровню напряжения СН1 (ПsaifiСН1), шт. | BR14: 0 | BZ14: 0 | CH14: 0 | CP14: 0 | CX14: 0
F15: Показатель средней продолжительности прекращений передачи электрической энергии на точку поставки по уровню напряжения НН (ПsaidiНН), час. | BR15: =MIN('1.3.1.'!BF20:CZ21,AVERAGE('8.1. 2023'!BD35,'8.1. 2022'!BD38,'8.1. 2021'!BD57))*(1-0.015) -> 0.041019135 | BZ15: =BR15*(1-0.015) -> 0.040403848 | CH15: =BZ15*(1-0.015) -> 0.03979779 | CP15: =CH15*(1-0.015) -> 0.039200823 | CX15: =CP15*(1-0.015) -> 0.038612811
F16: Показатель средней частоты прекращений передачи электрической энергии на точку поставки по уровню напряжения НН (ПsaifiНН), шт. | BR16: =MIN('1.3.1.'!BF28,AVERAGE('8.1. 2023'!BE35,'8.1. 2022'!BE38,'8.1. 2021'!BE57))*(1-0.015) -> 0.068695213 | BZ16: =BR16*(1-0.015) -> 0.067664785 | CH16: =BZ16*(1-0.015) -> 0.066649813 | CP16: =CH16*(1-0.015) -> 0.065650066 | CX16: =CP16*(1-0.015) -> 0.064665315
F17: Показатель уровня качества осуществляемого технологического присоединения (Птпр) | BR17: =0.5*('3.1.'!CA13+'3.2.'!CA13) -> 1 | BZ17: =BR17 -> 1 | CH17: =BZ17 -> 1 | CP17: =CH17 -> 1 | CX17: =CP17 -> 1
F19: Ведущий инженер ПТС | AQ19: Шевелев Д.С.
F20: Должность | AQ20: Ф.И.О. | CB20: Подпись
F23: _____1_Количество заполняемых столбцов должно соответствовать количеству расчетных периодов регулирования в пределах одного долгосрочного периода регулирования, с указанием года отчетного расчетного периода регулирования.
F24: _____2_Информация предоставляется справочно.

Sheet 1.9
A3: Форма 1.9. Данные об экономических и технических характеристиках и (или) условиях деятельности территориальных сетевых организаций
F5: АО "Дальневосточная ресурсоснабжающая компания"
F6: Наименование сетевой организации, субъект Российской Федерации
A8: № п/п | G8: Характеристики и (или) условия деятельности сетевой организации 1 | BE8: Значение характеристики | CC8: Наименование и реквизиты подтверждающих документов (в том числе внутренних документов сетевой организации)
A9: 1 | H9: Протяженность линий электропередачи в одноцепном выражении (ВЛ), км | BE9: 1209.607 | CC9: Договора аренды и свидетельства права собственности
A10: 1.1 | H10: Протяженность кабельных линий электропередачи в одноцепном выражении, км | BE10: 169.656 | CC10: Договора аренды и свидетельства права собственности
A11: 2 | H11: Доля кабельных линий электропередачи в одноцепном выражении от общей протяженности линий электропередачи (Доля КЛ), % | BE11: =BE10/BE9*100 -> 14.025712 | CC11: Договора аренды и свидетельства права собственности
A13: 3 | H13: Максимальной за год число точек поставки, шт. | BE13: ='1.3.1.'!BF8 -> 12854 | CC13: Договор со сбытовой организацией (приложение - перечень точек поставки)
A15: 4 | H15: Число разъединителей и выключателей, шт. | BE15: 1932 | CC15: Договора аренды и свидетельства права собственности
A16: 5 | H16: Средняя летняя температура, °C | BE16: +19,4 | CC16: Регионы России. Основные характеристики субъектов Российской Федерации
A17: 6 | H17: Номер группы (m) территориальной сетевой организации по показателю Пsaidi | BE17: 7 | CC17: -
A19: 7 | H19: Номер группы (m) территориальной сетевой организации по показателю Пsaifi | BE19: 6 | CC19: -
A22: 1 Протяженность линий электропередачи в одноцепном выражении (ВЛ) - протяженность линий электропередачи территориальной сетевой организации в одноцепном выражении (при определении протяженности воздушных и кабельных линий электропередачи низкого напряжения учитываются только трехфазные участки линий), км;
A23: Доля кабельных линий электропередачи в одноцепном выражении от общей протяженности линий электропередачи (Доля КЛ), % - доля кабельных линий электропередачи территориальной сетевой организации, рассчитываемая как отношение протяженности кабельных линий в одноцепном выражении к протяженности ВЛ, %;
A24: Число разъединителей и выключателей - совокупное число разъединителей и выключателей территориальной сетевой организации, шт.;
A25: Средняя летняя температура - в соответствии с данными по средней температуре июля на последнюю имеющуюся дату согласно Сборнику Федеральной службы государственной статистики "Регионы России. Основные характеристики субъектов Российской Федерации".

Sheet 3.1.
A3: Форма 3.1. Отчетные данные для расчета значения показателя качества
A4: рассмотрения заявок на технологическое присоединение к сети в период | CH4: 2023
F6: АО "Дальневосточная ресурсоснабжающая компания"
F7: Наименование сетевой организации (подразделения/филиала)
A9: Показатель | CA9: Число, шт.
A10: 1 | CA10: 2
B11: Число заявок на технологическое присоединение к сети, поданных в соответствии с требованиями нормативных правовых актов, по которым сетевой организацией в соответствующий расчетный период направлен проект договора об осуществлении технологического присоединения заявителей к сети, шт. (Nзаяв тпр) | CA11: 767
B12: Число заявок на технологическое присоединение к сети, поданных в соответствии с требованиями нормативных правовых актов, по которым сетевой организацией в соответствующий расчетный период направлен проект договора об осуществлении технологического присоединения заявителей к сети с нарушением установленных сроков его направления, шт. (Nнсзаяв тпр) | CA12: 0
B13: Показатель качества рассмотрения заявок на технологическое присоединение к сети (Пзаяв тпр) | CA13: 1
A15: Ведущий инженер ПТС | AL15: Шевелев Д.С.
A16: Должность | AL16: Ф.И.О. | BW16: Подпись

Sheet 3.2.
A3: Форма 3.2. Отчетные данные для расчета значения показателя качества исполнения договоров об осуществлении технологического присоединения
X4: заявителей к сети, в период | BG4: 2023
F6: АО "Дальневосточная ресурсоснабжающая компания"
F7: Наименование сетевой организации (подразделения/филиала)
A9: Показатель | CA9: Число, шт.
A10: 1 | CA10: 2
B11: Число договоров об осуществлении технологического присоединения заявителей к сети, исполненных в соответствующем расчетном периоде, по которым имеется подписанный сторонами акт о технологическом присоединении, шт. (Nсд тпр) | CA11: 540
B12: Число договоров об осуществлении технологического присоединения заявителей к сети, исполненных в соответствующем расчетном периоде, по которым имеется подписанный сторонами акт о технологическом присоединении, по которым произошло нарушение установленных сроков технологического присоединения, шт. (Nнссд тпр) | CA12: 0
B13: Показатель качества исполнения договоров об осуществлении технологического присоединения заявителей к сети (Пнс тпр) | CA13: 1
A15: Ведущий инженер ПТС | AL15: Шевелев Д.С.
A16: Должность | AL16: Ф.И.О. | BW16: Подпись

Sheet 8.1. 2023
A2: Форма 8.1. - Журнал учёта данных первичной информации по всем прекращениям передачи электрической энергии, произошедших на объектах электросетевых организаций за | Q2: декабрь | R2: месяц | S2: 2021 | T2: года
A3: АО "Дальневосточная ресурсоснабжающая компания"
A4: наименование электросетевой организации
A6: Данные о факте прекращения передачи электрической энергии (если восстановление режима потребления электрической энергии потребителей услуг в рамках одного прекращения передачи электрической энергии происходило в разное время, то форма заполняется отдельно по каждому такому восстановлению) | J6: Данные о масштабе прекращения передачи электрической энергии в сетевой организации | W6: Перечень смежных сетевых организаций, затронутых прекращением передачи электрической энергии | X6: Данные о причинах прекращения передачи электрической энергии и их расследовании | AA6: Учет в показателях надежности, в т.ч. индикативных показателях наджености (0 - нет, 1 - да)
A7: Номер прекращения передачи электрической энергии / Номер итоговой строки | B7: Наименование структурного подразделения сетевой организации | C7: Вид объекта: Кабельная линия (далее - КЛ), Воздушная линия (далее - ВЛ), Кабельно-воздушная линия (далее - КВЛ), Подстанция (далее - ПС), Трансформаторная подстанция (далее - ТП), Распределительный пункт (далее - РП) | D7: Диспетчерское наименование объекта электросетевого хозяйства сетевой организации, в результате отключения которой произошло прекращение передачи электроэнергии потребителям услуг | E7: Высший класс напряжения отключенного оборудования сетевой организации, кВ | F7: Время и дата начала прекращения передачи электрической энергии (часы, минуты, год, месяц, день) | G7: Время и дата восстановления режима потребления электрической энергии потребителей услуг (часы, минуты, год, месяц, день) | H7: Вид прекращения передачи электроэнергии (П, А, В) | I7: Продолжительность прекращения передачи электрической энергии, час | J7: Перечень объектов электросетевого хозяйства, отключение которых приивело к прекращению передачи электрической энергии потребителям услуг (ПС, ТП, РП, ВЛ, КЛ) | K7: Перечень потребителей 1-й и 2-й категорий надежности, в отношении которых произошло полное ограничение режима потребления электрической энергии | L7: Перечень потребителей 1-й и 2-й категорий надежности, в отношении которых произошло частичное ограничение режима потребления электрической энергии | M7: Количество точек поставки потребителей услуг сетевой организации, в отношении которых произошел перерыв электроснабжения, шт., в том числе: | V7: Суммарный объем фактической нагрузки (мощности) на присоединениях потребителей услуг, по которым произошло прекращение передачи электрической энергии на момент возникновения такого события, кВт
M8: ВСЕГО | N8: в разделении категорий надежности потребителей электрической энергии | Q8: в разделении уровней напряжения ЭПУ потребителя электрической энергии | U8: Смежные сетевые организации и производители электрической энергии | X8: Номер и дата акта расследования технологического нарушения, записи в оперативном журнале | Y8: Код организационной причины аварии | Z8: Код технической причины повреждения оборудования
N9: 1-я категория надежности | O9: 2-я категория надежности | P9: 3-я категория надежности | Q9: ВН (110 кВ и выше) | R9: СН1 (27,5- 60 кВ) | S9: СН2 (1-20 кВ) | T9: НН (до 1 кВ)
A10: 1 | B10: 2 | C10: 3 | D10: 4 | E10: 5 | F10: 6 | G10: 7 | H10: 8 | I10: 9 | J10: 10 | K10: 11 | L10: 12 | M10: 13 | N10: 14 | O10: 15 | P10: 16 | Q10: 17 | R10: 18 | S10: 19 | T10: 20 | U10: 21 | V10: 22 | W10: 23 | X10: 24 | Y10: 25 | Z10: 26 | AA10: 27 | AB10: время В | AC10: время В1 | AE10: фидера В | AF10: фидера В1 | AH10: потребители без повторов для В | AI10: потребители без повторов для В1 | AK10: мощность В | AL10: мощность В1 | AN10: количество точек отключения | AP10: форма 1.3 п2 | AQ10: п3 | AS10: форма1.4 | AU10: повторы по СН-2 для итога В | AV10: повторы по СН-2 для итога В1
A11: 1 | B11: АО "Дальневосточная ресурсоснабжающая компания" | C11: ВЛ | D11: Ф-31 пс Славянка | E11: 10 (10.5) | F11: 08,00 2023.01.20 | G11: 08,40 2023.01.20 | H11: В | I11: 0.67 | J11: ТП 10 (10.5) кВ(Все ЛЭП ТП) | K11: 0 | L11: 0 | M11: 277 | N11: 0 | O11: 0 | P11: 277 | Q11: 0 | R11: 0 | S11: 32 | T11: 245 | U11: 0 | V11: 1300 | X11: запись в оперативном журнале | Y11: 3.4.8 | Z11: 4.11 | AA11: 0 | AB11: =IF(AA11=0,I11,0) -> 0.67 | AC11: =IF(AA11=1,I11,0) -> 0 | AE11: =IF(AA11=0,D11,0) -> Ф-31 пс Славянка | AF11: =IF(AA11=1,D11,0) -> 0 | AH11: =IF(AE11=0,0,IF(COUNTIF(AE10,AE11)=0,P11,0)) -> 277 | AI11: =IF(AF11=0,0,P11) -> 0 | AK11: =IF(AA11=0,V11,0) -> 1300 | AL11: =IF(AA11=1,V11,0) -> 0 | AN11: =M11 -> 277 | AP11: =IF(AA11=1,I11,0)*M11 -> 0 | AQ11: =IF(AA11=1,M11,0) -> 0 | AS11: =IF(AA11=1,I11,0)*V11 -> 0 | AU11: =IF(AE11=0,0,IF(COUNTIF(AE10,AE11)=0,S11,0)) -> 32 | AV11: =IF(AF11=0,0,S11) -> 0 | AX11: =IF(R11>0,I11*R11*AA11,0) -> 0 | AY11: =IF(R11>0,R11*AA11,0) -> 0 | BA11: =IF(S11>0,I11*S11*AA11,0) -> 0 | BB11: =IF(S11>0,S11*AA11,0) -> 0 | BD11: =IF(T11>0,I11*T11*AA11,0) -> 0 | BE11: =IF(T11>0,T11*AA11,0) -> 0 | BG11: =AX11+BA11+BD11 -> 0 | BH11: =AY11+BB11+BE11 -> 0
A12: 2 | B12: АО "Дальневосточная ресурсоснабжающая компания" | C12: ВЛ | D12: пс славянка ф12 | E12: 10 (10.5) | F12: 16,10 2023.02.28 | G12: 17,55 2023.02.28 | H12: В | I12: 1.75 | J12: ВЛ 10 (10.5) кВ тп;ТП 10 (10.5) кВ(Все ЛЭП ТП) | K12: 0 | L12: 0 | M12: 290 | N12: 0 | O12: 0 | P12: 290 | Q12: 0 | R12: 0 | S12: 28 | T12: 262 | U12: 0 | V12: 150 | X12: запись в оперативном журнале | Y12: 3.4.8 | Z12: 4.13 | AA12: 0 | AB12: =IF(AA12=0,I12,0) -> 1.75 | AC12: =IF(AA12=1,I12,0) -> 0 | AE12: =IF(AA12=0,D12,0) -> пс славянка ф12 | AF12: =IF(AA12=1,D12,0) -> 0 | AH12: =IF(AE12=0,0,IF(COUNTIF($AE11:AE$11,AE12)=0,P12,0)) -> 290 | AI12: =IF(AF12=0,0,IF(COUNTIF($AF11:AF$11,AF12)=0,P12,0)) -> 0 | AK12: =IF(AA12=0,V12,0) -> 150 | AL12: =IF(AA12=1,V12,0) -> 0 | AN12: =IF(COUNTIF($D$11:D11,D12)=0,M12,0) -> 290 | AP12: =IF(AA12=1,I12,0)*M12 -> 0 | AQ12: =IF(AA12=1,M12,0) -> 0 | AS12: =IF(AA12=1,I12,0)*V12 -> 0 | AU12: =IF(AE12=0,0,IF(COUNTIF($AE11:AE$11,AE12)=0,S12,0)) -> 28 | AV12: =IF(AF12=0,0,S12) -> 0 | AX12: =IF(R12>0,I12*R12*AA12,0) -> 0 | AY12: =IF(R12>0,R12*AA12,0) -> 0 | BA12: =IF(S12>0,I12*S12*AA12,0) -> 0 | BB12: =IF(S12>0,S12*AA12,0) -> 0 | BD12: =IF(T12>0,I12*T12*AA12,0) -> 0 | BE12: =IF(T12>0,T12*AA12,0) -> 0 | BG12: =AX12+BA12+BD12 -> 0 | BH12: =AY12+BB12+BE12 -> 0
A13: 3 | B13: АО "Дальневосточная ресурсоснабжающая компания" ОДС | C13: ВЛ | D13: Ф-31 пс Славянка | E13: 10 (10.5) | F13: 06,40 2023.03.06 | G13: 08,03 2023.03.06 | H13: В | I13: 1.38 | J13: ТП 10 (10.5) кВ вл(Все ЛЭП ТП) | K13: 0 | L13: 0 | M13: 277 | N13: 0 | O13: 0 | P13: 277 | Q13: 0 | R13: 0 | S13: 32 | T13: 245 | U13: 0 | V13: 230 | X13: запись в оперативном журнале | Y13: 3.4.8 | Z13: 4.4 | AA13: 0 | AB13: =IF(AA13=0,I13,0) -> 1.38 | AC13: =IF(AA13=1,I13,0) -> 0 | AE13: =IF(AA13=0,D13,0) -> Ф-31 пс Славянка | AF13: =IF(AA13=1,D13,0) -> 0 | AH13: =IF(AE13=0,0,IF(COUNTIF($AE$11:AE12,AE13)=0,P13,0)) -> 0 | AI13: =IF(AF13=0,0,IF(COUNTIF($AF$11:AF12,AF13)=0,P13,0)) -> 0 | AK13: =IF(AA13=0,V13,0) -> 230 | AL13: =IF(AA13=1,V13,0) -> 0 | AN13: =IF(COUNTIF($D$11:D12,D13)=0,M13,0) -> 0 | AP13: =IF(AA13=1,I13,0)*M13 -> 0 | AQ13: =IF(AA13=1,M13,0) -> 0 | AS13: =IF(AA13=1,I13,0)*V13 -> 0 | AU13: =IF(AE13=0,0,IF(COUNTIF($AE$11:AE12,AE13)=0,S13,0)) -> 0 | AV13: =IF(AF13=0,0,S13) -> 0 | AX13: =IF(R13>0,I13*R13*AA13,0) -> 0 | AY13: =IF(R13>0,R13*AA13,0) -> 0 | BA13: =IF(S13>0,I13*S13*AA13,0) -> 0 | BB13: =IF(S13>0,S13*AA13,0) -> 0 | BD13: =IF(T13>0,I13*T13*AA13,0) -> 0 | BE13: =IF(T13>0,T13*AA13,0) -> 0 | BG13: =AX13+BA13+BD13 -> 0 | BH13: =AY13+BB13+BE13 -> 0
A14: 4 | B14: АО "Дальневосточная ресурсоснабжающая компания" ОДС | C14: ТП | D14: Ф-31 пс Славянка | E14: 10 (10.5) | F14: 00,40 2023.03.07 | G14: 01,35 2023.03.07 | H14: В | I14: 0.92 | J14: ТП 10 (10.5) кВ кл10кв(Все ЛЭП ТП) | M14: 277 | N14: 0 | O14: 0 | P14: 277 | Q14: 0 | R14: 0 | S14: 32 | T14: 245 | U14: 0 | V14: 215 | X14: записи в оперативном журнале от 07.03.2023 | Y14: 3.4.8.5 | Z14: 4.21 | AA14: 0 | AB14: =IF(AA14=0,I14,0) -> 0.92 | AC14: =IF(AA14=1,I14,0) -> 0 | AE14: =IF(AA14=0,D14,0) -> Ф-31 пс Славянка | AF14: =IF(AA14=1,D14,0) -> 0 | AH14: =IF(AE14=0,0,IF(COUNTIF($AE$11:AE13,AE14)=0,P14,0)) -> 0 | AI14: =IF(AF14=0,0,IF(COUNTIF($AF$11:AF13,AF14)=0,P14,0)) -> 0 | AK14: =IF(AA14=0,V14,0) -> 215 | AL14: =IF(AA14=1,V14,0) -> 0 | AN14: =IF(COUNTIF($D$11:D13,D14)=0,M14,0) -> 0 | AP14: =IF(AA14=1,I14,0)*M14 -> 0 | AQ14: =IF(AA14=1,M14,0) -> 0 | AS14: =IF(AA14=1,I14,0)*V14 -> 0 | AU14: =IF(AE14=0,0,IF(COUNTIF($AE$11:AE13,AE14)=0,S14,0)) -> 0 | AV14: =IF(AF14=0,0,S14) -> 0 | AX14: =IF(R14>0,I14*R14*AA14,0) -> 0 | AY14: =IF(R14>0,R14*AA14,0) -> 0 | BA14: =IF(S14>0,I14*S14*AA14,0) -> 0 | BB14: =IF(S14>0,S14*AA14,0) -> 0 | BD14: =IF(T14>0,I14*T14*AA14,0) -> 0 | BE14: =IF(T14>0,T14*AA14,0) -> 0 | BG14: =AX14+BA14+BD14 -> 0 | BH14: =AY14+BB14+BE14 -> 0
A15: 5 | B15: АО "Дальневосточная ресурсоснабжающая компания" ОДС | C15: ВЛ | D15: ПС "Тавричанка" Ф-16 | E15: 6 (6.3) | F15: 08,32 2023.03.12 | G15: 09,52 2023.03.12 | H15: В | I15: 1.33 | J15: ТП 6 (6.3) кВ(Все ЛЭП ТП) | M15: 392 | N15: 0 | O15: 0 | P15: 392 | Q15: 0 | R15: 0 | S15: 10 | T15: 382 | U15: 0 | V15: 250 | X15: записи в оперативном журнале от12.03.2023 | Y15: 3.4.8.5 | Z15: 4.21 | AA15: 0 | AB15: =IF(AA15=0,I15,0) -> 1.33 | AC15: =IF(AA15=1,I15,0) -> 0 | AE15: =IF(AA15=0,D15,0) -> ПС "Тавричанка" Ф-16 | AF15: =IF(AA15=1,D15,0) -> 0 | AH15: =IF(AE15=0,0,IF(COUNTIF($AE$11:AE14,AE15)=0,P15,0)) -> 392 | AI15: =IF(AF15=0,0,IF(COUNTIF($AF$11:AF14,AF15)=0,P15,0)) -> 0 | AK15: =IF(AA15=0,V15,0) -> 250 | AL15: =IF(AA15=1,V15,0) -> 0 | AN15: =IF(COUNTIF($D$11:D14,D15)=0,M15,0) -> 392 | AP15: =IF(AA15=1,I15,0)*M15 -> 0 | AQ15: =IF(AA15=1,M15,0) -> 0 | AS15: =IF(AA15=1,I15,0)*V15 -> 0 | AU15: =IF(AE15=0,0,IF(COUNTIF($AE$11:AE14,AE15)=0,S15,0)) -> 10 | AV15: =IF(AF15=0,0,S15) -> 0 | AX15: =IF(R15>0,I15*R15*AA15,0) -> 0 | AY15: =IF(R15>0,R15*AA15,0) -> 0 | BA15: =IF(S15>0,I15*S15*AA15,0) -> 0 | BB15: =IF(S15>0,S15*AA15,0) -> 0 | BD15: =IF(T15>0,I15*T15*AA15,0) -> 0 | BE15: =IF(T15>0,T15*AA15,0) -> 0 | BG15: =AX15+BA15+BD15 -> 0 | BH15: =AY15+BB15+BE15 -> 0
A16: 6 | B16: АО "Дальневосточная ресурсоснабжающая компания" ОДС | C16: ВЛ | D16: ПС "Давыдовка" Ф-12 | E16: 6 (6.3) | F16: 13,36 2023.03.13 | G16: 16,21 2023.03.13 | H16: В | I16: 2.75 | J16: ТП 6 (6.3) кВ(Все ЛЭП ТП) | M16: 234 | N16: 0 | O16: 0 | P16: 234 | Q16: 0 | R16: 0 | S16: 7 | T16: 227 | U16: 0 | V16: 50 | X16: записи в оперативном журнале от13.03.2023 | Y16: 3.4.8.5 | Z16: 4.21 | AA16: 0 | AB16: =IF(AA16=0,I16,0) -> 2.75 | AC16: =IF(AA16=1,I16,0) -> 0 | AE16: =IF(AA16=0,D16,0) -> ПС "Давыдовка" Ф-12 | AF16: =IF(AA16=1,D16,0) -> 0 | AH16: =IF(AE16=0,0,IF(COUNTIF($AE$11:AE15,AE16)=0,P16,0)) -> 234 | AI16: =IF(AF16=0,0,IF(COUNTIF($AF$11:AF15,AF16)=0,P16,0)) -> 0 | AK16: =IF(AA16=0,V16,0) -> 50 | AL16: =IF(AA16=1,V16,0) -> 0 | AN16: =IF(COUNTIF($D$11:D15,D16)=0,M16,0) -> 234 | AP16: =IF(AA16=1,I16,0)*M16 -> 0 | AQ16: =IF(AA16=1,M16,0) -> 0 | AS16: =IF(AA16=1,I16,0)*V16 -> 0 | AU16: =IF(AE16=0,0,IF(COUNTIF($AE$11:AE15,AE16)=0,S16,0)) -> 7 | AV16: =IF(AF16=0,0,S16) -> 0 | AX16: =IF(R16>0,I16*R16*AA16,0) -> 0 | AY16: =IF(R16>0,R16*AA16,0) -> 0 | BA16: =IF(S16>0,I16*S16*AA16,0) -> 0 | BB16: =IF(S16>0,S16*AA16,0) -> 0 | BD16: =IF(T16>0,I16*T16*AA16,0) -> 0 | BE16: =IF(T16>0,T16*AA16,0) -> 0 | BG16: =AX16+BA16+BD16 -> 0 | BH16: =AY16+BB16+BE16 -> 0
A17: 7 | B17: АО "Дальневосточная ресурсоснабжающая компания" ОДС | C17: ВЛ | D17: ПС "Славянка" Ф-19 | E17: 10 (10.5) | F17: 08,35 2023.03.26 | G17: 09,10 2023.03.26 | H17: В | I17: 0.58 | J17: ВЛ 10 (10.5) кВ;КЛ 10 (10.5) кВ;ТП 10 (10.5) кВ(Все ЛЭП ТП) | K17: 0 | L17: 0 | M17: 191 | N17: 0 | O17: 0 | P17: 191 | Q17: 0 | R17: 0 | S17: 12 | T17: 179 | U17: 0 | V17: 987 | X17: записи в оперативном журнале 2023-03-26 | Y17: 3.4.10 | Z17: 4.21 | AA17: 0 | AB17: =IF(AA17=0,I17,0) -> 0.58 | AC17: =IF(AA17=1,I17,0) -> 0 | AE17: =IF(AA17=0,D17,0) -> ПС "Славянка" Ф-19 | AF17: =IF(AA17=1,D17,0) -> 0 | AH17: =IF(AE17=0,0,IF(COUNTIF($AE$11:AE16,AE17)=0,P17,0)) -> 191 | AI17: =IF(AF17=0,0,IF(COUNTIF($AF$11:AF16,AF17)=0,P17,0)) -> 0 | AK17: =IF(AA17=0,V17,0) -> 987 | AL17: =IF(AA17=1,V17,0) -> 0 | AN17: =IF(COUNTIF($D$11:D16,D17)=0,M17,0) -> 191 | AP17: =IF(AA17=1,I17,0)*M17 -> 0 | AQ17: =IF(AA17=1,M17,0) -> 0 | AS17: =IF(AA17=1,I17,0)*V17 -> 0 | AU17: =IF(AE17=0,0,IF(COUNTIF($AE$11:AE16,AE17)=0,S17,0)) -> 12 | AV17: =IF(AF17=0,0,S17) -> 0 | AX17: =IF(R17>0,I17*R17*AA17,0) -> 0 | AY17: =IF(R17>0,R17*AA17,0) -> 0 | BA17: =IF(S17>0,I17*S17*AA17,0) -> 0 | BB17: =IF(S17>0,S17*AA17,0) -> 0 | BD17: =IF(T17>0,I17*T17*AA17,0) -> 0 | BE17: =IF(T17>0,T17*AA17,0) -> 0 | BG17: =AX17+BA17+BD17 -> 0 | BH17: =AY17+BB17+BE17 -> 0
A18: 8 | B18: АО "Дальневосточная ресурсоснабжающая компания" ОДС | C18: ВЛ | D18: ПС "Славянка" Ф-19 | E18: 10 (10.5) | F18: 14,25 2023.03.29 | G18: 15,10 2023.03.29 | H18: В | I18: 0.75 | J18: ТП 10 (10.5) кВ(Все ЛЭП ТП) | M18: 191 | N18: 0 | O18: 0 | P18: 191 | Q18: 0 | R18: 0 | S18: 12 | T18: 179 | U18: 0 | V18: 970 | X18: записи в оперативном журнале от 29.03.2023 | Y18: 3.4.8.5 | Z18: 4.21 | AA18: 0 | AB18: =IF(AA18=0,I18,0) -> 0.75 | AC18: =IF(AA18=1,I18,0) -> 0 | AE18: =IF(AA18=0,D18,0) -> ПС "Славянка" Ф-19 | AF18: =IF(AA18=1,D18,0) -> 0 | AH18: =IF(AE18=0,0,IF(COUNTIF($AE$11:AE17,AE18)=0,P18,0)) -> 0 | AI18: =IF(AF18=0,0,IF(COUNTIF($AF$11:AF17,AF18)=0,P18,0)) -> 0 | AK18: =IF(AA18=0,V18,0) -> 970 | AL18: =IF(AA18=1,V18,0) -> 0 | AN18: =IF(COUNTIF($D$11:D17,D18)=0,M18,0) -> 0 | AP18: =IF(AA18=1,I18,0)*M18 -> 0 | AQ18: =IF(AA18=1,M18,0) -> 0 | AS18: =IF(AA18=1,I18,0)*V18 -> 0 | AU18: =IF(AE18=0,0,IF(COUNTIF($AE$11:AE17,AE18)=0,S18,0)) -> 0 | AV18: =IF(AF18=0,0,S18) -> 0 | AX18: =IF(R18>0,I18*R18*AA18,0) -> 0 | AY18: =IF(R18>0,R18*AA18,0) -> 0 | BA18: =IF(S18>0,I18*S18*AA18,0) -> 0 | BB18: =IF(S18>0,S18*AA18,0) -> 0 | BD18: =IF(T18>0,I18*T18*AA18,0) -> 0 | BE18: =IF(T18>0,T18*AA18,0) -> 0 | BG18: =AX18+BA18+BD18 -> 0 | BH18: =AY18+BB18+BE18 -> 0
A19: 9 | B19: АО "Дальневосточная ресурсоснабжающая компания" ОДС | C19: ВЛ | D19: псТроица Ф-18 | E19: 10 (10.5) | F19: 11,25 2023.04.03 | G19: 12,15 2023.04.03 | H19: В | I19: 0.83 | J19: ВЛ 10 (10.5) кВ;КЛ 10 (10.5) кВ;ТП 10 (10.5) кВ(Все ЛЭП ТП) | K19: 0 | L19: 0 | M19: 370 | N19: 0 | O19: 0 | P19: 370 | Q19: 0 | R19: 0 | S19: 4 | T19: 366 | U19: 0 | V19: 1025 | X19: записи в оперативном журнале 2023-04-03 | Y19: 3.4.10 | Z19: 4.21 | AA19: 0 | AB19: =IF(AA19=0,I19,0) -> 0.83 | AC19: =IF(AA19=1,I19,0) -> 0 | AE19: =IF(AA19=0,D19,0) -> псТроица Ф-18 | AF19: =IF(AA19=1,D19,0) -> 0 | AH19: =IF(AE19=0,0,IF(COUNTIF($AE$11:AE18,AE19)=0,P19,0)) -> 370 | AI19: =IF(AF19=0,0,IF(COUNTIF($AF$11:AF18,AF19)=0,P19,0)) -> 0 | AK19: =IF(AA19=0,V19,0) -> 1025 | AL19: =IF(AA19=1,V19,0) -> 0 | AN19: =IF(COUNTIF($D$11:D18,D19)=0,M19,0) -> 370 | AP19: =IF(AA19=1,I19,0)*M19 -> 0 | AQ19: =IF(AA19=1,M19,0) -> 0 | AS19: =IF(AA19=1,I19,0)*V19 -> 0 | AU19: =IF(AE19=0,0,IF(COUNTIF($AE$11:AE18,AE19)=0,S19,0)) -> 4 | AV19: =IF(AF19=0,0,S19) -> 0 | AX19: =IF(R19>0,I19*R19*AA19,0) -> 0 | AY19: =IF(R19>0,R19*AA19,0) -> 0 | BA19: =IF(S19>0,I19*S19*AA19,0) -> 0 | BB19: =IF(S19>0,S19*AA19,0) -> 0 | BD19: =IF(T19>0,I19*T19*AA19,0) -> 0 | BE19: =IF(T19>0,T19*AA19,0) -> 0 | BG19: =AX19+BA19+BD19 -> 0 | BH19: =AY19+BB19+BE19 -> 0
A20: 10 | B20: АО "Дальневосточная ресурсоснабжающая компания" ОДС | C20: КЛ | D20: Ф-31 пс Славянка | E20: 10 (10.5) | F20: 06,30 2023.04.13 | G20: 07,00 2023.04.13 | H20: В | I20: 0.5 | J20: ТП 10 (10.5) кВ(Все ЛЭП ТП) | K20: 0 | L20: 0 | M20: 171 | N20: 0 | O20: 0 | P20: 171 | Q20: 0 | R20: 0 | S20: 23 | T20: 148 | U20: 0 | V20: 828 | X20: записи в оперативном журнале | Y20: 3.4.10 | Z20: 4.21 | AA20: 0 | AB20: =IF(AA20=0,I20,0) -> 0.5 | AC20: =IF(AA20=1,I20,0) -> 0 | AE20: =IF(AA20=0,D20,0) -> Ф-31 пс Славянка | AF20: =IF(AA20=1,D20,0) -> 0 | AH20: =IF(AE20=0,0,IF(COUNTIF($AE$11:AE19,AE20)=0,P20,0)) -> 0 | AI20: =IF(AF20=0,0,IF(COUNTIF($AF$11:AF19,AF20)=0,P20,0)) -> 0 | AK20: =IF(AA20=0,V20,0) -> 828 | AL20: =IF(AA20=1,V20,0) -> 0 | AN20: =IF(COUNTIF($D$11:D19,D20)=0,M20,0) -> 0 | AP20: =IF(AA20=1,I20,0)*M20 -> 0 | AQ20: =IF(AA20=1,M20,0) -> 0 | AS20: =IF(AA20=1,I20,0)*V20 -> 0 | AU20: =IF(AE20=0,0,IF(COUNTIF($AE$11:AE19,AE20)=0,S20,0)) -> 0 | AV20: =IF(AF20=0,0,S20) -> 0 | AX20: =IF(R20>0,I20*R20*AA20,0) -> 0 | AY20: =IF(R20>0,R20*AA20,0) -> 0 | BA20: =IF(S20>0,I20*S20*AA20,0) -> 0 | BB20: =IF(S20>0,S20*AA20,0) -> 0 | BD20: =IF(T20>0,I20*T20*AA20,0) -> 0 | BE20: =IF(T20>0,T20*AA20,0) -> 0 | BG20: =AX20+BA20+BD20 -> 0 | BH20: =AY20+BB20+BE20 -> 0
A21: 11 | B21: АО "Дальневосточная ресурсоснабжающая компания" ОДС | C21: ВЛ | D21: ПС "Посьет" Ф-3 | E21: 10 (10.5) | F21: 07,15 2023.05.18 | G21: 08,45 2023.05.18 | H21: В | I21: 1.5 | J21: ТП 0.38 кВ(Все ЛЭП ТП) | K21: 0 | L21: 0 | M21: 139 | N21: 0 | O21: 0 | P21: 139 | Q21: 0 | R21: 0 | S21: 9 | T21: 130 | U21: 0 | V21: 182 | X21: запись в оперативном журнале | Y21: 3.4.8 | Z21: 4.14 | AA21: 0 | AB21: =IF(AA21=0,I21,0) -> 1.5 | AC21: =IF(AA21=1,I21,0) -> 0 | AE21: =IF(AA21=0,D21,0) -> ПС "Посьет" Ф-3 | AF21: =IF(AA21=1,D21,0) -> 0 | AH21: =IF(AE21=0,0,IF(COUNTIF($AE$11:AE20,AE21)=0,P21,0)) -> 139 | AI21: =IF(AF21=0,0,IF(COUNTIF($AF$11:AF20,AF21)=0,P21,0)) -> 0 | AK21: =IF(AA21=0,V21,0) -> 182 | AL21: =IF(AA21=1,V21,0) -> 0 | AN21: =IF(COUNTIF($D$11:D20,D21)=0,M21,0) -> 139 | AP21: =IF(AA21=1,I21,0)*M21 -> 0 | AQ21: =IF(AA21=1,M21,0) -> 0 | AS21: =IF(AA21=1,I21,0)*V21 -> 0 | AU21: =IF(AE21=0,0,IF(COUNTIF($AE$11:AE20,AE21)=0,S21,0)) -> 9 | AV21: =IF(AF21=0,0,S21) -> 0 | AX21: =IF(R21>0,I21*R21*AA21,0) -> 0 | AY21: =IF(R21>0,R21*AA21,0) -> 0 | BA21: =IF(S21>0,I21*S21*AA21,0) -> 0 | BB21: =IF(S21>0,S21*AA21,0) -> 0 | BD21: =IF(T21>0,I21*T21*AA21,0) -> 0 | BE21: =IF(T21>0,T21*AA21,0) -> 0 | BG21: =AX21+BA21+BD21 -> 0 | BH21: =AY21+BB21+BE21 -> 0
A22: 12 | B22: АО "Дальневосточная ресурсоснабжающая компания" ОДС | C22: ВЛ | D22: ПС "Тавричанка" Ф-16 | E22: 6 (6.3) | F22: 07,55 2023.05.18 | G22: 08,45 2023.05.18 | H22: В | I22: 0.83 | J22: ВЛ 6 (6.3) кВ | K22: 0 | L22: 0 | M22: 392 | N22: 0 | O22: 0 | P22: 392 | Q22: 0 | R22: 0 | S22: 10 | T22: 382 | U22: 0 | V22: 286 | X22: запись в оперативном журнале | Y22: 3.4.8 | Z22: 4.1 | AA22: 0 | AB22: =IF(AA22=0,I22,0) -> 0.83 | AC22: =IF(AA22=1,I22,0) -> 0 | AE22: =IF(AA22=0,D22,0) -> ПС "Тавричанка" Ф-16 | AF22: =IF(AA22=1,D22,0) -> 0 | AH22: =IF(AE22=0,0,IF(COUNTIF($AE$11:AE21,AE22)=0,P22,0)) -> 0 | AI22: =IF(AF22=0,0,IF(COUNTIF($AF$11:AF21,AF22)=0,P22,0)) -> 0 | AK22: =IF(AA22=0,V22,0) -> 286 | AL22: =IF(AA22=1,V22,0) -> 0 | AN22: =IF(COUNTIF($D$11:D21,D22)=0,M22,0) -> 0 | AP22: =IF(AA22=1,I22,0)*M22 -> 0 | AQ22: =IF(AA22=1,M22,0) -> 0 | AS22: =IF(AA22=1,I22,0)*V22 -> 0 | AU22: =IF(AE22=0,0,IF(COUNTIF($AE$11:AE21,AE22)=0,S22,0)) -> 0 | AV22: =IF(AF22=0,0,S22) -> 0 | AX22: =IF(R22>0,I22*R22*AA22,0) -> 0 | AY22: =IF(R22>0,R22*AA22,0) -> 0 | BA22: =IF(S22>0,I22*S22*AA22,0) -> 0 | BB22: =IF(S22>0,S22*AA22,0) -> 0 | BD22: =IF(T22>0,I22*T22*AA22,0) -> 0 | BE22: =IF(T22>0,T22*AA22,0) -> 0 | BG22: =AX22+BA22+BD22 -> 0 | BH22: =AY22+BB22+BE22 -> 0
A23: 13 | B23: АО "Дальневосточная ресурсоснабжающая компания" ОДС | C23: ВЛ | D23: Ф-31 пс Славянка | E23: 10 (10.5) | F23: 05,00 2023.06.09 | G23: 06,15 2023.06.09 | H23: В | I23: 1.25 | J23: ВЛ 10 (10.5) кВ;КЛ 10 (10.5) кВ;ТП 10 (10.5) кВ(Все ЛЭП ТП) | K23: 0 | L23: 0 | M23: 277 | N23: 0 | O23: 0 | P23: 277 | Q23: 0 | R23: 0 | S23: 32 | T23: 245 | U23: 0 | V23: 1050 | X23: записи в оперативном журнале 2023-06-09 | Y23: 3.4.10 | Z23: 4.21 | AA23: 0 | AB23: =IF(AA23=0,I23,0) -> 1.25 | AC23: =IF(AA23=1,I23,0) -> 0 | AE23: =IF(AA23=0,D23,0) -> Ф-31 пс Славянка | AF23: =IF(AA23=1,D23,0) -> 0 | AH23: =IF(AE23=0,0,IF(COUNTIF($AE$11:AE22,AE23)=0,P23,0)) -> 0 | AI23: =IF(AF23=0,0,IF(COUNTIF($AF$11:AF22,AF23)=0,P23,0)) -> 0 | AK23: =IF(AA23=0,V23,0) -> 1050 | AL23: =IF(AA23=1,V23,0) -> 0 | AN23: =IF(COUNTIF($D$11:D22,D23)=0,M23,0) -> 0 | AP23: =IF(AA23=1,I23,0)*M23 -> 0 | AQ23: =IF(AA23=1,M23,0) -> 0 | AS23: =IF(AA23=1,I23,0)*V23 -> 0 | AU23: =IF(AE23=0,0,IF(COUNTIF($AE$11:AE22,AE23)=0,S23,0)) -> 0 | AV23: =IF(AF23=0,0,S23) -> 0 | AX23: =IF(R23>0,I23*R23*AA23,0) -> 0 | AY23: =IF(R23>0,R23*AA23,0) -> 0 | BA23: =IF(S23>0,I23*S23*AA23,0) -> 0 | BB23: =IF(S23>0,S23*AA23,0) -> 0 | BD23: =IF(T23>0,I23*T23*AA23,0) -> 0 | BE23: =IF(T23>0,T23*AA23,0) -> 0 | BG23: =AX23+BA23+BD23 -> 0 | BH23: =AY23+BB23+BE23 -> 0
A24: 14 | B24: АО "Дальневосточная ресурсоснабжающая компания" ОДС | C24: ВЛ | D24: ПС "Славянка" Ф-12 | E24: 10 (10.5) | F24: 06,40 2023.06.22 | G24: 09,50 2023.06.22 | H24: В | I24: 3.17 | J24: ТП 0.38 кВ(Все ЛЭП ТП) | K24: 0 | L24: 0 | M24: 290 | N24: 0 | O24: 0 | P24: 290 | Q24: 0 | R24: 0 | S24: 28 | T24: 262 | U24: 0 | V24: 452 | X24: запись в оперативном журнале | Y24: 3.4.8.5 | Z24: 4.21 | AA24: 0 | AB24: =IF(AA24=0,I24,0) -> 3.17 | AC24: =IF(AA24=1,I24,0) -> 0 | AE24: =IF(AA24=0,D24,0) -> ПС "Славянка" Ф-12 | AF24: =IF(AA24=1,D24,0) -> 0 | AH24: =IF(AE24=0,0,IF(COUNTIF($AE$11:AE23,AE24)=0,P24,0)) -> 290 | AI24: =IF(AF24=0,0,IF(COUNTIF($AF$11:AF23,AF24)=0,P24,0)) -> 0 | AK24: =IF(AA24=0,V24,0) -> 452 | AL24: =IF(AA24=1,V24,0) -> 0 | AN24: =IF(COUNTIF($D$11:D23,D24)=0,M24,0) -> 290 | AP24: =IF(AA24=1,I24,0)*M24 -> 0 | AQ24: =IF(AA24=1,M24,0) -> 0 | AS24: =IF(AA24=1,I24,0)*V24 -> 0 | AU24: =IF(AE24=0,0,IF(COUNTIF($AE$11:AE23,AE24)=0,S24,0)) -> 28 | AV24: =IF(AF24=0,0,S24) -> 0 | AX24: =IF(R24>0,I24*R24*AA24,0) -> 0 | AY24: =IF(R24>0,R24*AA24,0) -> 0 | BA24: =IF(S24>0,I24*S24*AA24,0) -> 0 | BB24: =IF(S24>0,S24*AA24,0) -> 0 | BD24: =IF(T24>0,I24*T24*AA24,0) -> 0 | BE24: =IF(T24>0,T24*AA24,0) -> 0 | BG24: =AX24+BA24+BD24 -> 0 | BH24: =AY24+BB24+BE24 -> 0
A25: 15 | B25: АО "Дальневосточная ресурсоснабжающая компания" ОДС | C25: ВЛ | D25: ПС "Надеждинская" Ф-19 | E25: 6 (6.3) | F25: 06,49 2023.06.26 | G25: 07,09 2023.06.26 | H25: В | I25: 0.33 | J25: ТП 6 (6.3) кВ(Все ЛЭП ТП) | K25: 0 | L25: 0 | M25: 924 | N25: 0 | O25: 0 | P25: 924 | Q25: 0 | R25: 0 | S25: 19 | T25: 905 | U25: 0 | V25: 950 | X25: запись в оперативном журнале | Y25: 3.4.8.5 | Z25: 4.21 | AA25: 0 | AB25: =IF(AA25=0,I25,0) -> 0.33 | AC25: =IF(AA25=1,I25,0) -> 0 | AE25: =IF(AA25=0,D25,0) -> ПС "Надеждинская" Ф-19 | AF25: =IF(AA25=1,D25,0) -> 0 | AH25: =IF(AE25=0,0,IF(COUNTIF($AE$11:AE24,AE25)=0,P25,0)) -> 924 | AI25: =IF(AF25=0,0,IF(COUNTIF($AF$11:AF24,AF25)=0,P25,0)) -> 0 | AK25: =IF(AA25=0,V25,0) -> 950 | AL25: =IF(AA25=1,V25,0) -> 0 | AN25: =IF(COUNTIF($D$11:D24,D25)=0,M25,0) -> 924 | AP25: =IF(AA25=1,I25,0)*M25 -> 0 | AQ25: =IF(AA25=1,M25,0) -> 0 | AS25: =IF(AA25=1,I25,0)*V25 -> 0 | AU25: =IF(AE25=0,0,IF(COUNTIF($AE$11:AE24,AE25)=0,S25,0)) -> 19 | AV25: =IF(AF25=0,0,S25) -> 0 | AX25: =IF(R25>0,I25*R25*AA25,0) -> 0 | AY25: =IF(R25>0,R25*AA25,0) -> 0 | BA25: =IF(S25>0,I25*S25*AA25,0) -> 0 | BB25: =IF(S25>0,S25*AA25,0) -> 0 | BD25: =IF(T25>0,I25*T25*AA25,0) -> 0 | BE25: =IF(T25>0,T25*AA25,0) -> 0 | BG25: =AX25+BA25+BD25 -> 0 | BH25: =AY25+BB25+BE25 -> 0
A26: 16 | B26: АО "Дальневосточная ресурсоснабжающая компания" ОДС | C26: ВЛ | D26: ПС "Славянка" Ф-12 | E26: 10 (10.5) | F26: 16,11 2023.07.02 | G26: 16,52 2023.07.02 | H26: В | I26: 0.68 | J26: ТП 10 (10.5) кВ;ВЛ 10 (10.5) кВ | M26: 290 | N26: 0 | O26: 0 | P26: 290 | Q26: 0 | R26: 0 | S26: 28 | T26: 262 | U26: 0 | V26: 250 | X26: записи в оперативном журнале | Y26: 3.4.8.5 | Z26: 4.21 | AA26: 0 | AB26: =IF(AA26=0,I26,0) -> 0.68 | AC26: =IF(AA26=1,I26,0) -> 0 | AE26: =IF(AA26=0,D26,0) -> ПС "Славянка" Ф-12 | AF26: =IF(AA26=1,D26,0) -> 0 | AH26: =IF(AE26=0,0,IF(COUNTIF($AE$11:AE25,AE26)=0,P26,0)) -> 0 | AI26: =IF(AF26=0,0,IF(COUNTIF($AF$11:AF25,AF26)=0,P26,0)) -> 0 | AK26: =IF(AA26=0,V26,0) -> 250 | AL26: =IF(AA26=1,V26,0) -> 0 | AN26: =IF(COUNTIF($D$11:D25,D26)=0,M26,0) -> 0 | AP26: =IF(AA26=1,I26,0)*M26 -> 0 | AQ26: =IF(AA26=1,M26,0) -> 0 | AS26: =IF(AA26=1,I26,0)*V26 -> 0 | AU26: =IF(AE26=0,0,IF(COUNTIF($AE$11:AE25,AE26)=0,S26,0)) -> 0 | AV26: =IF(AF26=0,0,S26) -> 0 | AX26: =IF(R26>0,I26*R26*AA26,0) -> 0 | AY26: =IF(R26>0,R26*AA26,0) -> 0 | BA26: =IF(S26>0,I26*S26*AA26,0) -> 0 | BB26: =IF(S26>0,S26*AA26,0) -> 0 | BD26: =IF(T26>0,I26*T26*AA26,0) -> 0 | BE26: =IF(T26>0,T26*AA26,0) -> 0 | BG26: =AX26+BA26+BD26 -> 0 | BH26: =AY26+BB26+BE26 -> 0
A27: 17 | B27: АО "Дальневосточная ресурсоснабжающая компания" ОДС | C27: ВЛ | D27: ПС "Раздольное-1" Ф-17 | E27: 10 (10.5) | F27: 09,00 2023.07.24 | G27: 15,00 2023.07.24 | H27: В | I27: 6 | J27: ВЛ 10 (10.5) кВ | K27: 0 | L27: 0 | M27: 67 | N27: 0 | O27: 0 | P27: 67 | Q27: 0 | R27: 0 | S27: 5 | T27: 62 | U27: 0 | V27: 230 | X27: запись в оперативном журнале | Y27: 3.4.8 | Z27: 4.21 | AA27: 0 | AB27: =IF(AA27=0,I27,0) -> 6 | AC27: =IF(AA27=1,I27,0) -> 0 | AE27: =IF(AA27=0,D27,0) -> ПС "Раздольное-1" Ф-17 | AF27: =IF(AA27=1,D27,0) -> 0 | AH27: =IF(AE27=0,0,IF(COUNTIF($AE$11:AE26,AE27)=0,P27,0)) -> 67 | AI27: =IF(AF27=0,0,IF(COUNTIF($AF$11:AF26,AF27)=0,P27,0)) -> 0 | AK27: =IF(AA27=0,V27,0) -> 230 | AL27: =IF(AA27=1,V27,0) -> 0 | AN27: =IF(COUNTIF($D$11:D26,D27)=0,M27,0) -> 67 | AP27: =IF(AA27=1,I27,0)*M27 -> 0 | AQ27: =IF(AA27=1,M27,0) -> 0 | AS27: =IF(AA27=1,I27,0)*V27 -> 0 | AU27: =IF(AE27=0,0,IF(COUNTIF($AE$11:AE26,AE27)=0,S27,0)) -> 5 | AV27: =IF(AF27=0,0,S27) -> 0 | AX27: =IF(R27>0,I27*R27*AA27,0) -> 0 | AY27: =IF(R27>0,R27*AA27,0) -> 0 | BA27: =IF(S27>0,I27*S27*AA27,0) -> 0 | BB27: =IF(S27>0,S27*AA27,0) -> 0 | BD27: =IF(T27>0,I27*T27*AA27,0) -> 0 | BE27: =IF(T27>0,T27*AA27,0) -> 0 | BG27: =AX27+BA27+BD27 -> 0 | BH27: =AY27+BB27+BE27 -> 0
A28: 18 | B28: АО "Дальневосточная ресурсоснабжающая компания" ОДС | C28: ВЛ | D28: ПС "Славянка" Ф-16 | E28: 10 (10.5) | F28: 17,02 2023.07.26 | G28: 17,42 2023.07.26 | H28: В | I28: 0.67 | J28: ТП 10 (10.5) кВ(Все ЛЭП ТП) | M28: 12 | N28: 0 | O28: 0 | P28: 12 | Q28: 0 | R28: 0 | S28: 3 | T28: 9 | U28: 0 | V28: 70 | X28: записи в оперативном журнале от 26.07.2023 | Y28: 3.4.14 | Z28: 4.14 | AA28: 1 | AB28: =IF(AA28=0,I28,0) -> 0 | AC28: =IF(AA28=1,I28,0) -> 0.67 | AE28: =IF(AA28=0,D28,0) -> 0 | AF28: =IF(AA28=1,D28,0) -> ПС "Славянка" Ф-16 | AH28: =IF(AE28=0,0,IF(COUNTIF($AE$11:AE27,AE28)=0,P28,0)) -> 0 | AI28: =IF(AF28=0,0,IF(COUNTIF($AF$11:AF27,AF28)=0,P28,0)) -> 12 | AK28: =IF(AA28=0,V28,0) -> 0 | AL28: =IF(AA28=1,V28,0) -> 70 | AN28: =IF(COUNTIF($D$11:D27,D28)=0,M28,0) -> 12 | AP28: =IF(AA28=1,I28,0)*M28 -> 8.04 | AQ28: =IF(AA28=1,M28,0) -> 12 | AS28: =IF(AA28=1,I28,0)*V28 -> 46.9 | AU28: =IF(AE28=0,0,IF(COUNTIF($AE$11:AE27,AE28)=0,S28,0)) -> 0 | AV28: =IF(AF28=0,0,S28) -> 3 | AX28: =IF(R28>0,I28*R28*AA28,0) -> 0 | AY28: =IF(R28>0,R28*AA28,0) -> 0 | BA28: =IF(S28>0,I28*S28*AA28,0) -> 2.01 | BB28: =IF(S28>0,S28*AA28,0) -> 3 | BD28: =IF(T28>0,I28*T28*AA28,0) -> 6.03 | BE28: =IF(T28>0,T28*AA28,0) -> 9 | BG28: =AX28+BA28+BD28 -> 8.04 | BH28: =AY28+BB28+BE28 -> 12
A29: 19 | B29: АО "Дальневосточная ресурсоснабжающая компания" ОДС | C29: КЛ | D29: ПС "Славянка" Ф-31 | E29: 10 (10.5) | F29: 12,20 2023.08.04 | G29: 13,30 2023.08.04 | H29: В | I29: 1.17 | J29: КЛ 10 (10.5) кВ тп 10кв | M29: 277 | N29: 0 | O29: 0 | P29: 277 | Q29: 0 | R29: 0 | S29: 32 | T29: 245 | U29: 0 | V29: 150 | X29: записи в оперативном журнале | Y29: 3.4.8.5 | Z29: 4.21,4.16 | AA29: 0 | AB29: =IF(AA29=0,I29,0) -> 1.17 | AC29: =IF(AA29=1,I29,0) -> 0 | AE29: =IF(AA29=0,D29,0) -> ПС "Славянка" Ф-31 | AF29: =IF(AA29=1,D29,0) -> 0 | AH29: =IF(AE29=0,0,IF(COUNTIF($AE$11:AE28,AE29)=0,P29,0)) -> 277 | AI29: =IF(AF29=0,0,IF(COUNTIF($AF$11:AF28,AF29)=0,P29,0)) -> 0 | AK29: =IF(AA29=0,V29,0) -> 150 | AL29: =IF(AA29=1,V29,0) -> 0 | AN29: =IF(COUNTIF($D$11:D28,D29)=0,M29,0) -> 277 | AP29: =IF(AA29=1,I29,0)*M29 -> 0 | AQ29: =IF(AA29=1,M29,0) -> 0 | AS29: =IF(AA29=1,I29,0)*V29 -> 0 | AU29: =IF(AE29=0,0,IF(COUNTIF($AE$11:AE28,AE29)=0,S29,0)) -> 32 | AV29: =IF(AF29=0,0,S29) -> 0 | AX29: =IF(R29>0,I29*R29*AA29,0) -> 0 | AY29: =IF(R29>0,R29*AA29,0) -> 0 | BA29: =IF(S29>0,I29*S29*AA29,0) -> 0 | BB29: =IF(S29>0,S29*AA29,0) -> 0 | BD29: =IF(T29>0,I29*T29*AA29,0) -> 0 | BE29: =IF(T29>0,T29*AA29,0) -> 0 | BG29: =AX29+BA29+BD29 -> 0 | BH29: =AY29+BB29+BE29 -> 0
A30: 20 | B30: АО "Дальневосточная ресурсоснабжающая компания" ОДС | C30: ВЛ | D30: ПС "Краскино" Ф-6 | E30: 10 (10.5) | F30: 16,38 2023.09.05 | G30: 21,22 2023.09.05 | H30: В | I30: 4.73 | J30: ТП 10 (10.5) кВ(Все ЛЭП ТП) | K30: 0 | L30: 0 | M30: 296 | N30: 0 | O30: 0 | P30: 296 | Q30: 0 | R30: 0 | S30: 10 | T30: 286 | U30: 0 | V30: 987 | X30: записи в оперативном журнале 2023-09-05 | Y30: 3.4.10 | Z30: 4.21 | AA30: 0 | AB30: =IF(AA30=0,I30,0) -> 4.73 | AC30: =IF(AA30=1,I30,0) -> 0 | AE30: =IF(AA30=0,D30,0) -> ПС "Краскино" Ф-6 | AF30: =IF(AA30=1,D30,0) -> 0 | AH30: =IF(AE30=0,0,IF(COUNTIF($AE$11:AE29,AE30)=0,P30,0)) -> 296 | AI30: =IF(AF30=0,0,IF(COUNTIF($AF$11:AF29,AF30)=0,P30,0)) -> 0 | AK30: =IF(AA30=0,V30,0) -> 987 | AL30: =IF(AA30=1,V30,0) -> 0 | AN30: =IF(COUNTIF($D$11:D29,D30)=0,M30,0) -> 296 | AP30: =IF(AA30=1,I30,0)*M30 -> 0 | AQ30: =IF(AA30=1,M30,0) -> 0 | AS30: =IF(AA30=1,I30,0)*V30 -> 0 | AU30: =IF(AE30=0,0,IF(COUNTIF($AE$11:AE29,AE30)=0,S30,0)) -> 10 | AV30: =IF(AF30=0,0,S30) -> 0 | AX30: =IF(R30>0,I30*R30*AA30,0) -> 0 | AY30: =IF(R30>0,R30*AA30,0) -> 0 | BA30: =IF(S30>0,I30*S30*AA30,0) -> 0 | BB30: =IF(S30>0,S30*AA30,0) -> 0 | BD30: =IF(T30>0,I30*T30*AA30,0) -> 0 | BE30: =IF(T30>0,T30*AA30,0) -> 0 | BG30: =AX30+BA30+BD30 -> 0 | BH30: =AY30+BB30+BE30 -> 0
A31: 21 | B31: АО "Дальневосточная ресурсоснабжающая компания" ОДС | C31: ВЛ | D31: ПС "Славянка" Ф-12 | E31: 10 (10.5) | F31: 04,10 2023.09.24 | G31: 05,15 2023.09.24 | H31: В | I31: 1.08 | J31: ТП 10 (10.5) кВ(Все ЛЭП ТП) | M31: 290 | N31: 0 | O31: 0 | P31: 290 | Q31: 0 | R31: 0 | S31: 28 | T31: 262 | U31: 0 | V31: 40 | X31: записи в оперативном журнале | Y31: 3.4.8.5 | Z31: 4.21 | AA31: 0 | AB31: =IF(AA31=0,I31,0) -> 1.08 | AC31: =IF(AA31=1,I31,0) -> 0 | AE31: =IF(AA31=0,D31,0) -> ПС "Славянка" Ф-12 | AF31: =IF(AA31=1,D31,0) -> 0 | AH31: =IF(AE31=0,0,IF(COUNTIF($AE$11:AE30,AE31)=0,P31,0)) -> 0 | AI31: =IF(AF31=0,0,IF(COUNTIF($AF$11:AF30,AF31)=0,P31,0)) -> 0 | AK31: =IF(AA31=0,V31,0) -> 40 | AL31: =IF(AA31=1,V31,0) -> 0 | AN31: =IF(COUNTIF($D$11:D30,D31)=0,M31,0) -> 0 | AP31: =IF(AA31=1,I31,0)*M31 -> 0 | AQ31: =IF(AA31=1,M31,0) -> 0 | AS31: =IF(AA31=1,I31,0)*V31 -> 0 | AU31: =IF(AE31=0,0,IF(COUNTIF($AE$11:AE30,AE31)=0,S31,0)) -> 0 | AV31: =IF(AF31=0,0,S31) -> 0 | AX31: =IF(R31>0,I31*R31*AA31,0) -> 0 | AY31: =IF(R31>0,R31*AA31,0) -> 0 | BA31: =IF(S31>0,I31*S31*AA31,0) -> 0 | BB31: =IF(S31>0,S31*AA31,0) -> 0 | BD31: =IF(T31>0,I31*T31*AA31,0) -> 0 | BE31: =IF(T31>0,T31*AA31,0) -> 0 | BG31: =AX31+BA31+BD31 -> 0 | BH31: =AY31+BB31+BE31 -> 0
A32: 22 | B32: АО "Дальневосточная ресурсоснабжающая компания" вл | C32: ВЛ | D32: ПС "Надеждинская" Ф-19 | E32: 6 (6.3) | F32: 13,56 2023.10.05 | G32: 14,30 2023.10.05 | H32: В | I32: 0.57 | J32: ВЛ 6 (6.3) кВ | K32: 0 | L32: 0 | M32: 924 | N32: 0 | O32: 0 | P32: 924 | Q32: 0 | R32: 0 | S32: 19 | T32: 905 | U32: 0 | V32: 285 | X32: запись в оперативном журнале | Y32: 3.4.14 | Z32: 4.14 | AA32: 1 | AB32: =IF(AA32=0,I32,0) -> 0 | AC32: =IF(AA32=1,I32,0) -> 0.57 | AE32: =IF(AA32=0,D32,0) -> 0 | AF32: =IF(AA32=1,D32,0) -> ПС "Надеждинская" Ф-19 | AH32: =IF(AE32=0,0,IF(COUNTIF($AE$11:AE31,AE32)=0,P32,0)) -> 0 | AI32: =IF(AF32=0,0,IF(COUNTIF($AF$11:AF31,AF32)=0,P32,0)) -> 924 | AK32: =IF(AA32=0,V32,0) -> 0 | AL32: =IF(AA32=1,V32,0) -> 285 | AN32: =IF(COUNTIF($D$11:D31,D32)=0,M32,0) -> 0 | AP32: =IF(AA32=1,I32,0)*M32 -> 526.68 | AQ32: =IF(AA32=1,M32,0) -> 924 | AS32: =IF(AA32=1,I32,0)*V32 -> 162.45 | AU32: =IF(AE32=0,0,IF(COUNTIF($AE$11:AE31,AE32)=0,S32,0)) -> 0 | AV32: =IF(AF32=0,0,S32) -> 19 | AX32: =IF(R32>0,I32*R32*AA32,0) -> 0 | AY32: =IF(R32>0,R32*AA32,0) -> 0 | BA32: =IF(S32>0,I32*S32*AA32,0) -> 10.83 | BB32: =IF(S32>0,S32*AA32,0) -> 19 | BD32: =IF(T32>0,I32*T32*AA32,0) -> 515.85 | BE32: =IF(T32>0,T32*AA32,0) -> 905 | BG32: =AX32+BA32+BD32 -> 526.68 | BH32: =AY32+BB32+BE32 -> 924
A33: 23 | B33: АО "Дальневосточная ресурсоснабжающая компания" ОДС | C33: ВЛ | D33: ПС "Раздольное-1" Ф-17 | E33: 10 (10.5) | F33: 16,20 2023.10.06 | G33: 16,45 2023.10.06 | H33: В | I33: 0.42 | J33: ТП 10 (10.5) кВ(Все ЛЭП ТП) | K33: 0 | L33: 0 | M33: 67 | N33: 0 | O33: 0 | P33: 67 | Q33: 0 | R33: 0 | S33: 5 | T33: 62 | U33: 0 | V33: 194 | X33: записи в оперативном журнале от 06.10 2023 | Y33: 3.4.8.5 | Z33: 4.21 | AA33: 0 | AB33: =IF(AA33=0,I33,0) -> 0.42 | AC33: =IF(AA33=1,I33,0) -> 0 | AE33: =IF(AA33=0,D33,0) -> ПС "Раздольное-1" Ф-17 | AF33: =IF(AA33=1,D33,0) -> 0 | AH33: =IF(AE33=0,0,IF(COUNTIF($AE$11:AE32,AE33)=0,P33,0)) -> 0 | AI33: =IF(AF33=0,0,IF(COUNTIF($AF$11:AF32,AF33)=0,P33,0)) -> 0 | AK33: =IF(AA33=0,V33,0) -> 194 | AL33: =IF(AA33=1,V33,0) -> 0 | AN33: =IF(COUNTIF($D$11:D32,D33)=0,M33,0) -> 0 | AP33: =IF(AA33=1,I33,0)*M33 -> 0 | AQ33: =IF(AA33=1,M33,0) -> 0 | AS33: =IF(AA33=1,I33,0)*V33 -> 0 | AU33: =IF(AE33=0,0,IF(COUNTIF($AE$11:AE32,AE33)=0,S33,0)) -> 0 | AV33: =IF(AF33=0,0,S33) -> 0 | AX33: =IF(R33>0,I33*R33*AA33,0) -> 0 | AY33: =IF(R33>0,R33*AA33,0) -> 0 | BA33: =IF(S33>0,I33*S33*AA33,0) -> 0 | BB33: =IF(S33>0,S33*AA33,0) -> 0 | BD33: =IF(T33>0,I33*T33*AA33,0) -> 0 | BE33: =IF(T33>0,T33*AA33,0) -> 0 | BG33: =AX33+BA33+BD33 -> 0 | BH33: =AY33+BB33+BE33 -> 0
A34: 24 | B34: АО "Дальневосточная ресурсоснабжающая компания" | C34: ВЛ | D34: ПС "Тавричанка" Ф-13 | E34: 6 (6.3) | F34: 18,03 2023.11.17 | G34: 19,35 2023.11.17 | H34: В | I34: 1.53 | J34: ТП | K34: 0 | L34: 0 | M34: 650 | N34: 0 | O34: 0 | P34: 650 | Q34: 0 | R34: 0 | S34: 9 | T34: 641 | U34: 0 | V34: 253 | X34: запись в оперативном журнале | Y34: 3.4.8.5 | Z34: 4.21,4.18 | AA34: 0 | AB34: =IF(AA34=0,I34,0) -> 1.53 | AC34: =IF(AA34=1,I34,0) -> 0 | AE34: =IF(AA34=0,D34,0) -> ПС "Тавричанка" Ф-13 | AF34: =IF(AA34=1,D34,0) -> 0 | AH34: =IF(AE34=0,0,IF(COUNTIF($AE$11:AE33,AE34)=0,P34,0)) -> 650 | AI34: =IF(AF34=0,0,IF(COUNTIF($AF$11:AF33,AF34)=0,P34,0)) -> 0 | AK34: =IF(AA34=0,V34,0) -> 253 | AL34: =IF(AA34=1,V34,0) -> 0 | AN34: =IF(COUNTIF($D$11:D33,D34)=0,M34,0) -> 650 | AP34: =IF(AA34=1,I34,0)*M34 -> 0 | AQ34: =IF(AA34=1,M34,0) -> 0 | AS34: =IF(AA34=1,I34,0)*V34 -> 0 | AU34: =IF(AE34=0,0,IF(COUNTIF($AE$11:AE33,AE34)=0,S34,0)) -> 9 | AV34: =IF(AF34=0,0,S34) -> 0 | AX34: =IF(R34>0,I34*R34*AA34,0) -> 0 | AY34: =IF(R34>0,R34*AA34,0) -> 0 | BA34: =IF(S34>0,I34*S34*AA34,0) -> 0 | BB34: =IF(S34>0,S34*AA34,0) -> 0 | BD34: =IF(T34>0,I34*T34*AA34,0) -> 0 | BE34: =IF(T34>0,T34*AA34,0) -> 0 | BG34: =AX34+BA34+BD34 -> 0 | BH34: =AY34+BB34+BE34 -> 0
A35: ИТОГО по всем прекращениям передачи электрической энергии за отчетный период: | H35: И | I35: =I38+I39 -> 35.39 | J35: х | K35: х | L35: х | M35: =SUM(AN11:AN34) -> 4409 | N35: 0 | O35: 0 | P35: =SUM(AN11:AN34) -> 4409 | Q35: 0 | R35: 0 | S35: =S38+S39 -> 227 | T35: =P35-S35 -> 4182 | U35: 0 | V35: =V38+V39 -> 11384 | X35: х | Y35: х | Z35: х | AA35: 0, 1 | AH35: Примечание: формулы столбца не действуют на 0,4 кв | AO35: сумма | AP35: =SUM(AP11:AP34) -> 534.72 | AQ35: =SUM(AQ11:AQ34) -> 936 | AS35: =SUM(AS11:AS34) -> 209.35 | AT35: =SUM(AT11:AT34) -> 0 | AU35: =SUM(AU11:AU34) -> 205 | AV35: =SUM(AV11:AV34) -> 22 | AX35: =IF('1.3.1.'!BF11=0,0,SUM(AX11:AX34)/'1.3.1.'!BF11) -> 0 | AY35: =IF('1.3.1.'!BF11=0,0,SUM(AY11:AY34)/'1.3.1.'!BF11) -> 0 | BA35: =SUM(BA11:BA34)/'1.3.1.'!BF12 -> 0.039875776 | BB35: =SUM(BB11:BB34)/'1.3.1.'!BF12 -> 0.068322981 | BD35: =SUM(BD11:BD34)/'1.3.1.'!BF13 -> 0.041643792 | BE35: =SUM(BE11:BE34)/'1.3.1.'!BF13 -> 0.072933291 | BG35: =SUM(BG11:BG34)/'1.3.1.'!BF8 -> 0.041599502 | BH35: =SUM(BH11:BH34)/'1.3.1.'!BF8 -> 0.0728178
A36: - по ограничениям, связанным с проведением ремонтных работ | H36: П | I36: - | J36: х | K36: х | L36: х | M36: - | N36: - | O36: - | P36: - | Q36: - | R36: - | S36: - | T36: - | U36: - | V36: - | W36: - | X36: х | Y36: х | Z36: х | AA36: 0 | AX36: ПsaidiСН1 | AY36: ПsaifiСН1 | BA36: ПsaidiСН2 | BB36: ПsaifiСН2 | BD36: ПsaidiНН | BE36: ПsaifiНН | BG36: Пsaidi | BH36: Пsaifi
A37: - по аварийным ограничениям | H37: А | I37: - | J37: х | K37: х | L37: х | M37: - | N37: - | O37: - | P37: - | Q37: - | R37: - | S37: - | T37: - | U37: - | V37: - | W37: - | X37: х | Y37: х | Z37: х | AA37: 0
A38: - по внерегламентным отключениям | H38: В | I38: =SUM(AB11:AB34) -> 34.15 | J38: х | K38: х | L38: х | M38: =SUM(AH11:AH34) -> 4397 | N38: 0 | O38: 0 | P38: =SUM(AH11:AH34) -> 4397 | Q38: 0 | R38: 0 | S38: =AU35 -> 205 | T38: =P38-S38 -> 4192 | U38: 0 | V38: =SUM(AK11:AK34) -> 11029 | X38: х | Y38: х | Z38: х | AA38: 0
A39: - по внерегламентным отключениям, учитываемым при расчете индикативных показателей надежности | H39: В1 | I39: =SUM(AC11:AC34) -> 1.24 | J39: х | K39: х | L39: х | M39: =SUM(AI11:AI34) -> 936 | N39: 0 | O39: 0 | P39: =SUM(AI11:AI34) -> 936 | Q39: 0 | R39: 0 | S39: =AV35 -> 22 | T39: =P39-S39 -> 914 | U39: 0 | V39: =SUM(AL11:AL34) -> 355 | W39: - | X39: х | Y39: х | Z39: х | AA39: 1
F41: Ведущий инженер ПТС | L41: Шевелев Д.С.
F42: Должность | L42: Ф.И.О. | R42: Подпись

Sheet 8.1. 2022
A2: Форма 8.1. - Журнал учёта данных первичной информации по всем прекращениям передачи электрической энергии, произошедших на объектах электросетевых организаций за | Q2: декабрь | R2: месяц | S2: 2022 | T2: года
A3: АО "Дальневосточная ресурсоснабжающая компания"
A4: наименование электросетевой организации
A6: Данные о факте прекращения передачи электрической энергии (если восстановление режима потребления электрической энергии потребителей услуг в рамках одного прекращения передачи электрической энергии происходило в разное время, то форма заполняется отдельно по каждому такому восстановлению) | J6: Данные о масштабе прекращения передачи электрической энергии в сетевой организации | W6: Перечень смежных сетевых организаций, затронутых прекращением передачи электрической энергии | X6: Данные о причинах прекращения передачи электрической энергии и их расследовании | AA6: Учет в показателях надежности, в т.ч. индикативных показателях наджености (0 - нет, 1 - да)
A7: Номер прекращения передачи электрической энергии / Номер итоговой строки | B7: Наименование структурного подразделения сетевой организации | C7: Вид объекта: Кабельная линия (далее - КЛ), Воздушная линия (далее - ВЛ), Кабельно-воздушная линия (далее - КВЛ), Подстанция (далее - ПС), Трансформаторная подстанция (далее - ТП), Распределительный пункт (далее - РП) | D7: Диспетчерское наименование объекта электросетевого хозяйства сетевой организации, в результате отключения которой произошло прекращение передачи электроэнергии потребителям услуг | E7: Высший класс напряжения отключенного оборудования сетевой организации, кВ | F7: Время и дата начала прекращения передачи электрической энергии (часы, минуты, год, месяц, день) | G7: Время и дата восстановления режима потребления электрической энергии потребителей услуг (часы, минуты, год, месяц, день) | H7: Вид прекращения передачи электроэнергии (П, А, В) | I7: Продолжительность прекращения передачи электрической энергии, час | J7: Перечень объектов электросетевого хозяйства, отключение которых приивело к прекращению передачи электрической энергии потребителям услуг (ПС, ТП, РП, ВЛ, КЛ) | K7: Перечень потребителей 1-й и 2-й категорий надежности, в отношении которых произошло полное ограничение режима потребления электрической энергии | L7: Перечень потребителей 1-й и 2-й категорий надежности, в отношении которых произошло частичное ограничение режима потребления электрической энергии | M7: Количество точек поставки потребителей услуг сетевой организации, в отношении которых произошел перерыв электроснабжения, шт., в том числе: | V7: Суммарный объем фактической нагрузки (мощности) на присоединениях потребителей услуг, по которым произошло прекращение передачи электрической энергии на момент возникновения такого события, кВт
M8: ВСЕГО | N8: в разделении категорий надежности потребителей электрической энергии | Q8: в разделении уровней напряжения ЭПУ потребителя электрической энергии | U8: Смежные сетевые организации и производители электрической энергии | X8: Номер и дата акта расследования технологического нарушения, записи в оперативном журнале | Y8: Код организационной причины аварии | Z8: Код технической причины повреждения оборудования
N9: 1-я категория надежности | O9: 2-я категория надежности | P9: 3-я категория надежности | Q9: ВН (110 кВ и выше) | R9: СН1 (27,5- 60 кВ) | S9: СН2 (1-20 кВ) | T9: НН (до 1 кВ)
A10: 1 | B10: 2 | C10: 3 | D10: 4 | E10: 5 | F10: 6 | G10: 7 | H10: 8 | I10: 9 | J10: 10 | K10: 11 | L10: 12 | M10: 13 | N10: 14 | O10: 15 | P10: 16 | Q10: 17 | R10: 18 | S10: 19 | T10: 20 | U10: 21 | V10: 22 | W10: 23 | X10: 24 | Y10: 25 | Z10: 26 | AA10: 27 | AB10: время В | AC10: время В1 | AE10: фидера В | AF10: фидера В1 | AH10: потребители без повторов для В | AI10: потребители без повторов для В1 | AK10: мощность В | AL10: мощность В1 | AN10: количество точек отключения | AP10: форма 1.3 п2 | AQ10: п3 | AS10: форма1.4 | AU10: повторы по СН-2 для итога В | AV10: повторы по СН-2 для итога В1
A11: 1 | B11: АО "Дальневосточная ресурсоснабжающая компания" | C11: ВЛ | D11: пс давыдовка ф8 | E11: 6 (6.3) | F11: 10,40 2022.04.01 | G11: 11,50 2022.04.01 | H11: В | I11: 1.17 | J11: ВЛ 6 (6.3) кВ;ТП 6 (6.3) кВ(Все ЛЭП ТП) | K11: 0 | L11: 0 | M11: 713 | N11: 0 | O11: 0 | P11: 713 | Q11: 0 | R11: 0 | S11: 3 | T11: 710 | U11: 0 | V11: 9690 | X11: запись в журнале одс | Y11: 3.4.8.5 | Z11: 4.21 | AA11: 0 | AB11: =IF(AA11=0,I11,0) -> 1.17 | AC11: =IF(AA11=1,I11,0) -> 0 | AE11: =IF(AA11=0,D11,0) -> пс давыдовка ф8 | AF11: =IF(AA11=1,D11,0) -> 0 | AH11: =IF(AE11=0,0,IF(COUNTIF(AE10,AE11)=0,P11,0)) -> 713 | AI11: =IF(AF11=0,0,P11) -> 0 | AK11: =IF(AA11=0,V11,0) -> 9690 | AL11: =IF(AA11=1,V11,0) -> 0 | AN11: =M11 -> 713 | AP11: =IF(AA11=1,I11,0)*M11 -> 0 | AQ11: =IF(AA11=1,M11,0) -> 0 | AS11: =IF(AA11=1,I11,0)*V11 -> 0 | AU11: =IF(AE11=0,0,IF(COUNTIF(AE10,AE11)=0,S11,0)) -> 3 | AV11: =IF(AF11=0,0,S11) -> 0 | AX11: =IF(R11>0,I11*R11*AA11,0) -> 0 | AY11: =IF(R11>0,R11*AA11,0) -> 0 | BA11: =IF(S11>0,I11*S11*AA11,0) -> 0 | BB11: =IF(S11>0,S11*AA11,0) -> 0 | BD11: =IF(T11>0,I11*T11*AA11,0) -> 0 | BE11: =IF(T11>0,T11*AA11,0) -> 0 | BG11: =AX11+BA11+BD11 -> 0 | BH11: =AY11+BB11+BE11 -> 0
A12: 2 | B12: АО "Дальневосточная ресурсоснабжающая компания" | C12: ВЛ | D12: пс Посьет Ф-10 | E12: 10 (10.5) | F12: 13,42 2022.04.02 | G12: 17,20 2022.04.02 | H12: В | I12: 3.63 | J12: ВЛ 10 (10.5) кВ;КЛ 10 (10.5) кВ;ТП 10 (10.5) кВ(Все ЛЭП ТП) | K12: 0 | L12: 0 | M12: 166 | N12: 0 | O12: 0 | P12: 166 | Q12: 0 | R12: 0 | S12: 24 | T12: 142 | U12: 0 | V12: 975 | X12: записи в оперативном журнале 2022-04-02 | Y12: 3.4.14 | Z12: 4.21 | AA12: 1 | AB12: =IF(AA12=0,I12,0) -> 0 | AC12: =IF(AA12=1,I12,0) -> 3.63 | AE12: =IF(AA12=0,D12,0) -> 0 | AF12: =IF(AA12=1,D12,0) -> пс Посьет Ф-10 | AH12: =IF(AE12=0,0,IF(COUNTIF($AE11:AE$11,AE12)=0,P12,0)) -> 0 | AI12: =IF(AF12=0,0,IF(COUNTIF($AF11:AF$11,AF12)=0,P12,0)) -> 166 | AK12: =IF(AA12=0,V12,0) -> 0 | AL12: =IF(AA12=1,V12,0) -> 975 | AN12: =IF(COUNTIF($D$11:D11,D12)=0,M12,0) -> 166 | AP12: =IF(AA12=1,I12,0)*M12 -> 602.58 | AQ12: =IF(AA12=1,M12,0) -> 166 | AS12: =IF(AA12=1,I12,0)*V12 -> 3539.25 | AU12: =IF(AE12=0,0,IF(COUNTIF($AE11:AE$11,AE12)=0,S12,0)) -> 0 | AV12: =IF(AF12=0,0,S12) -> 24 | AX12: =IF(R12>0,I12*R12*AA12,0) -> 0 | AY12: =IF(R12>0,R12*AA12,0) -> 0 | BA12: =IF(S12>0,I12*S12*AA12,0) -> 87.12 | BB12: =IF(S12>0,S12*AA12,0) -> 24 | BD12: =IF(T12>0,I12*T12*AA12,0) -> 515.46 | BE12: =IF(T12>0,T12*AA12,0) -> 142 | BG12: =AX12+BA12+BD12 -> 602.58 | BH12: =AY12+BB12+BE12 -> 166
A13: 3 | B13: АО "Дальневосточная ресурсоснабжающая компания" ОДС | C13: ВЛ | D13: ПС "Раздольное-1" Ф-17 | E13: 10 (10.5) | F13: 06,00 2022.04.06 | G13: 08,00 2022.04.06 | H13: В | I13: 2 | J13: ВЛ 10 (10.5) кВ ТП | K13: 0 | L13: 0 | M13: 67 | N13: 0 | O13: 0 | P13: 67 | Q13: 0 | R13: 0 | S13: 0 | T13: 67 | U13: 0 | V13: 1200 | X13: запись в оперативном журнале | Y13: 3.4.8.5 | Z13: 4.4 | AA13: 0 | AB13: =IF(AA13=0,I13,0) -> 2 | AC13: =IF(AA13=1,I13,0) -> 0 | AE13: =IF(AA13=0,D13,0) -> ПС "Раздольное-1" Ф-17 | AF13: =IF(AA13=1,D13,0) -> 0 | AH13: =IF(AE13=0,0,IF(COUNTIF($AE$11:AE12,AE13)=0,P13,0)) -> 67 | AI13: =IF(AF13=0,0,IF(COUNTIF($AF$11:AF12,AF13)=0,P13,0)) -> 0 | AK13: =IF(AA13=0,V13,0) -> 1200 | AL13: =IF(AA13=1,V13,0) -> 0 | AN13: =IF(COUNTIF($D$11:D12,D13)=0,M13,0) -> 67 | AP13: =IF(AA13=1,I13,0)*M13 -> 0 | AQ13: =IF(AA13=1,M13,0) -> 0 | AS13: =IF(AA13=1,I13,0)*V13 -> 0 | AU13: =IF(AE13=0,0,IF(COUNTIF($AE$11:AE12,AE13)=0,S13,0)) -> 0 | AV13: =IF(AF13=0,0,S13) -> 0 | AX13: =IF(R13>0,I13*R13*AA13,0) -> 0 | AY13: =IF(R13>0,R13*AA13,0) -> 0 | BA13: =IF(S13>0,I13*S13*AA13,0) -> 0 | BB13: =IF(S13>0,S13*AA13,0) -> 0 | BD13: =IF(T13>0,I13*T13*AA13,0) -> 0 | BE13: =IF(T13>0,T13*AA13,0) -> 0 | BG13: =AX13+BA13+BD13 -> 0 | BH13: =AY13+BB13+BE13 -> 0
A14: 4 | B14: АО "Дальневосточная ресурсоснабжающая компания" ОДС | C14: ВЛ | D14: ПС "Славянка" Ф-12 | E14: 10 (10.5) | F14: 18,55 2022.04.10 | G14: 19,20 2022.04.10 | H14: В | I14: 0.42 | J14: ВЛ 10 (10.5) кВ;КЛ 10 (10.5) кВ;ТП 10 (10.5) кВ(Все ЛЭП ТП) | K14: 0 | L14: 0 | M14: 269 | N14: 0 | O14: 0 | P14: 269 | Q14: 0 | R14: 0 | S14: 25 | T14: 244 | U14: 0 | V14: 987 | X14: записи в оперативном журнале 2022-04-10 | Y14: 3.4.10 | Z14: 4.21 | AA14: 0 | AB14: =IF(AA14=0,I14,0) -> 0.42 | AC14: =IF(AA14=1,I14,0) -> 0 | AE14: =IF(AA14=0,D14,0) -> ПС "Славянка" Ф-12 | AF14: =IF(AA14=1,D14,0) -> 0 | AH14: =IF(AE14=0,0,IF(COUNTIF($AE$11:AE13,AE14)=0,P14,0)) -> 269 | AI14: =IF(AF14=0,0,IF(COUNTIF($AF$11:AF13,AF14)=0,P14,0)) -> 0 | AK14: =IF(AA14=0,V14,0) -> 987 | AL14: =IF(AA14=1,V14,0) -> 0 | AN14: =IF(COUNTIF($D$11:D13,D14)=0,M14,0) -> 269 | AP14: =IF(AA14=1,I14,0)*M14 -> 0 | AQ14: =IF(AA14=1,M14,0) -> 0 | AS14: =IF(AA14=1,I14,0)*V14 -> 0 | AU14: =IF(AE14=0,0,IF(COUNTIF($AE$11:AE13,AE14)=0,S14,0)) -> 25 | AV14: =IF(AF14=0,0,S14) -> 0 | AX14: =IF(R14>0,I14*R14*AA14,0) -> 0 | AY14: =IF(R14>0,R14*AA14,0) -> 0 | BA14: =IF(S14>0,I14*S14*AA14,0) -> 0 | BB14: =IF(S14>0,S14*AA14,0) -> 0 | BD14: =IF(T14>0,I14*T14*AA14,0) -> 0 | BE14: =IF(T14>0,T14*AA14,0) -> 0 | BG14: =AX14+BA14+BD14 -> 0 | BH14: =AY14+BB14+BE14 -> 0
A15: 5 | B15: АО "Дальневосточная ресурсоснабжающая компания" ОДС | C15: ВЛ | D15: ПС "Славянка" Ф-12 | E15: 10 (10.5) | F15: 03,30 2022.04.27 | G15: 04,22 2022.04.27 | H15: В | I15: 0.87 | J15: ВЛ 10 (10.5) кВ т;ТП 10 (10.5) кВ(Все ЛЭП ТП) | K15: 0 | L15: 0 | M15: 269 | N15: 0 | O15: 0 | P15: 269 | Q15: 0 | R15: 0 | S15: 25 | T15: 244 | U15: 0 | V15: 2300 | X15: запись в оперативном журнале | Y15: 3.4.10 | Z15: 4.21 | AA15: 0 | AB15: =IF(AA15=0,I15,0) -> 0.87 | AC15: =IF(AA15=1,I15,0) -> 0 | AE15: =IF(AA15=0,D15,0) -> ПС "Славянка" Ф-12 | AF15: =IF(AA15=1,D15,0) -> 0 | AH15: =IF(AE15=0,0,IF(COUNTIF($AE$11:AE14,AE15)=0,P15,0)) -> 0 | AI15: =IF(AF15=0,0,IF(COUNTIF($AF$11:AF14,AF15)=0,P15,0)) -> 0 | AK15: =IF(AA15=0,V15,0) -> 2300 | AL15: =IF(AA15=1,V15,0) -> 0 | AN15: =IF(COUNTIF($D$11:D14,D15)=0,M15,0) -> 0 | AP15: =IF(AA15=1,I15,0)*M15 -> 0 | AQ15: =IF(AA15=1,M15,0) -> 0 | AS15: =IF(AA15=1,I15,0)*V15 -> 0 | AU15: =IF(AE15=0,0,IF(COUNTIF($AE$11:AE14,AE15)=0,S15,0)) -> 0 | AV15: =IF(AF15=0,0,S15) -> 0 | AX15: =IF(R15>0,I15*R15*AA15,0) -> 0 | AY15: =IF(R15>0,R15*AA15,0) -> 0 | BA15: =IF(S15>0,I15*S15*AA15,0) -> 0 | BB15: =IF(S15>0,S15*AA15,0) -> 0 | BD15: =IF(T15>0,I15*T15*AA15,0) -> 0 | BE15: =IF(T15>0,T15*AA15,0) -> 0 | BG15: =AX15+BA15+BD15 -> 0 | BH15: =AY15+BB15+BE15 -> 0
A16: 6 | B16: АО "Дальневосточная ресурсоснабжающая компания" ОДС | C16: ВЛ | D16: пс Славянка Ф-5 | E16: 10 (10.5) | F16: 12,30 2022.04.27 | G16: 14,45 2022.04.27 | H16: В | I16: 2.25 | J16: ВЛ 10 (10.5) кВ;КЛ 10 (10.5) кВ;ТП 10 (10.5) кВ(Все ЛЭП ТП) | K16: 0 | L16: 0 | M16: 171 | N16: 0 | O16: 0 | P16: 171 | Q16: 0 | R16: 0 | S16: 14 | T16: 157 | U16: 0 | V16: 567 | X16: записи в оперативном журнале 2022-04-27 | Y16: 3.4.14 | Z16: 4.21 | AA16: 1 | AB16: =IF(AA16=0,I16,0) -> 0 | AC16: =IF(AA16=1,I16,0) -> 2.25 | AE16: =IF(AA16=0,D16,0) -> 0 | AF16: =IF(AA16=1,D16,0) -> пс Славянка Ф-5 | AH16: =IF(AE16=0,0,IF(COUNTIF($AE$11:AE15,AE16)=0,P16,0)) -> 0 | AI16: =IF(AF16=0,0,IF(COUNTIF($AF$11:AF15,AF16)=0,P16,0)) -> 171 | AK16: =IF(AA16=0,V16,0) -> 0 | AL16: =IF(AA16=1,V16,0) -> 567 | AN16: =IF(COUNTIF($D$11:D15,D16)=0,M16,0) -> 171 | AP16: =IF(AA16=1,I16,0)*M16 -> 384.75 | AQ16: =IF(AA16=1,M16,0) -> 171 | AS16: =IF(AA16=1,I16,0)*V16 -> 1275.75 | AU16: =IF(AE16=0,0,IF(COUNTIF($AE$11:AE15,AE16)=0,S16,0)) -> 0 | AV16: =IF(AF16=0,0,S16) -> 14 | AX16: =IF(R16>0,I16*R16*AA16,0) -> 0 | AY16: =IF(R16>0,R16*AA16,0) -> 0 | BA16: =IF(S16>0,I16*S16*AA16,0) -> 31.5 | BB16: =IF(S16>0,S16*AA16,0) -> 14 | BD16: =IF(T16>0,I16*T16*AA16,0) -> 353.25 | BE16: =IF(T16>0,T16*AA16,0) -> 157 | BG16: =AX16+BA16+BD16 -> 384.75 | BH16: =AY16+BB16+BE16 -> 171
A17: 7 | B17: АО "Дальневосточная ресурсоснабжающая компания" ОДС | C17: КЛ | D17: ПС "Раздольное-1" Ф-9 | E17: 10 (10.5) | F17: 13,10 2022.05.04 | G17: 15,20 2022.05.04 | H17: В | I17: 2.17 | J17: ТП 10 (10.5) кВ(Все ЛЭП ТП) | M17: 226 | N17: 0 | O17: 0 | P17: 226 | Q17: 0 | R17: 0 | S17: 5 | T17: 221 | U17: 0 | V17: 80 | X17: записи в оперативном журнале от 04.05.2022 | Y17: 3.4.12.2 | Z17: 4.21 | AA17: 0 | AB17: =IF(AA17=0,I17,0) -> 2.17 | AC17: =IF(AA17=1,I17,0) -> 0 | AE17: =IF(AA17=0,D17,0) -> ПС "Раздольное-1" Ф-9 | AF17: =IF(AA17=1,D17,0) -> 0 | AH17: =IF(AE17=0,0,IF(COUNTIF($AE$11:AE16,AE17)=0,P17,0)) -> 226 | AI17: =IF(AF17=0,0,IF(COUNTIF($AF$11:AF16,AF17)=0,P17,0)) -> 0 | AK17: =IF(AA17=0,V17,0) -> 80 | AL17: =IF(AA17=1,V17,0) -> 0 | AN17: =IF(COUNTIF($D$11:D16,D17)=0,M17,0) -> 226 | AP17: =IF(AA17=1,I17,0)*M17 -> 0 | AQ17: =IF(AA17=1,M17,0) -> 0 | AS17: =IF(AA17=1,I17,0)*V17 -> 0 | AU17: =IF(AE17=0,0,IF(COUNTIF($AE$11:AE16,AE17)=0,S17,0)) -> 5 | AV17: =IF(AF17=0,0,S17) -> 0 | AX17: =IF(R17>0,I17*R17*AA17,0) -> 0 | AY17: =IF(R17>0,R17*AA17,0) -> 0 | BA17: =IF(S17>0,I17*S17*AA17,0) -> 0 | BB17: =IF(S17>0,S17*AA17,0) -> 0 | BD17: =IF(T17>0,I17*T17*AA17,0) -> 0 | BE17: =IF(T17>0,T17*AA17,0) -> 0 | BG17: =AX17+BA17+BD17 -> 0 | BH17: =AY17+BB17+BE17 -> 0
A18: 8 | B18: АО "Дальневосточная ресурсоснабжающая компания" ОДС | C18: ВЛ | D18: ПС "Тавричанка" Ф-13 | E18: 6 (6.3) | F18: 19,50 2022.05.05 | G18: 21,20 2022.05.05 | H18: В | I18: 1.5 | J18: ВЛ 6 (6.3) кВ;КЛ 6 (6.3) кВ;ТП 6 (6.3) кВ(Все ЛЭП ТП) | K18: 0 | L18: 0 | M18: 626 | N18: 0 | O18: 0 | P18: 626 | Q18: 0 | R18: 0 | S18: 10 | T18: 616 | U18: 0 | V18: 1087 | X18: записи в оперативном журнале 2022-05-05 | Y18: 3.4.12.5 | Z18: 4.21 | AA18: 0 | AB18: =IF(AA18=0,I18,0) -> 1.5 | AC18: =IF(AA18=1,I18,0) -> 0 | AE18: =IF(AA18=0,D18,0) -> ПС "Тавричанка" Ф-13 | AF18: =IF(AA18=1,D18,0) -> 0 | AH18: =IF(AE18=0,0,IF(COUNTIF($AE$11:AE17,AE18)=0,P18,0)) -> 626 | AI18: =IF(AF18=0,0,IF(COUNTIF($AF$11:AF17,AF18)=0,P18,0)) -> 0 | AK18: =IF(AA18=0,V18,0) -> 1087 | AL18: =IF(AA18=1,V18,0) -> 0 | AN18: =IF(COUNTIF($D$11:D17,D18)=0,M18,0) -> 626 | AP18: =IF(AA18=1,I18,0)*M18 -> 0 | AQ18: =IF(AA18=1,M18,0) -> 0 | AS18: =IF(AA18=1,I18,0)*V18 -> 0 | AU18: =IF(AE18=0,0,IF(COUNTIF($AE$11:AE17,AE18)=0,S18,0)) -> 10 | AV18: =IF(AF18=0,0,S18) -> 0 | AX18: =IF(R18>0,I18*R18*AA18,0) -> 0 | AY18: =IF(R18>0,R18*AA18,0) -> 0 | BA18: =IF(S18>0,I18*S18*AA18,0) -> 0 | BB18: =IF(S18>0,S18*AA18,0) -> 0 | BD18: =IF(T18>0,I18*T18*AA18,0) -> 0 | BE18: =IF(T18>0,T18*AA18,0) -> 0 | BG18: =AX18+BA18+BD18 -> 0 | BH18: =AY18+BB18+BE18 -> 0
A19: 9 | B19: АО "Дальневосточная ресурсоснабжающая компания" ОДС | C19: КЛ | D19: ПС "Краскино" Ф-6 | E19: 10 (10.5) | F19: 07,49 2022.05.22 | G19: 11,30 2022.05.22 | H19: В | I19: 3.68 | J19: ТП 10 (10.5) кВ вл(Все ЛЭП ТП) | M19: 304 | N19: 0 | O19: 0 | P19: 304 | Q19: 0 | R19: 0 | S19: 6 | T19: 298 | U19: 0 | V19: 278 | X19: записи в оперативном журнале | Y19: 3.4.8.5 | Z19: 4.21 | AA19: 0 | AB19: =IF(AA19=0,I19,0) -> 3.68 | AC19: =IF(AA19=1,I19,0) -> 0 | AE19: =IF(AA19=0,D19,0) -> ПС "Краскино" Ф-6 | AF19: =IF(AA19=1,D19,0) -> 0 | AH19: =IF(AE19=0,0,IF(COUNTIF($AE$11:AE18,AE19)=0,P19,0)) -> 304 | AI19: =IF(AF19=0,0,IF(COUNTIF($AF$11:AF18,AF19)=0,P19,0)) -> 0 | AK19: =IF(AA19=0,V19,0) -> 278 | AL19: =IF(AA19=1,V19,0) -> 0 | AN19: =IF(COUNTIF($D$11:D18,D19)=0,M19,0) -> 304 | AP19: =IF(AA19=1,I19,0)*M19 -> 0 | AQ19: =IF(AA19=1,M19,0) -> 0 | AS19: =IF(AA19=1,I19,0)*V19 -> 0 | AU19: =IF(AE19=0,0,IF(COUNTIF($AE$11:AE18,AE19)=0,S19,0)) -> 6 | AV19: =IF(AF19=0,0,S19) -> 0 | AX19: =IF(R19>0,I19*R19*AA19,0) -> 0 | AY19: =IF(R19>0,R19*AA19,0) -> 0 | BA19: =IF(S19>0,I19*S19*AA19,0) -> 0 | BB19: =IF(S19>0,S19*AA19,0) -> 0 | BD19: =IF(T19>0,I19*T19*AA19,0) -> 0 | BE19: =IF(T19>0,T19*AA19,0) -> 0 | BG19: =AX19+BA19+BD19 -> 0 | BH19: =AY19+BB19+BE19 -> 0
A20: 10 | B20: АО "Дальневосточная ресурсоснабжающая компания" ОДС | C20: ВЛ | D20: пс давыдовка ф5 | E20: 6 (6.3) | F20: 14,25 2022.05.27 | G20: 17,50 2022.05.27 | H20: В | I20: 3.42 | J20: ВЛ 6 (6.3) кВ;КЛ 6 (6.3) кВ;ТП 6 (6.3) кВ(Все ЛЭП ТП) | K20: 0 | L20: 0 | M20: 24 | N20: 0 | O20: 0 | P20: 24 | Q20: 0 | R20: 0 | S20: 0 | T20: 24 | U20: 0 | V20: 543 | X20: записи в оперативном журнале 2022-05-27 | Y20: 3.4.12.5 | Z20: 4.21 | AA20: 0 | AB20: =IF(AA20=0,I20,0) -> 3.42 | AC20: =IF(AA20=1,I20,0) -> 0 | AE20: =IF(AA20=0,D20,0) -> пс давыдовка ф5 | AF20: =IF(AA20=1,D20,0) -> 0 | AH20: =IF(AE20=0,0,IF(COUNTIF($AE$11:AE19,AE20)=0,P20,0)) -> 24 | AI20: =IF(AF20=0,0,IF(COUNTIF($AF$11:AF19,AF20)=0,P20,0)) -> 0 | AK20: =IF(AA20=0,V20,0) -> 543 | AL20: =IF(AA20=1,V20,0) -> 0 | AN20: =IF(COUNTIF($D$11:D19,D20)=0,M20,0) -> 24 | AP20: =IF(AA20=1,I20,0)*M20 -> 0 | AQ20: =IF(AA20=1,M20,0) -> 0 | AS20: =IF(AA20=1,I20,0)*V20 -> 0 | AU20: =IF(AE20=0,0,IF(COUNTIF($AE$11:AE19,AE20)=0,S20,0)) -> 0 | AV20: =IF(AF20=0,0,S20) -> 0 | AX20: =IF(R20>0,I20*R20*AA20,0) -> 0 | AY20: =IF(R20>0,R20*AA20,0) -> 0 | BA20: =IF(S20>0,I20*S20*AA20,0) -> 0 | BB20: =IF(S20>0,S20*AA20,0) -> 0 | BD20: =IF(T20>0,I20*T20*AA20,0) -> 0 | BE20: =IF(T20>0,T20*AA20,0) -> 0 | BG20: =AX20+BA20+BD20 -> 0 | BH20: =AY20+BB20+BE20 -> 0
A21: 11 | B21: АО "Дальневосточная ресурсоснабжающая компания" ОДС | C21: ВЛ | D21: ПС "Славянка" Ф-12 | E21: 10 (10.5) | F21: 07,00 2022.05.28 | G21: 12,00 2022.05.28 | H21: В | I21: 5 | J21: ТП 10 (10.5) кВ вл(Все ЛЭП ТП) | M21: 269 | N21: 0 | O21: 0 | P21: 269 | Q21: 0 | R21: 0 | S21: 25 | T21: 244 | U21: 0 | V21: 352 | X21: записи в оперативном журнале | Y21: 3.4.8.5 | Z21: 4.21 | AA21: 0 | AB21: =IF(AA21=0,I21,0) -> 5 | AC21: =IF(AA21=1,I21,0) -> 0 | AE21: =IF(AA21=0,D21,0) -> ПС "Славянка" Ф-12 | AF21: =IF(AA21=1,D21,0) -> 0 | AH21: =IF(AE21=0,0,IF(COUNTIF($AE$11:AE20,AE21)=0,P21,0)) -> 0 | AI21: =IF(AF21=0,0,IF(COUNTIF($AF$11:AF20,AF21)=0,P21,0)) -> 0 | AK21: =IF(AA21=0,V21,0) -> 352 | AL21: =IF(AA21=1,V21,0) -> 0 | AN21: =IF(COUNTIF($D$11:D20,D21)=0,M21,0) -> 0 | AP21: =IF(AA21=1,I21,0)*M21 -> 0 | AQ21: =IF(AA21=1,M21,0) -> 0 | AS21: =IF(AA21=1,I21,0)*V21 -> 0 | AU21: =IF(AE21=0,0,IF(COUNTIF($AE$11:AE20,AE21)=0,S21,0)) -> 0 | AV21: =IF(AF21=0,0,S21) -> 0 | AX21: =IF(R21>0,I21*R21*AA21,0) -> 0 | AY21: =IF(R21>0,R21*AA21,0) -> 0 | BA21: =IF(S21>0,I21*S21*AA21,0) -> 0 | BB21: =IF(S21>0,S21*AA21,0) -> 0 | BD21: =IF(T21>0,I21*T21*AA21,0) -> 0 | BE21: =IF(T21>0,T21*AA21,0) -> 0 | BG21: =AX21+BA21+BD21 -> 0 | BH21: =AY21+BB21+BE21 -> 0
A22: 12 | B22: АО "Дальневосточная ресурсоснабжающая компания" ОДС | C22: ВЛ | D22: ПС "Посьет" Ф-3 | E22: 10 (10.5) | F22: 09,13 2022.06.22 | G22: 12,38 2022.06.22 | H22: В | I22: 3.42 | J22: ВЛ 10 (10.5) кВ тп | K22: 0 | L22: 0 | M22: 147 | N22: 0 | O22: 0 | P22: 147 | Q22: 0 | R22: 0 | S22: 7 | T22: 140 | U22: 0 | V22: 135 | X22: запись в оперативном журнале | Y22: 3.4.8 | Z22: 4.4 | AA22: 0 | AB22: =IF(AA22=0,I22,0) -> 3.42 | AC22: =IF(AA22=1,I22,0) -> 0 | AE22: =IF(AA22=0,D22,0) -> ПС "Посьет" Ф-3 | AF22: =IF(AA22=1,D22,0) -> 0 | AH22: =IF(AE22=0,0,IF(COUNTIF($AE$11:AE21,AE22)=0,P22,0)) -> 147 | AI22: =IF(AF22=0,0,IF(COUNTIF($AF$11:AF21,AF22)=0,P22,0)) -> 0 | AK22: =IF(AA22=0,V22,0) -> 135 | AL22: =IF(AA22=1,V22,0) -> 0 | AN22: =IF(COUNTIF($D$11:D21,D22)=0,M22,0) -> 147 | AP22: =IF(AA22=1,I22,0)*M22 -> 0 | AQ22: =IF(AA22=1,M22,0) -> 0 | AS22: =IF(AA22=1,I22,0)*V22 -> 0 | AU22: =IF(AE22=0,0,IF(COUNTIF($AE$11:AE21,AE22)=0,S22,0)) -> 7 | AV22: =IF(AF22=0,0,S22) -> 0 | AX22: =IF(R22>0,I22*R22*AA22,0) -> 0 | AY22: =IF(R22>0,R22*AA22,0) -> 0 | BA22: =IF(S22>0,I22*S22*AA22,0) -> 0 | BB22: =IF(S22>0,S22*AA22,0) -> 0 | BD22: =IF(T22>0,I22*T22*AA22,0) -> 0 | BE22: =IF(T22>0,T22*AA22,0) -> 0 | BG22: =AX22+BA22+BD22 -> 0 | BH22: =AY22+BB22+BE22 -> 0
A23: 13 | B23: АО "Дальневосточная ресурсоснабжающая компания" ОДС | C23: ТП | D23: псТроица Ф-18 | E23: 10 (10.5) | F23: 10,10 2022.06.25 | G23: 13,10 2022.06.25 | H23: В | I23: 3 | J23: ТП 10 (10.5) кВ(Все ЛЭП ТП) | M23: 383 | N23: 0 | O23: 0 | P23: 383 | Q23: 0 | R23: 0 | S23: 5 | T23: 378 | U23: 0 | V23: 252 | X23: записи в оперативном журнале от 25.06.2022 | Y23: 3.4.8.5 | Z23: 4.21 | AA23: 0 | AB23: =IF(AA23=0,I23,0) -> 3 | AC23: =IF(AA23=1,I23,0) -> 0 | AE23: =IF(AA23=0,D23,0) -> псТроица Ф-18 | AF23: =IF(AA23=1,D23,0) -> 0 | AH23: =IF(AE23=0,0,IF(COUNTIF($AE$11:AE22,AE23)=0,P23,0)) -> 383 | AI23: =IF(AF23=0,0,IF(COUNTIF($AF$11:AF22,AF23)=0,P23,0)) -> 0 | AK23: =IF(AA23=0,V23,0) -> 252 | AL23: =IF(AA23=1,V23,0) -> 0 | AN23: =IF(COUNTIF($D$11:D22,D23)=0,M23,0) -> 383 | AP23: =IF(AA23=1,I23,0)*M23 -> 0 | AQ23: =IF(AA23=1,M23,0) -> 0 | AS23: =IF(AA23=1,I23,0)*V23 -> 0 | AU23: =IF(AE23=0,0,IF(COUNTIF($AE$11:AE22,AE23)=0,S23,0)) -> 5 | AV23: =IF(AF23=0,0,S23) -> 0 | AX23: =IF(R23>0,I23*R23*AA23,0) -> 0 | AY23: =IF(R23>0,R23*AA23,0) -> 0 | BA23: =IF(S23>0,I23*S23*AA23,0) -> 0 | BB23: =IF(S23>0,S23*AA23,0) -> 0 | BD23: =IF(T23>0,I23*T23*AA23,0) -> 0 | BE23: =IF(T23>0,T23*AA23,0) -> 0 | BG23: =AX23+BA23+BD23 -> 0 | BH23: =AY23+BB23+BE23 -> 0
A24: 14 | B24: АО "Дальневосточная ресурсоснабжающая компания" ОДС | C24: КЛ | D24: ПС "Давыдовка" Ф-8 | E24: 6 (6.3) | F24: 09,51 2022.07.27 | G24: 11,59 2022.07.27 | H24: В | I24: 2.13 | J24: ТП 6 (6.3) кВ(Все ЛЭП ТП) | M24: 713 | N24: 0 | O24: 0 | P24: 713 | Q24: 0 | R24: 0 | S24: 3 | T24: 710 | U24: 0 | V24: 200 | X24: записи в оперативном журнале | Y24: 3.4.14 | Z24: 4.21 | AA24: 1 | AB24: =IF(AA24=0,I24,0) -> 0 | AC24: =IF(AA24=1,I24,0) -> 2.13 | AE24: =IF(AA24=0,D24,0) -> 0 | AF24: =IF(AA24=1,D24,0) -> ПС "Давыдовка" Ф-8 | AH24: =IF(AE24=0,0,IF(COUNTIF($AE$11:AE23,AE24)=0,P24,0)) -> 0 | AI24: =IF(AF24=0,0,IF(COUNTIF($AF$11:AF23,AF24)=0,P24,0)) -> 713 | AK24: =IF(AA24=0,V24,0) -> 0 | AL24: =IF(AA24=1,V24,0) -> 200 | AN24: =IF(COUNTIF($D$11:D23,D24)=0,M24,0) -> 713 | AP24: =IF(AA24=1,I24,0)*M24 -> 1518.69 | AQ24: =IF(AA24=1,M24,0) -> 713 | AS24: =IF(AA24=1,I24,0)*V24 -> 426 | AU24: =IF(AE24=0,0,IF(COUNTIF($AE$11:AE23,AE24)=0,S24,0)) -> 0 | AV24: =IF(AF24=0,0,S24) -> 3 | AX24: =IF(R24>0,I24*R24*AA24,0) -> 0 | AY24: =IF(R24>0,R24*AA24,0) -> 0 | BA24: =IF(S24>0,I24*S24*AA24,0) -> 6.39 | BB24: =IF(S24>0,S24*AA24,0) -> 3 | BD24: =IF(T24>0,I24*T24*AA24,0) -> 1512.3 | BE24: =IF(T24>0,T24*AA24,0) -> 710 | BG24: =AX24+BA24+BD24 -> 1518.69 | BH24: =AY24+BB24+BE24 -> 713
A25: 15 | B25: АО "Дальневосточная ресурсоснабжающая компания" ОДС | C25: ВЛ | D25: ПС "Славянка" Ф-18 | E25: 10 (10.5) | F25: 12,20 2022.08.03 | G25: 13,15 2022.08.03 | H25: В | I25: 0.92 | J25: ВЛ 10 (10.5) кВ;КЛ 10 (10.5) кВ;ТП 10 (10.5) кВ(Все ЛЭП ТП) | K25: 0 | L25: 0 | M25: 268 | N25: 0 | O25: 0 | P25: 268 | Q25: 0 | R25: 0 | S25: 8 | T25: 260 | U25: 0 | V25: 978 | X25: записи в оперативном журнале 2022-08-03 | Y25: 3.4.10 | Z25: 4.21 | AA25: 0 | AB25: =IF(AA25=0,I25,0) -> 0.92 | AC25: =IF(AA25=1,I25,0) -> 0 | AE25: =IF(AA25=0,D25,0) -> ПС "Славянка" Ф-18 | AF25: =IF(AA25=1,D25,0) -> 0 | AH25: =IF(AE25=0,0,IF(COUNTIF($AE$11:AE24,AE25)=0,P25,0)) -> 268 | AI25: =IF(AF25=0,0,IF(COUNTIF($AF$11:AF24,AF25)=0,P25,0)) -> 0 | AK25: =IF(AA25=0,V25,0) -> 978 | AL25: =IF(AA25=1,V25,0) -> 0 | AN25: =IF(COUNTIF($D$11:D24,D25)=0,M25,0) -> 268 | AP25: =IF(AA25=1,I25,0)*M25 -> 0 | AQ25: =IF(AA25=1,M25,0) -> 0 | AS25: =IF(AA25=1,I25,0)*V25 -> 0 | AU25: =IF(AE25=0,0,IF(COUNTIF($AE$11:AE24,AE25)=0,S25,0)) -> 8 | AV25: =IF(AF25=0,0,S25) -> 0 | AX25: =IF(R25>0,I25*R25*AA25,0) -> 0 | AY25: =IF(R25>0,R25*AA25,0) -> 0 | BA25: =IF(S25>0,I25*S25*AA25,0) -> 0 | BB25: =IF(S25>0,S25*AA25,0) -> 0 | BD25: =IF(T25>0,I25*T25*AA25,0) -> 0 | BE25: =IF(T25>0,T25*AA25,0) -> 0 | BG25: =AX25+BA25+BD25 -> 0 | BH25: =AY25+BB25+BE25 -> 0
A26: 16 | B26: АО "Дальневосточная ресурсоснабжающая компания" | C26: ТП | D26: ПС "Тавричанка" Ф-12 | E26: 6 (6.3) | F26: 12,32 2022.09.06 | G26: 13,35 2022.09.06 | H26: В | I26: 1.05 | J26: ТП 6 (6.3) кВ ВЛ | K26: 0 | L26: 0 | M26: 902 | N26: 0 | O26: 0 | P26: 902 | Q26: 0 | R26: 0 | S26: 10 | T26: 892 | U26: 0 | V26: 90 | X26: записи в оперативном журнале ОТ 06.09.2022 | Y26: 3.4.8.5 | Z26: 4.21 | AA26: 0 | AB26: =IF(AA26=0,I26,0) -> 1.05 | AC26: =IF(AA26=1,I26,0) -> 0 | AE26: =IF(AA26=0,D26,0) -> ПС "Тавричанка" Ф-12 | AF26: =IF(AA26=1,D26,0) -> 0 | AH26: =IF(AE26=0,0,IF(COUNTIF($AE$11:AE25,AE26)=0,P26,0)) -> 902 | AI26: =IF(AF26=0,0,IF(COUNTIF($AF$11:AF25,AF26)=0,P26,0)) -> 0 | AK26: =IF(AA26=0,V26,0) -> 90 | AL26: =IF(AA26=1,V26,0) -> 0 | AN26: =IF(COUNTIF($D$11:D25,D26)=0,M26,0) -> 902 | AP26: =IF(AA26=1,I26,0)*M26 -> 0 | AQ26: =IF(AA26=1,M26,0) -> 0 | AS26: =IF(AA26=1,I26,0)*V26 -> 0 | AU26: =IF(AE26=0,0,IF(COUNTIF($AE$11:AE25,AE26)=0,S26,0)) -> 10 | AV26: =IF(AF26=0,0,S26) -> 0 | AX26: =IF(R26>0,I26*R26*AA26,0) -> 0 | AY26: =IF(R26>0,R26*AA26,0) -> 0 | BA26: =IF(S26>0,I26*S26*AA26,0) -> 0 | BB26: =IF(S26>0,S26*AA26,0) -> 0 | BD26: =IF(T26>0,I26*T26*AA26,0) -> 0 | BE26: =IF(T26>0,T26*AA26,0) -> 0 | BG26: =AX26+BA26+BD26 -> 0 | BH26: =AY26+BB26+BE26 -> 0
A27: 17 | B27: АО "Дальневосточная ресурсоснабжающая компания" | C27: ПС | D27: ПС "Раздольное-1" Ф-9 | E27: 10 (10.5) | F27: 17,03 2022.09.06 | G27: 17,30 2022.09.06 | H27: В | I27: 0.45 | J27: ТП 10 (10.5) кВ(Все ЛЭП ТП) | K27: 0 | L27: 0 | M27: 226 | N27: 0 | O27: 0 | P27: 226 | Q27: 0 | R27: 0 | S27: 5 | T27: 221 | U27: 0 | V27: 1020 | X27: записи в оперативном журнале от 06.09.2022 | Y27: 3.4.8.5 | Z27: 4.21 | AA27: 0 | AB27: =IF(AA27=0,I27,0) -> 0.45 | AC27: =IF(AA27=1,I27,0) -> 0 | AE27: =IF(AA27=0,D27,0) -> ПС "Раздольное-1" Ф-9 | AF27: =IF(AA27=1,D27,0) -> 0 | AH27: =IF(AE27=0,0,IF(COUNTIF($AE$11:AE26,AE27)=0,P27,0)) -> 0 | AI27: =IF(AF27=0,0,IF(COUNTIF($AF$11:AF26,AF27)=0,P27,0)) -> 0 | AK27: =IF(AA27=0,V27,0) -> 1020 | AL27: =IF(AA27=1,V27,0) -> 0 | AN27: =IF(COUNTIF($D$11:D26,D27)=0,M27,0) -> 0 | AP27: =IF(AA27=1,I27,0)*M27 -> 0 | AQ27: =IF(AA27=1,M27,0) -> 0 | AS27: =IF(AA27=1,I27,0)*V27 -> 0 | AU27: =IF(AE27=0,0,IF(COUNTIF($AE$11:AE26,AE27)=0,S27,0)) -> 0 | AV27: =IF(AF27=0,0,S27) -> 0 | AX27: =IF(R27>0,I27*R27*AA27,0) -> 0 | AY27: =IF(R27>0,R27*AA27,0) -> 0 | BA27: =IF(S27>0,I27*S27*AA27,0) -> 0 | BB27: =IF(S27>0,S27*AA27,0) -> 0 | BD27: =IF(T27>0,I27*T27*AA27,0) -> 0 | BE27: =IF(T27>0,T27*AA27,0) -> 0 | BG27: =AX27+BA27+BD27 -> 0 | BH27: =AY27+BB27+BE27 -> 0
A28: 18 | B28: АО "Дальневосточная ресурсоснабжающая компания" ОДС | C28: ВЛ | D28: ПС "Давыдовка" Ф-8 | E28: 6 (6.3) | F28: 19,24 2022.09.06 | G28: 21,15 2022.09.06 | H28: В | I28: 1.85 | J28: ВЛ 6 (6.3) кВ;КЛ 6 (6.3) кВ;ТП 6 (6.3) кВ(Все ЛЭП ТП) | K28: 0 | L28: 0 | M28: 713 | N28: 0 | O28: 0 | P28: 713 | Q28: 0 | R28: 0 | S28: 3 | T28: 710 | U28: 0 | V28: 1130 | X28: записи в оперативном журнале 2022-09-06 | Y28: 3.4.12 | Z28: 4.21 | AA28: 0 | AB28: =IF(AA28=0,I28,0) -> 1.85 | AC28: =IF(AA28=1,I28,0) -> 0 | AE28: =IF(AA28=0,D28,0) -> ПС "Давыдовка" Ф-8 | AF28: =IF(AA28=1,D28,0) -> 0 | AH28: =IF(AE28=0,0,IF(COUNTIF($AE$11:AE27,AE28)=0,P28,0)) -> 713 | AI28: =IF(AF28=0,0,IF(COUNTIF($AF$11:AF27,AF28)=0,P28,0)) -> 0 | AK28: =IF(AA28=0,V28,0) -> 1130 | AL28: =IF(AA28=1,V28,0) -> 0 | AN28: =IF(COUNTIF($D$11:D27,D28)=0,M28,0) -> 0 | AP28: =IF(AA28=1,I28,0)*M28 -> 0 | AQ28: =IF(AA28=1,M28,0) -> 0 | AS28: =IF(AA28=1,I28,0)*V28 -> 0 | AU28: =IF(AE28=0,0,IF(COUNTIF($AE$11:AE27,AE28)=0,S28,0)) -> 3 | AV28: =IF(AF28=0,0,S28) -> 0 | AX28: =IF(R28>0,I28*R28*AA28,0) -> 0 | AY28: =IF(R28>0,R28*AA28,0) -> 0 | BA28: =IF(S28>0,I28*S28*AA28,0) -> 0 | BB28: =IF(S28>0,S28*AA28,0) -> 0 | BD28: =IF(T28>0,I28*T28*AA28,0) -> 0 | BE28: =IF(T28>0,T28*AA28,0) -> 0 | BG28: =AX28+BA28+BD28 -> 0 | BH28: =AY28+BB28+BE28 -> 0
A29: 19 | B29: АО "Дальневосточная ресурсоснабжающая компания" | C29: КЛ | D29: ПС "Давыдовка" Ф-5 | E29: 6 (6.3) | F29: 14,07 2022.09.14 | G29: 19,03 2022.09.14 | H29: В | I29: 4.93 | J29: ТП 6 (6.3) кВ(Все ЛЭП ТП) | K29: 0 | L29: 0 | M29: 24 | N29: 0 | O29: 0 | P29: 24 | Q29: 0 | R29: 0 | S29: 0 | T29: 24 | U29: 0 | V29: 929 | X29: записи в оперативном журнале от 14.09.2022 | Y29: 3.4.8.5 | Z29: 4.21 | AA29: 0 | AB29: =IF(AA29=0,I29,0) -> 4.93 | AC29: =IF(AA29=1,I29,0) -> 0 | AE29: =IF(AA29=0,D29,0) -> ПС "Давыдовка" Ф-5 | AF29: =IF(AA29=1,D29,0) -> 0 | AH29: =IF(AE29=0,0,IF(COUNTIF($AE$11:AE28,AE29)=0,P29,0)) -> 24 | AI29: =IF(AF29=0,0,IF(COUNTIF($AF$11:AF28,AF29)=0,P29,0)) -> 0 | AK29: =IF(AA29=0,V29,0) -> 929 | AL29: =IF(AA29=1,V29,0) -> 0 | AN29: =IF(COUNTIF($D$11:D28,D29)=0,M29,0) -> 24 | AP29: =IF(AA29=1,I29,0)*M29 -> 0 | AQ29: =IF(AA29=1,M29,0) -> 0 | AS29: =IF(AA29=1,I29,0)*V29 -> 0 | AU29: =IF(AE29=0,0,IF(COUNTIF($AE$11:AE28,AE29)=0,S29,0)) -> 0 | AV29: =IF(AF29=0,0,S29) -> 0 | AX29: =IF(R29>0,I29*R29*AA29,0) -> 0 | AY29: =IF(R29>0,R29*AA29,0) -> 0 | BA29: =IF(S29>0,I29*S29*AA29,0) -> 0 | BB29: =IF(S29>0,S29*AA29,0) -> 0 | BD29: =IF(T29>0,I29*T29*AA29,0) -> 0 | BE29: =IF(T29>0,T29*AA29,0) -> 0 | BG29: =AX29+BA29+BD29 -> 0 | BH29: =AY29+BB29+BE29 -> 0
A30: 20 | B30: АО "Дальневосточная ресурсоснабжающая компания" ОДС | C30: ВЛ | D30: ПС "Славянка" Ф-31 | E30: 10 (10.5) | F30: 17,55 2022.09.15 | G30: 18,05 2022.09.15 | H30: В | I30: 0.17 | J30: КЛ 10 (10.5) кВ;ВЛ 10 (10.5) кВ;ТП 10 (10.5) кВ(Все ЛЭП ТП) | K30: 0 | L30: 0 | M30: 278 | N30: 0 | O30: 0 | P30: 278 | Q30: 0 | R30: 0 | S30: 29 | T30: 249 | U30: 0 | V30: 1045 | X30: записи в оперативном журнале 2022-09-15 | Y30: 3.4.10 | Z30: 4.21 | AA30: 0 | AB30: =IF(AA30=0,I30,0) -> 0.17 | AC30: =IF(AA30=1,I30,0) -> 0 | AE30: =IF(AA30=0,D30,0) -> ПС "Славянка" Ф-31 | AF30: =IF(AA30=1,D30,0) -> 0 | AH30: =IF(AE30=0,0,IF(COUNTIF($AE$11:AE29,AE30)=0,P30,0)) -> 278 | AI30: =IF(AF30=0,0,IF(COUNTIF($AF$11:AF29,AF30)=0,P30,0)) -> 0 | AK30: =IF(AA30=0,V30,0) -> 1045 | AL30: =IF(AA30=1,V30,0) -> 0 | AN30: =IF(COUNTIF($D$11:D29,D30)=0,M30,0) -> 278 | AP30: =IF(AA30=1,I30,0)*M30 -> 0 | AQ30: =IF(AA30=1,M30,0) -> 0 | AS30: =IF(AA30=1,I30,0)*V30 -> 0 | AU30: =IF(AE30=0,0,IF(COUNTIF($AE$11:AE29,AE30)=0,S30,0)) -> 29 | AV30: =IF(AF30=0,0,S30) -> 0 | AX30: =IF(R30>0,I30*R30*AA30,0) -> 0 | AY30: =IF(R30>0,R30*AA30,0) -> 0 | BA30: =IF(S30>0,I30*S30*AA30,0) -> 0 | BB30: =IF(S30>0,S30*AA30,0) -> 0 | BD30: =IF(T30>0,I30*T30*AA30,0) -> 0 | BE30: =IF(T30>0,T30*AA30,0) -> 0 | BG30: =AX30+BA30+BD30 -> 0 | BH30: =AY30+BB30+BE30 -> 0
A31: 21 | B31: АО "Дальневосточная ресурсоснабжающая компания" ОДС | C31: ВЛ | D31: ПС "Славянка" Ф-20 | E31: 10 (10.5) | F31: 13,40 2022.09.16 | G31: 14,20 2022.09.16 | H31: В | I31: 0.67 | J31: ВЛ 10 (10.5) кВ;КЛ 10 (10.5) кВ;ТП 10 (10.5) кВ(Все ЛЭП ТП) | K31: 0 | L31: 0 | M31: 102 | N31: 0 | O31: 0 | P31: 102 | Q31: 0 | R31: 0 | S31: 12 | T31: 90 | U31: 0 | V31: 987 | X31: записи в оперативном журнале 2022-09-16 | Y31: 3.4.12.5 | Z31: 4.21 | AA31: 0 | AB31: =IF(AA31=0,I31,0) -> 0.67 | AC31: =IF(AA31=1,I31,0) -> 0 | AE31: =IF(AA31=0,D31,0) -> ПС "Славянка" Ф-20 | AF31: =IF(AA31=1,D31,0) -> 0 | AH31: =IF(AE31=0,0,IF(COUNTIF($AE$11:AE30,AE31)=0,P31,0)) -> 102 | AI31: =IF(AF31=0,0,IF(COUNTIF($AF$11:AF30,AF31)=0,P31,0)) -> 0 | AK31: =IF(AA31=0,V31,0) -> 987 | AL31: =IF(AA31=1,V31,0) -> 0 | AN31: =IF(COUNTIF($D$11:D30,D31)=0,M31,0) -> 102 | AP31: =IF(AA31=1,I31,0)*M31 -> 0 | AQ31: =IF(AA31=1,M31,0) -> 0 | AS31: =IF(AA31=1,I31,0)*V31 -> 0 | AU31: =IF(AE31=0,0,IF(COUNTIF($AE$11:AE30,AE31)=0,S31,0)) -> 12 | AV31: =IF(AF31=0,0,S31) -> 0 | AX31: =IF(R31>0,I31*R31*AA31,0) -> 0 | AY31: =IF(R31>0,R31*AA31,0) -> 0 | BA31: =IF(S31>0,I31*S31*AA31,0) -> 0 | BB31: =IF(S31>0,S31*AA31,0) -> 0 | BD31: =IF(T31>0,I31*T31*AA31,0) -> 0 | BE31: =IF(T31>0,T31*AA31,0) -> 0 | BG31: =AX31+BA31+BD31 -> 0 | BH31: =AY31+BB31+BE31 -> 0
A32: 22 | B32: АО "Дальневосточная ресурсоснабжающая компания" ОДС | C32: КЛ | D32: псТроица Ф-18 | E32: 10 (10.5) | F32: 09,14 2022.09.18 | G32: 11,35 2022.09.18 | H32: В | I32: 2.35 | J32: ТП 10 (10.5) кВ(Все ЛЭП ТП) | K32: 0 | L32: 0 | M32: 383 | N32: 0 | O32: 0 | P32: 383 | Q32: 0 | R32: 0 | S32: 5 | T32: 378 | U32: 0 | V32: 125 | X32: записи в оперативном журнале | Y32: 3.4.8.5 | Z32: 4.21 | AA32: 0 | AB32: =IF(AA32=0,I32,0) -> 2.35 | AC32: =IF(AA32=1,I32,0) -> 0 | AE32: =IF(AA32=0,D32,0) -> псТроица Ф-18 | AF32: =IF(AA32=1,D32,0) -> 0 | AH32: =IF(AE32=0,0,IF(COUNTIF($AE$11:AE28,AE32)=0,P32,0)) -> 0 | AI32: =IF(AF32=0,0,IF(COUNTIF($AF$11:AF28,AF32)=0,P32,0)) -> 0 | AK32: =IF(AA32=0,V32,0) -> 125 | AL32: =IF(AA32=1,V32,0) -> 0 | AN32: =IF(COUNTIF($D$11:D28,D32)=0,M32,0) -> 0 | AP32: =IF(AA32=1,I32,0)*M32 -> 0 | AQ32: =IF(AA32=1,M32,0) -> 0 | AS32: =IF(AA32=1,I32,0)*V32 -> 0 | AU32: =IF(AE32=0,0,IF(COUNTIF($AE$11:AE28,AE32)=0,S32,0)) -> 0 | AV32: =IF(AF32=0,0,S32) -> 0 | AX32: =IF(R32>0,I32*R32*AA32,0) -> 0 | AY32: =IF(R32>0,R32*AA32,0) -> 0 | BA32: =IF(S32>0,I32*S32*AA32,0) -> 0 | BB32: =IF(S32>0,S32*AA32,0) -> 0 | BD32: =IF(T32>0,I32*T32*AA32,0) -> 0 | BE32: =IF(T32>0,T32*AA32,0) -> 0 | BG32: =AX32+BA32+BD32 -> 0 | BH32: =AY32+BB32+BE32 -> 0
A33: 23 | B33: АО "Дальневосточная ресурсоснабжающая компания" ОДС | C33: ВЛ | D33: ПС "Шмидтовка" Ф-13 | E33: 6 (6.3) | F33: 07,45 2022.10.17 | G33: 09,02 2022.10.17 | H33: В | I33: 1.28 | J33: ТП 6 (6.3) кВ(Все ЛЭП ТП) | K33: 0 | L33: 0 | M33: 318 | N33: 0 | O33: 0 | P33: 318 | Q33: 0 | R33: 0 | S33: 1 | T33: 317 | U33: 0 | V33: 120 | X33: запись в оперативном журнале | Y33: 3.4.14 | Z33: 4.21 | AA33: 1 | AB33: =IF(AA33=0,I33,0) -> 0 | AC33: =IF(AA33=1,I33,0) -> 1.28 | AE33: =IF(AA33=0,D33,0) -> 0 | AF33: =IF(AA33=1,D33,0) -> ПС "Шмидтовка" Ф-13 | AH33: =IF(AE33=0,0,IF(COUNTIF($AE$11:AE32,AE33)=0,P33,0)) -> 0 | AI33: =IF(AF33=0,0,IF(COUNTIF($AF$11:AF32,AF33)=0,P33,0)) -> 318 | AK33: =IF(AA33=0,V33,0) -> 0 | AL33: =IF(AA33=1,V33,0) -> 120 | AN33: =IF(COUNTIF($D$11:D32,D33)=0,M33,0) -> 318 | AP33: =IF(AA33=1,I33,0)*M33 -> 407.04 | AQ33: =IF(AA33=1,M33,0) -> 318 | AS33: =IF(AA33=1,I33,0)*V33 -> 153.6 | AU33: =IF(AE33=0,0,IF(COUNTIF($AE$11:AE32,AE33)=0,S33,0)) -> 0 | AV33: =IF(AF33=0,0,S33) -> 1 | AX33: =IF(R33>0,I33*R33*AA33,0) -> 0 | AY33: =IF(R33>0,R33*AA33,0) -> 0 | BA33: =IF(S33>0,I33*S33*AA33,0) -> 1.28 | BB33: =IF(S33>0,S33*AA33,0) -> 1 | BD33: =IF(T33>0,I33*T33*AA33,0) -> 405.76 | BE33: =IF(T33>0,T33*AA33,0) -> 317 | BG33: =AX33+BA33+BD33 -> 407.04 | BH33: =AY33+BB33+BE33 -> 318
A34: 24 | B34: АО "Дальневосточная ресурсоснабжающая компания" ОДС | C34: ВЛ | D34: ПС "Славянка" Ф-12 | E34: 10 (10.5) | F34: 07,45 2022.11.05 | G34: 08,39 2022.11.05 | H34: В | I34: 0.9 | J34: ТП 10 (10.5) кВ(Все ЛЭП ТП) | M34: 290 | N34: 0 | O34: 0 | P34: 290 | Q34: 0 | R34: 0 | S34: 28 | T34: 262 | U34: 0 | V34: 1200 | X34: записи в оперативном журнале от 05.11.2022 | Y34: 3.4.8.5 | Z34: 4.21,4.18,4.15 | AA34: 0 | AB34: =IF(AA34=0,I34,0) -> 0.9 | AC34: =IF(AA34=1,I34,0) -> 0 | AE34: =IF(AA34=0,D34,0) -> ПС "Славянка" Ф-12 | AF34: =IF(AA34=1,D34,0) -> 0 | AH34: =IF(AE34=0,0,IF(COUNTIF($AE$11:AE33,AE34)=0,P34,0)) -> 0 | AI34: =IF(AF34=0,0,IF(COUNTIF($AF$11:AF33,AF34)=0,P34,0)) -> 0 | AK34: =IF(AA34=0,V34,0) -> 1200 | AL34: =IF(AA34=1,V34,0) -> 0 | AN34: =IF(COUNTIF($D$11:D33,D34)=0,M34,0) -> 0 | AP34: =IF(AA34=1,I34,0)*M34 -> 0 | AQ34: =IF(AA34=1,M34,0) -> 0 | AS34: =IF(AA34=1,I34,0)*V34 -> 0 | AU34: =IF(AE34=0,0,IF(COUNTIF($AE$11:AE33,AE34)=0,S34,0)) -> 0 | AV34: =IF(AF34=0,0,S34) -> 0 | AX34: =IF(R34>0,I34*R34*AA34,0) -> 0 | AY34: =IF(R34>0,R34*AA34,0) -> 0 | BA34: =IF(S34>0,I34*S34*AA34,0) -> 0 | BB34: =IF(S34>0,S34*AA34,0) -> 0 | BD34: =IF(T34>0,I34*T34*AA34,0) -> 0 | BE34: =IF(T34>0,T34*AA34,0) -> 0 | BG34: =AX34+BA34+BD34 -> 0 | BH34: =AY34+BB34+BE34 -> 0
A35: 25 | B35: АО "Дальневосточная ресурсоснабжающая компания" ОДС | C35: ТП | D35: ПС "Тавричанка" Ф-13 | E35: 6 (6.3) | F35: 09,40 2022.11.20 | G35: 13,20 2022.11.20 | H35: В | I35: 3.67 | J35: ТП 6 (6.3) кВ(Все ЛЭП ТП) | M35: 650 | N35: 0 | O35: 0 | P35: 650 | Q35: 0 | R35: 0 | S35: 9 | T35: 641 | U35: 0 | V35: 1250 | X35: записи в оперативном журнале от20.11.2022 2022-12-20 | Y35: 3.4.8.5 | Z35: 4.21 | AA35: 0 | AB35: =IF(AA35=0,I35,0) -> 3.67 | AC35: =IF(AA35=1,I35,0) -> 0 | AE35: =IF(AA35=0,D35,0) -> ПС "Тавричанка" Ф-13 | AF35: =IF(AA35=1,D35,0) -> 0 | AH35: =IF(AE35=0,0,IF(COUNTIF($AE$11:AE31,AE35)=0,P35,0)) -> 0 | AI35: =IF(AF35=0,0,IF(COUNTIF($AF$11:AF31,AF35)=0,P35,0)) -> 0 | AK35: =IF(AA35=0,V35,0) -> 1250 | AL35: =IF(AA35=1,V35,0) -> 0 | AN35: =IF(COUNTIF($D$11:D31,D35)=0,M35,0) -> 0 | AP35: =IF(AA35=1,I35,0)*M35 -> 0 | AQ35: =IF(AA35=1,M35,0) -> 0 | AS35: =IF(AA35=1,I35,0)*V35 -> 0 | AU35: =IF(AE35=0,0,IF(COUNTIF($AE$11:AE31,AE35)=0,S35,0)) -> 0 | AV35: =IF(AF35=0,0,S35) -> 0 | AX35: =IF(R35>0,I35*R35*AA35,0) -> 0 | AY35: =IF(R35>0,R35*AA35,0) -> 0 | BA35: =IF(S35>0,I35*S35*AA35,0) -> 0 | BB35: =IF(S35>0,S35*AA35,0) -> 0 | BD35: =IF(T35>0,I35*T35*AA35,0) -> 0 | BE35: =IF(T35>0,T35*AA35,0) -> 0 | BG35: =AX35+BA35+BD35 -> 0 | BH35: =AY35+BB35+BE35 -> 0
A36: 26 | B36: АО "Дальневосточная ресурсоснабжающая компания" | C36: ВЛ | D36: ПС "Славянка" Ф-12 | E36: 10 (10.5) | F36: 11,30 2022.12.03 | G36: 13,00 2022.12.03 | H36: В | I36: 1.5 | J36: ВЛ 10 (10.5) кВ | K36: 0 | L36: 0 | M36: 290 | N36: 0 | O36: 0 | P36: 290 | Q36: 0 | R36: 0 | S36: 28 | T36: 262 | U36: 0 | V36: 730 | X36: запись в оперативном журнале | Y36: 3.4.8.5 | Z36: 4.21 | AA36: 0 | AB36: =IF(AA36=0,I36,0) -> 1.5 | AC36: =IF(AA36=1,I36,0) -> 0 | AE36: =IF(AA36=0,D36,0) -> ПС "Славянка" Ф-12 | AF36: =IF(AA36=1,D36,0) -> 0 | AH36: =IF(AE36=0,0,IF(COUNTIF($AE$11:AE35,AE36)=0,P36,0)) -> 0 | AI36: =IF(AF36=0,0,IF(COUNTIF($AF$11:AF35,AF36)=0,P36,0)) -> 0 | AK36: =IF(AA36=0,V36,0) -> 730 | AL36: =IF(AA36=1,V36,0) -> 0 | AN36: =IF(COUNTIF($D$11:D35,D36)=0,M36,0) -> 0 | AP36: =IF(AA36=1,I36,0)*M36 -> 0 | AQ36: =IF(AA36=1,M36,0) -> 0 | AS36: =IF(AA36=1,I36,0)*V36 -> 0 | AU36: =IF(AE36=0,0,IF(COUNTIF($AE$11:AE35,AE36)=0,S36,0)) -> 0 | AV36: =IF(AF36=0,0,S36) -> 0 | AX36: =IF(R36>0,I36*R36*AA36,0) -> 0 | AY36: =IF(R36>0,R36*AA36,0) -> 0 | BA36: =IF(S36>0,I36*S36*AA36,0) -> 0 | BB36: =IF(S36>0,S36*AA36,0) -> 0 | BD36: =IF(T36>0,I36*T36*AA36,0) -> 0 | BE36: =IF(T36>0,T36*AA36,0) -> 0 | BG36: =AX36+BA36+BD36 -> 0 | BH36: =AY36+BB36+BE36 -> 0
A37: 27 | B37: АО "Дальневосточная ресурсоснабжающая компания" ОДС | C37: ВЛ | D37: ПС "Славянка" Ф-31 | E37: 10 (10.5) | F37: 13,00 2022.12.06 | G37: 13,31 2022.12.06 | H37: В | I37: 0.52 | J37: ТП 10 (10.5) кВ(Все ЛЭП ТП) | K37: 0 | L37: 0 | M37: 277 | N37: 0 | O37: 0 | P37: 277 | Q37: 0 | R37: 0 | S37: 32 | T37: 245 | U37: 0 | V37: 140 | X37: записи в оперативном журнале | Y37: 3.4.8.5 | Z37: 4.21 | AA37: 0 | AB37: =IF(AA37=0,I37,0) -> 0.52 | AC37: =IF(AA37=1,I37,0) -> 0 | AE37: =IF(AA37=0,D37,0) -> ПС "Славянка" Ф-31 | AF37: =IF(AA37=1,D37,0) -> 0 | AH37: =IF(AE37=0,0,IF(COUNTIF($AE$11:AE36,AE37)=0,P37,0)) -> 0 | AI37: =IF(AF37=0,0,IF(COUNTIF($AF$11:AF36,AF37)=0,P37,0)) -> 0 | AK37: =IF(AA37=0,V37,0) -> 140 | AL37: =IF(AA37=1,V37,0) -> 0 | AN37: =IF(COUNTIF($D$11:D36,D37)=0,M37,0) -> 0 | AP37: =IF(AA37=1,I37,0)*M37 -> 0 | AQ37: =IF(AA37=1,M37,0) -> 0 | AS37: =IF(AA37=1,I37,0)*V37 -> 0 | AU37: =IF(AE37=0,0,IF(COUNTIF($AE$11:AE36,AE37)=0,S37,0)) -> 0 | AV37: =IF(AF37=0,0,S37) -> 0 | AX37: =IF(R37>0,I37*R37*AA37,0) -> 0 | AY37: =IF(R37>0,R37*AA37,0) -> 0 | BA37: =IF(S37>0,I37*S37*AA37,0) -> 0 | BB37: =IF(S37>0,S37*AA37,0) -> 0 | BD37: =IF(T37>0,I37*T37*AA37,0) -> 0 | BE37: =IF(T37>0,T37*AA37,0) -> 0 | BG37: =AX37+BA37+BD37 -> 0 | BH37: =AY37+BB37+BE37 -> 0
A38: ИТОГО по всем прекращениям передачи электрической энергии за отчетный период: | H38: И | I38: =I41+I42 -> 54.92 | J38: х | K38: х | L38: х | M38: =SUM(AN11:AN37) -> 5701 | N38: 0 | O38: 0 | P38: =SUM(AN11:AN37) -> 5701 | Q38: 0 | R38: 0 | S38: =S41+S42 -> 165 | T38: =P38-S38 -> 5536 | U38: 0 | V38: =V41+V42 -> 28390 | X38: х | Y38: х | Z38: х | AA38: 0, 1 | AH38: Примечание: формулы столбца не действуют на 0,4 кв | AO38: сумма | AP38: =SUM(AP11:AP37) -> 2913.06 | AQ38: =SUM(AQ11:AQ37) -> 1368 | AS38: =SUM(AS11:AS37) -> 5394.6 | AT38: =SUM(AT11:AT37) -> 0 | AU38: =SUM(AU11:AU37) -> 123 | AV38: =SUM(AV11:AV37) -> 42 | AX38: 0 | AY38: 0 | BA38: =SUM(BA11:BA37)/469 -> 0.26927505 | BB38: =SUM(BB11:BB37)/469 -> 0.089552239 | BD38: =SUM(BD11:BD37)/11517 -> 0.24197013 | BE38: =SUM(BE11:BE37)/11517 -> 0.11513415 | BG38: =SUM(BG11:BG37)/11986 -> 0.24303854 | BH38: =SUM(BH11:BH37)/11986 -> 0.11413316
A39: - по ограничениям, связанным с проведением ремонтных работ | H39: П | I39: - | J39: х | K39: х | L39: х | M39: - | N39: - | O39: - | P39: - | Q39: - | R39: - | S39: - | T39: - | U39: - | V39: - | W39: - | X39: х | Y39: х | Z39: х | AA39: 0 | AX39: ПsaidiСН1 | AY39: ПsaifiСН1 | BA39: ПsaidiСН2 | BB39: ПsaifiСН2 | BD39: ПsaidiНН | BE39: ПsaifiНН | BG39: Пsaidi | BH39: Пsaifi
A40: - по аварийным ограничениям | H40: А | I40: - | J40: х | K40: х | L40: х | M40: - | N40: - | O40: - | P40: - | Q40: - | R40: - | S40: - | T40: - | U40: - | V40: - | W40: - | X40: х | Y40: х | Z40: х | AA40: 0
A41: - по внерегламентным отключениям | H41: В | I41: =SUM(AB11:AB37) -> 45.63 | J41: х | K41: х | L41: х | M41: =SUM(AH11:AH37) -> 5046 | N41: 0 | O41: 0 | P41: =SUM(AH11:AH37) -> 5046 | Q41: 0 | R41: 0 | S41: =AU38 -> 123 | T41: =P41-S41 -> 4923 | U41: 0 | V41: =SUM(AK11:AK37) -> 26528 | X41: х | Y41: х | Z41: х | AA41: 0
A42: - по внерегламентным отключениям, учитываемым при расчете индикативных показателей надежности | H42: В1 | I42: =SUM(AC11:AC37) -> 9.29 | J42: х | K42: х | L42: х | M42: =SUM(AI11:AI37) -> 1368 | N42: 0 | O42: 0 | P42: =SUM(AI11:AI37) -> 1368 | Q42: 0 | R42: 0 | S42: =AV38 -> 42 | T42: =P42-S42 -> 1326 | U42: 0 | V42: =SUM(AL11:AL37) -> 1862 | W42: - | X42: х | Y42: х | Z42: х | AA42: 1
F44: Ведущий инженер ПТС | L44: Шевелев Д.С.
F45: Должность | L45: Ф.И.О. | R45: Подпись

Sheet 8.1. 2021
A2: Форма 8.1. - Журнал учёта данных первичной информации по всем прекращениям передачи электрической энергии, произошедших на объектах электросетевых организаций за | Q2: декабрь | R2: месяц | S2: 2021 | T2: года
A3: АО "Дальневосточная ресурсоснабжающая компания"
A4: наименование электросетевой организации
A6: Данные о факте прекращения передачи электрической энергии (если восстановление режима потребления электрической энергии потребителей услуг в рамках одного прекращения передачи электрической энергии происходило в разное время, то форма заполняется отдельно по каждому такому восстановлению) | J6: Данные о масштабе прекращения передачи электрической энергии в сетевой организации | W6: Перечень смежных сетевых организаций, затронутых прекращением передачи электрической энергии | X6: Данные о причинах прекращения передачи электрической энергии и их расследовании | AA6: Учет в показателях надежности, в т.ч. индикативных показателях наджености (0 - нет, 1 - да)
A7: Номер прекращения передачи электрической энергии / Номер итоговой строки | B7: Наименование структурного подразделения сетевой организации | C7: Вид объекта: Кабельная линия (далее - КЛ), Воздушная линия (далее - ВЛ), Кабельно-воздушная линия (далее - КВЛ), Подстанция (далее - ПС), Трансформаторная подстанция (далее - ТП), Распределительный пункт (далее - РП) | D7: Диспетчерское наименование объекта электросетевого хозяйства сетевой организации, в результате отключения которой произошло прекращение передачи электроэнергии потребителям услуг | E7: Высший класс напряжения отключенного оборудования сетевой организации, кВ | F7: Время и дата начала прекращения передачи электрической энергии (часы, минуты, год, месяц, день) | G7: Время и дата восстановления режима потребления электрической энергии потребителей услуг (часы, минуты, год, месяц, день) | H7: Вид прекращения передачи электроэнергии (П, А, В) | I7: Продолжительность прекращения передачи электрической энергии, час | J7: Перечень объектов электросетевого хозяйства, отключение которых приивело к прекращению передачи электрической энергии потребителям услуг (ПС, ТП, РП, ВЛ, КЛ) | K7: Перечень потребителей 1-й и 2-й категорий надежности, в отношении которых произошло полное ограничение режима потребления электрической энергии | L7: Перечень потребителей 1-й и 2-й категорий надежности, в отношении которых произошло частичное ограничение режима потребления электрической энергии | M7: Количество точек поставки потребителей услуг сетевой организации, в отношении которых произошел перерыв электроснабжения, шт., в том числе: | V7: Суммарный объем фактической нагрузки (мощности) на присоединениях потребителей услуг, по которым произошло прекращение передачи электрической энергии на момент возникновения такого события, кВт
M8: ВСЕГО | N8: в разделении категорий надежности потребителей электрической энергии | Q8: в разделении уровней напряжения ЭПУ потребителя электрической энергии | U8: Смежные сетевые организации и производители электрической энергии | X8: Номер и дата акта расследования технологического нарушения, записи в оперативном журнале | Y8: Код организационной причины аварии | Z8: Код технической причины повреждения оборудования
N9: 1-я категория надежности | O9: 2-я категория надежности | P9: 3-я категория надежности | Q9: ВН (110 кВ и выше) | R9: СН1 (27,5- 60 кВ) | S9: СН2 (1-20 кВ) | T9: НН (до 1 кВ)
A10: 1 | B10: 2 | C10: 3 | D10: 4 | E10: 5 | F10: 6 | G10: 7 | H10: 8 | I10: 9 | J10: 10 | K10: 11 | L10: 12 | M10: 13 | N10: 14 | O10: 15 | P10: 16 | Q10: 17 | R10: 18 | S10: 19 | T10: 20 | U10: 21 | V10: 22 | W10: 23 | X10: 24 | Y10: 25 | Z10: 26 | AA10: 27 | AB10: время В | AC10: время В1 | AE10: фидера В | AF10: фидера В1 | AH10: потребители без повторов для В | AI10: потребители без повторов для В1 | AK10: мощность В | AL10: мощность В1 | AN10: количество точек отключения | AP10: форма 1.3 п2 | AQ10: п3 | AS10: форма1.4 | AU10: повторы по СН-2 для итога В | AV10: повторы по СН-2 для итога В1
A11: 1 | B11: АО "Дальневосточная ресурсоснабжающая компания" ОДС | C11: ВЛ | D11: ПС "Раздольное-1" Ф-9 | E11: 10 (10.5) | F11: 23,00 2021.01.06 | G11: 23,50 2021.01.06 | H11: В | I11: 0.83 | J11: ТП 10 (10.5) кВ(Все ЛЭП ТП) | K11: 0 | L11: 0 | M11: 238 | N11: 0 | O11: 0 | P11: 238 | Q11: 0 | R11: 0 | S11: 4 | T11: 234 | U11: 0 | V11: 2580 | X11: записи в оперативном журнале | Y11: 3.4.8.5 | Z11: 4.21 | AA11: 0 | AB11: =IF(AA11=0,I11,0) -> 0.83 | AC11: =IF(AA11=1,I11,0) -> 0 | AE11: =IF(AA11=0,D11,0) -> ПС "Раздольное-1" Ф-9 | AF11: =IF(AA11=1,D11,0) -> 0 | AH11: =IF(AE11=0,0,IF(COUNTIF(AE10,AE11)=0,P11,0)) -> 238 | AI11: =IF(AF11=0,0,P11) -> 0 | AK11: =IF(AA11=0,V11,0) -> 2580 | AL11: =IF(AA11=1,V11,0) -> 0 | AN11: =M11 -> 238 | AP11: =IF(AA11=1,I11,0)*M11 -> 0 | AQ11: =IF(AA11=1,M11,0) -> 0 | AS11: =IF(AA11=1,I11,0)*V11 -> 0 | AU11: =IF(AE11=0,0,IF(COUNTIF(AE10,AE11)=0,S11,0)) -> 4 | AV11: =IF(AF11=0,0,S11) -> 0 | AX11: =IF(R11>0,I11*R11*AA11,0) -> 0 | AY11: =IF(R11>0,R11*AA11,0) -> 0 | BA11: =IF(S11>0,I11*S11*AA11,0) -> 0 | BB11: =IF(S11>0,S11*AA11,0) -> 0 | BD11: =IF(T11>0,I11*T11*AA11,0) -> 0 | BE11: =IF(T11>0,T11*AA11,0) -> 0 | BG11: =AX11+BA11+BD11 -> 0 | BH11: =AY11+BB11+BE11 -> 0
A12: 2 | B12: АО "Дальневосточная ресурсоснабжающая компания" ОДС | C12: ВЛ | D12: ПС "Раздольное-1" Ф-17 | E12: 10 (10.5) | F12: 23,00 2021.01.06 | G12: 23,50 2021.01.06 | H12: В | I12: 0.83 | J12: ТП 10 (10.5) кВ(Все ЛЭП ТП) | K12: 0 | L12: 0 | M12: 67 | N12: 0 | O12: 0 | P12: 67 | Q12: 0 | R12: 0 | S12: 6 | T12: 61 | U12: 0 | V12: 2150 | X12: записи в оперативном журнале | Y12: 3.4.8.5 | Z12: 4.21 | AA12: 0 | AB12: =IF(AA12=0,I12,0) -> 0.83 | AC12: =IF(AA12=1,I12,0) -> 0 | AE12: =IF(AA12=0,D12,0) -> ПС "Раздольное-1" Ф-17 | AF12: =IF(AA12=1,D12,0) -> 0 | AH12: =IF(AE12=0,0,IF(COUNTIF($AE11:AE$11,AE12)=0,P12,0)) -> 67 | AI12: =IF(AF12=0,0,IF(COUNTIF($AF11:AF$11,AF12)=0,P12,0)) -> 0 | AK12: =IF(AA12=0,V12,0) -> 2150 | AL12: =IF(AA12=1,V12,0) -> 0 | AN12: =IF(COUNTIF($D$11:D11,D12)=0,M12,0) -> 67 | AP12: =IF(AA12=1,I12,0)*M12 -> 0 | AQ12: =IF(AA12=1,M12,0) -> 0 | AS12: =IF(AA12=1,I12,0)*V12 -> 0 | AU12: =IF(AE12=0,0,IF(COUNTIF($AE11:AE$11,AE12)=0,S12,0)) -> 6 | AV12: =IF(AF12=0,0,S12) -> 0 | AX12: =IF(R12>0,I12*R12*AA12,0) -> 0 | AY12: =IF(R12>0,R12*AA12,0) -> 0 | BA12: =IF(S12>0,I12*S12*AA12,0) -> 0 | BB12: =IF(S12>0,S12*AA12,0) -> 0 | BD12: =IF(T12>0,I12*T12*AA12,0) -> 0 | BE12: =IF(T12>0,T12*AA12,0) -> 0 | BG12: =AX12+BA12+BD12 -> 0 | BH12: =AY12+BB12+BE12 -> 0
A13: 3 | B13: АО "Дальневосточная ресурсоснабжающая компания" ОДС | C13: ВЛ | D13: пс силикатная ф-25 | E13: 10 (10.5) | F13: 23,00 2021.01.06 | G13: 23,50 2021.01.06 | H13: В | I13: 0.83 | J13: ТП 10 (10.5) кВ(Все ЛЭП ТП) | K13: 0 | L13: 0 | M13: 172 | N13: 0 | O13: 0 | P13: 172 | Q13: 0 | R13: 0 | S13: 2 | T13: 170 | U13: 0 | V13: 1830 | X13: записи в оперативном журнале | Y13: 3.4.8.5 | Z13: 4.21 | AA13: 0 | AB13: =IF(AA13=0,I13,0) -> 0.83 | AC13: =IF(AA13=1,I13,0) -> 0 | AE13: =IF(AA13=0,D13,0) -> пс силикатная ф-25 | AF13: =IF(AA13=1,D13,0) -> 0 | AH13: =IF(AE13=0,0,IF(COUNTIF($AE$11:AE12,AE13)=0,P13,0)) -> 172 | AI13: =IF(AF13=0,0,IF(COUNTIF($AF$11:AF12,AF13)=0,P13,0)) -> 0 | AK13: =IF(AA13=0,V13,0) -> 1830 | AL13: =IF(AA13=1,V13,0) -> 0 | AN13: =IF(COUNTIF($D$11:D12,D13)=0,M13,0) -> 172 | AP13: =IF(AA13=1,I13,0)*M13 -> 0 | AQ13: =IF(AA13=1,M13,0) -> 0 | AS13: =IF(AA13=1,I13,0)*V13 -> 0 | AU13: =IF(AE13=0,0,IF(COUNTIF($AE$11:AE12,AE13)=0,S13,0)) -> 2 | AV13: =IF(AF13=0,0,S13) -> 0 | AX13: =IF(R13>0,I13*R13*AA13,0) -> 0 | AY13: =IF(R13>0,R13*AA13,0) -> 0 | BA13: =IF(S13>0,I13*S13*AA13,0) -> 0 | BB13: =IF(S13>0,S13*AA13,0) -> 0 | BD13: =IF(T13>0,I13*T13*AA13,0) -> 0 | BE13: =IF(T13>0,T13*AA13,0) -> 0 | BG13: =AX13+BA13+BD13 -> 0 | BH13: =AY13+BB13+BE13 -> 0
A14: 4 | B14: АО "Дальневосточная ресурсоснабжающая компания" ОДС | C14: ВЛ | D14: ПС "Краскино" Ф-6 | E14: 10 (10.5) | F14: 14,40 2021.01.08 | G14: 16,13 2021.01.08 | H14: В | I14: 1.55 | J14: ТП 10 (10.5) кВ(Все ЛЭП ТП) | K14: 0 | L14: 0 | M14: 256 | N14: 0 | O14: 0 | P14: 256 | Q14: 0 | R14: 0 | S14: 8 | T14: 248 | U14: 0 | V14: 478 | X14: записи в оперативном журнале | Y14: 3.4.8.5 | Z14: 4.21 | AA14: 0 | AB14: =IF(AA14=0,I14,0) -> 1.55 | AC14: =IF(AA14=1,I14,0) -> 0 | AE14: =IF(AA14=0,D14,0) -> ПС "Краскино" Ф-6 | AF14: =IF(AA14=1,D14,0) -> 0 | AH14: =IF(AE14=0,0,IF(COUNTIF($AE$11:AE13,AE14)=0,P14,0)) -> 256 | AI14: =IF(AF14=0,0,IF(COUNTIF($AF$11:AF13,AF14)=0,P14,0)) -> 0 | AK14: =IF(AA14=0,V14,0) -> 478 | AL14: =IF(AA14=1,V14,0) -> 0 | AN14: =IF(COUNTIF($D$11:D13,D14)=0,M14,0) -> 256 | AP14: =IF(AA14=1,I14,0)*M14 -> 0 | AQ14: =IF(AA14=1,M14,0) -> 0 | AS14: =IF(AA14=1,I14,0)*V14 -> 0 | AU14: =IF(AE14=0,0,IF(COUNTIF($AE$11:AE13,AE14)=0,S14,0)) -> 8 | AV14: =IF(AF14=0,0,S14) -> 0 | AX14: =IF(R14>0,I14*R14*AA14,0) -> 0 | AY14: =IF(R14>0,R14*AA14,0) -> 0 | BA14: =IF(S14>0,I14*S14*AA14,0) -> 0 | BB14: =IF(S14>0,S14*AA14,0) -> 0 | BD14: =IF(T14>0,I14*T14*AA14,0) -> 0 | BE14: =IF(T14>0,T14*AA14,0) -> 0 | BG14: =AX14+BA14+BD14 -> 0 | BH14: =AY14+BB14+BE14 -> 0
A15: 5 | B15: АО "Дальневосточная ресурсоснабжающая компания" ОДС | C15: ВЛ | D15: ПС.Безверхово ф.2 | E15: 10 (10.5) | F15: 22,20 2021.01.18 | G15: 23,20 2021.01.18 | H15: В | I15: 1 | J15: ТП 10 (10.5) кВ(Все ЛЭП ТП) | K15: 0 | L15: 0 | M15: 22 | N15: 0 | O15: 0 | P15: 22 | Q15: 0 | R15: 0 | S15: 5 | T15: 17 | U15: 0 | V15: 345 | X15: записи в оперативном журнале | Y15: 3.4.8.5 | Z15: 4.21 | AA15: 0 | AB15: =IF(AA15=0,I15,0) -> 1 | AC15: =IF(AA15=1,I15,0) -> 0 | AE15: =IF(AA15=0,D15,0) -> ПС.Безверхово ф.2 | AF15: =IF(AA15=1,D15,0) -> 0 | AH15: =IF(AE15=0,0,IF(COUNTIF($AE$11:AE14,AE15)=0,P15,0)) -> 22 | AI15: =IF(AF15=0,0,IF(COUNTIF($AF$11:AF14,AF15)=0,P15,0)) -> 0 | AK15: =IF(AA15=0,V15,0) -> 345 | AL15: =IF(AA15=1,V15,0) -> 0 | AN15: =IF(COUNTIF($D$11:D14,D15)=0,M15,0) -> 22 | AP15: =IF(AA15=1,I15,0)*M15 -> 0 | AQ15: =IF(AA15=1,M15,0) -> 0 | AS15: =IF(AA15=1,I15,0)*V15 -> 0 | AU15: =IF(AE15=0,0,IF(COUNTIF($AE$11:AE14,AE15)=0,S15,0)) -> 5 | AV15: =IF(AF15=0,0,S15) -> 0 | AX15: =IF(R15>0,I15*R15*AA15,0) -> 0 | AY15: =IF(R15>0,R15*AA15,0) -> 0 | BA15: =IF(S15>0,I15*S15*AA15,0) -> 0 | BB15: =IF(S15>0,S15*AA15,0) -> 0 | BD15: =IF(T15>0,I15*T15*AA15,0) -> 0 | BE15: =IF(T15>0,T15*AA15,0) -> 0 | BG15: =AX15+BA15+BD15 -> 0 | BH15: =AY15+BB15+BE15 -> 0
A16: 6 | B16: АО "Дальневосточная ресурсоснабжающая компания" ОДС | C16: ВЛ | D16: ПС "Шмидтовка" Ф-16 | E16: 6 (6.3) | F16: 01,00 2021.01.20 | G16: 02,10 2021.01.20 | H16: В | I16: 1.17 | J16: ВЛ 6 (6.3) кВ;КЛ 6 (6.3) кВ;ТП 6 (6.3) кВ(Все ЛЭП ТП) | K16: 0 | L16: 0 | M16: 266 | N16: 0 | O16: 0 | P16: 266 | Q16: 0 | R16: 0 | S16: 8 | T16: 258 | U16: 0 | V16: 543 | X16: записи в оперативном журнале 2021-01-20 | Y16: 3.4.9.1 | Z16: 4.21 | AA16: 0 | AB16: =IF(AA16=0,I16,0) -> 1.17 | AC16: =IF(AA16=1,I16,0) -> 0 | AE16: =IF(AA16=0,D16,0) -> ПС "Шмидтовка" Ф-16 | AF16: =IF(AA16=1,D16,0) -> 0 | AH16: =IF(AE16=0,0,IF(COUNTIF($AE$11:AE15,AE16)=0,P16,0)) -> 266 | AI16: =IF(AF16=0,0,IF(COUNTIF($AF$11:AF15,AF16)=0,P16,0)) -> 0 | AK16: =IF(AA16=0,V16,0) -> 543 | AL16: =IF(AA16=1,V16,0) -> 0 | AN16: =IF(COUNTIF($D$11:D15,D16)=0,M16,0) -> 266 | AP16: =IF(AA16=1,I16,0)*M16 -> 0 | AQ16: =IF(AA16=1,M16,0) -> 0 | AS16: =IF(AA16=1,I16,0)*V16 -> 0 | AU16: =IF(AE16=0,0,IF(COUNTIF($AE$11:AE15,AE16)=0,S16,0)) -> 8 | AV16: =IF(AF16=0,0,S16) -> 0 | AX16: =IF(R16>0,I16*R16*AA16,0) -> 0 | AY16: =IF(R16>0,R16*AA16,0) -> 0 | BA16: =IF(S16>0,I16*S16*AA16,0) -> 0 | BB16: =IF(S16>0,S16*AA16,0) -> 0 | BD16: =IF(T16>0,I16*T16*AA16,0) -> 0 | BE16: =IF(T16>0,T16*AA16,0) -> 0 | BG16: =AX16+BA16+BD16 -> 0 | BH16: =AY16+BB16+BE16 -> 0
A17: 7 | B17: АО "Дальневосточная ресурсоснабжающая компания" ОДС | C17: КЛ | D17: ПС "Тавричанка" Ф-12 | E17: 6 (6.3) | F17: 10,40 2021.01.20 | G17: 17,40 2021.01.20 | H17: В | I17: 7 | J17: ТП 6 (6.3) кВ(Все ЛЭП ТП) | K17: 0 | L17: 0 | M17: 988 | N17: 0 | O17: 0 | P17: 988 | Q17: 0 | R17: 0 | S17: 11 | T17: 977 | U17: 0 | V17: 1530 | X17: записи в оперативном журнале | Y17: 3.4.9.1 | Z17: 4.1 | AA17: 0 | AB17: =IF(AA17=0,I17,0) -> 7 | AC17: =IF(AA17=1,I17,0) -> 0 | AE17: =IF(AA17=0,D17,0) -> ПС "Тавричанка" Ф-12 | AF17: =IF(AA17=1,D17,0) -> 0 | AH17: =IF(AE17=0,0,IF(COUNTIF($AE$11:AE16,AE17)=0,P17,0)) -> 988 | AI17: =IF(AF17=0,0,IF(COUNTIF($AF$11:AF16,AF17)=0,P17,0)) -> 0 | AK17: =IF(AA17=0,V17,0) -> 1530 | AL17: =IF(AA17=1,V17,0) -> 0 | AN17: =IF(COUNTIF($D$11:D16,D17)=0,M17,0) -> 988 | AP17: =IF(AA17=1,I17,0)*M17 -> 0 | AQ17: =IF(AA17=1,M17,0) -> 0 | AS17: =IF(AA17=1,I17,0)*V17 -> 0 | AU17: =IF(AE17=0,0,IF(COUNTIF($AE$11:AE16,AE17)=0,S17,0)) -> 11 | AV17: =IF(AF17=0,0,S17) -> 0 | AX17: =IF(R17>0,I17*R17*AA17,0) -> 0 | AY17: =IF(R17>0,R17*AA17,0) -> 0 | BA17: =IF(S17>0,I17*S17*AA17,0) -> 0 | BB17: =IF(S17>0,S17*AA17,0) -> 0 | BD17: =IF(T17>0,I17*T17*AA17,0) -> 0 | BE17: =IF(T17>0,T17*AA17,0) -> 0 | BG17: =AX17+BA17+BD17 -> 0 | BH17: =AY17+BB17+BE17 -> 0
A18: 8 | B18: АО "Дальневосточная ресурсоснабжающая компания" ОДС | C18: ВЛ | D18: ПС "Тавричанка" Ф-13 | E18: 6 (6.3) | F18: 10,10 2021.01.26 | G18: 10,24 2021.01.26 | H18: В | I18: 0.23 | J18: ВЛ 6 (6.3) кВ;КЛ 6 (6.3) кВ;ТП 6 (6.3) кВ(Все ЛЭП ТП) | K18: 0 | L18: 0 | M18: 639 | N18: 0 | O18: 0 | P18: 639 | Q18: 0 | R18: 0 | S18: 5 | T18: 634 | U18: 0 | V18: 1744 | X18: записи в оперативном журнале 2021-01-26 | Y18: 3.4.12.2 | Z18: 4.21 | AA18: 0 | AB18: =IF(AA18=0,I18,0) -> 0.23 | AC18: =IF(AA18=1,I18,0) -> 0 | AE18: =IF(AA18=0,D18,0) -> ПС "Тавричанка" Ф-13 | AF18: =IF(AA18=1,D18,0) -> 0 | AH18: =IF(AE18=0,0,IF(COUNTIF($AE$11:AE17,AE18)=0,P18,0)) -> 639 | AI18: =IF(AF18=0,0,IF(COUNTIF(#REF!,AF18)=0,P18,0)) -> 0 | AK18: =IF(AA18=0,V18,0) -> 1744 | AL18: =IF(AA18=1,V18,0) -> 0 | AN18: =IF(COUNTIF($D$11:D17,D18)=0,M18,0) -> 639 | AP18: =IF(AA18=1,I18,0)*M18 -> 0 | AQ18: =IF(AA18=1,M18,0) -> 0 | AS18: =IF(AA18=1,I18,0)*V18 -> 0 | AU18: =IF(AE18=0,0,IF(COUNTIF($AE$11:AE17,AE18)=0,S18,0)) -> 5 | AV18: =IF(AF18=0,0,S18) -> 0 | AX18: =IF(R18>0,I18*R18*AA18,0) -> 0 | AY18: =IF(R18>0,R18*AA18,0) -> 0 | BA18: =IF(S18>0,I18*S18*AA18,0) -> 0 | BB18: =IF(S18>0,S18*AA18,0) -> 0 | BD18: =IF(T18>0,I18*T18*AA18,0) -> 0 | BE18: =IF(T18>0,T18*AA18,0) -> 0 | BG18: =AX18+BA18+BD18 -> 0 | BH18: =AY18+BB18+BE18 -> 0
A19: 9 | B19: АО "Дальневосточная ресурсоснабжающая компания" ОДС | C19: ВЛ | D19: ПС "Посьет" Ф-3 | E19: 10 (10.5) | F19: 08,30 2021.01.26 | G19: 10,45 2021.01.26 | H19: В | I19: 2.25 | J19: ВЛ 10 (10.5) кВ;КЛ 10 (10.5) кВ;ТП 10 (10.5) кВ(Все ЛЭП ТП) | K19: 0 | L19: 0 | M19: 161 | N19: 0 | O19: 0 | P19: 161 | Q19: 0 | R19: 0 | S19: 8 | T19: 153 | U19: 0 | V19: 650 | X19: записи в оперативном журнале 2021-01-26 | Y19: 3.4.12.2 | Z19: 4.21 | AA19: 0 | AB19: =IF(AA19=0,I19,0) -> 2.25 | AC19: =IF(AA19=1,I19,0) -> 0 | AE19: =IF(AA19=0,D19,0) -> ПС "Посьет" Ф-3 | AF19: =IF(AA19=1,D19,0) -> 0 | AH19: =IF(AE19=0,0,IF(COUNTIF($AE$11:AE18,AE19)=0,P19,0)) -> 161 | AI19: =IF(AF19=0,0,IF(COUNTIF($AF$11:AF18,AF19)=0,P19,0)) -> 0 | AK19: =IF(AA19=0,V19,0) -> 650 | AL19: =IF(AA19=1,V19,0) -> 0 | AN19: =IF(COUNTIF($D$11:D18,D19)=0,M19,0) -> 161 | AP19: =IF(AA19=1,I19,0)*M19 -> 0 | AQ19: =IF(AA19=1,M19,0) -> 0 | AS19: =IF(AA19=1,I19,0)*V19 -> 0 | AU19: =IF(AE19=0,0,IF(COUNTIF($AE$11:AE18,AE19)=0,S19,0)) -> 8 | AV19: =IF(AF19=0,0,S19) -> 0 | AX19: =IF(R19>0,I19*R19*AA19,0) -> 0 | AY19: =IF(R19>0,R19*AA19,0) -> 0 | BA19: =IF(S19>0,I19*S19*AA19,0) -> 0 | BB19: =IF(S19>0,S19*AA19,0) -> 0 | BD19: =IF(T19>0,I19*T19*AA19,0) -> 0 | BE19: =IF(T19>0,T19*AA19,0) -> 0 | BG19: =AX19+BA19+BD19 -> 0 | BH19: =AY19+BB19+BE19 -> 0
A20: 10 | B20: АО "Дальневосточная ресурсоснабжающая компания" ОДС | C20: ВЛ | D20: ПС "Тавричанка" Ф-7 | E20: 6 (6.3) | F20: 21,05 2021.01.28 | G20: 21,50 2021.01.28 | H20: В | I20: 0.75 | J20: ВЛ 6 (6.3) кВ;КЛ 6 (6.3) кВ;ТП 6 (6.3) кВ(Все ЛЭП ТП) | K20: 0 | L20: 0 | M20: 80 | N20: 0 | O20: 0 | P20: 80 | Q20: 0 | R20: 0 | S20: 0 | T20: 80 | U20: 0 | V20: 653 | X20: записи в оперативном журнале 2021-01-28 | Y20: 3.4.12.2 | Z20: 4.21 | AA20: 0 | AB20: =IF(AA20=0,I20,0) -> 0.75 | AC20: =IF(AA20=1,I20,0) -> 0 | AE20: =IF(AA20=0,D20,0) -> ПС "Тавричанка" Ф-7 | AF20: =IF(AA20=1,D20,0) -> 0 | AH20: =IF(AE20=0,0,IF(COUNTIF($AE$11:AE19,AE20)=0,P20,0)) -> 80 | AI20: =IF(AF20=0,0,IF(COUNTIF($AF$11:AF19,AF20)=0,P20,0)) -> 0 | AK20: =IF(AA20=0,V20,0) -> 653 | AL20: =IF(AA20=1,V20,0) -> 0 | AN20: =IF(COUNTIF($D$11:D19,D20)=0,M20,0) -> 80 | AP20: =IF(AA20=1,I20,0)*M20 -> 0 | AQ20: =IF(AA20=1,M20,0) -> 0 | AS20: =IF(AA20=1,I20,0)*V20 -> 0 | AU20: =IF(AE20=0,0,IF(COUNTIF($AE$11:AE19,AE20)=0,S20,0)) -> 0 | AV20: =IF(AF20=0,0,S20) -> 0 | AX20: =IF(R20>0,I20*R20*AA20,0) -> 0 | AY20: =IF(R20>0,R20*AA20,0) -> 0 | BA20: =IF(S20>0,I20*S20*AA20,0) -> 0 | BB20: =IF(S20>0,S20*AA20,0) -> 0 | BD20: =IF(T20>0,I20*T20*AA20,0) -> 0 | BE20: =IF(T20>0,T20*AA20,0) -> 0 | BG20: =AX20+BA20+BD20 -> 0 | BH20: =AY20+BB20+BE20 -> 0
A21: 11 | B21: АО "Дальневосточная ресурсоснабжающая компания" ОДС | C21: ВЛ | D21: ПС "Тавричанка" Ф-11 | E21: 6 (6.3) | F21: 22,55 2021.01.28 | G21: 23,30 2021.01.28 | H21: В | I21: 0.58 | J21: ВЛ 6 (6.3) кВ;КЛ 6 (6.3) кВ;ТП 6 (6.3) кВ(Все ЛЭП ТП) | K21: 0 | L21: 0 | M21: 153 | N21: 0 | O21: 0 | P21: 153 | Q21: 0 | R21: 0 | S21: 9 | T21: 144 | U21: 0 | V21: 876 | X21: записи в оперативном журнале 2021-01-28 | Y21: 3.4.12.2 | Z21: 4.21 | AA21: 0 | AB21: =IF(AA21=0,I21,0) -> 0.58 | AC21: =IF(AA21=1,I21,0) -> 0 | AE21: =IF(AA21=0,D21,0) -> ПС "Тавричанка" Ф-11 | AF21: =IF(AA21=1,D21,0) -> 0 | AH21: =IF(AE21=0,0,IF(COUNTIF($AE$11:AE20,AE21)=0,P21,0)) -> 153 | AI21: =IF(AF21=0,0,IF(COUNTIF($AF$11:AF20,AF21)=0,P21,0)) -> 0 | AK21: =IF(AA21=0,V21,0) -> 876 | AL21: =IF(AA21=1,V21,0) -> 0 | AN21: =IF(COUNTIF($D$11:D20,D21)=0,M21,0) -> 153 | AP21: =IF(AA21=1,I21,0)*M21 -> 0 | AQ21: =IF(AA21=1,M21,0) -> 0 | AS21: =IF(AA21=1,I21,0)*V21 -> 0 | AU21: =IF(AE21=0,0,IF(COUNTIF($AE$11:AE20,AE21)=0,S21,0)) -> 9 | AV21: =IF(AF21=0,0,S21) -> 0 | AX21: =IF(R21>0,I21*R21*AA21,0) -> 0 | AY21: =IF(R21>0,R21*AA21,0) -> 0 | BA21: =IF(S21>0,I21*S21*AA21,0) -> 0 | BB21: =IF(S21>0,S21*AA21,0) -> 0 | BD21: =IF(T21>0,I21*T21*AA21,0) -> 0 | BE21: =IF(T21>0,T21*AA21,0) -> 0 | BG21: =AX21+BA21+BD21 -> 0 | BH21: =AY21+BB21+BE21 -> 0
A22: 12 | B22: АО "Дальневосточная ресурсоснабжающая компания" ОДС | C22: ВЛ | D22: ПС "Надеждинская" Ф-1 | E22: 6 (6.3) | F22: 06,15 2021.01.29 | G22: 10,10 2021.01.29 | H22: В | I22: 3.92 | J22: ТП 6 (6.3) кВ(Все ЛЭП ТП) | K22: 0 | L22: 0 | M22: 509 | N22: 0 | O22: 0 | P22: 509 | Q22: 0 | R22: 0 | S22: 21 | T22: 488 | U22: 0 | V22: 1200 | X22: записи в оперативном журнале | Y22: 3.4.12.5 | Z22: 4.21 | AA22: 0 | AB22: =IF(AA22=0,I22,0) -> 3.92 | AC22: =IF(AA22=1,I22,0) -> 0 | AE22: =IF(AA22=0,D22,0) -> ПС "Надеждинская" Ф-1 | AF22: =IF(AA22=1,D22,0) -> 0 | AH22: =IF(AE22=0,0,IF(COUNTIF($AE$11:AE21,AE22)=0,P22,0)) -> 509 | AI22: =IF(AF22=0,0,IF(COUNTIF($AF$11:AF21,AF22)=0,P22,0)) -> 0 | AK22: =IF(AA22=0,V22,0) -> 1200 | AL22: =IF(AA22=1,V22,0) -> 0 | AN22: =IF(COUNTIF($D$11:D21,D22)=0,M22,0) -> 509 | AP22: =IF(AA22=1,I22,0)*M22 -> 0 | AQ22: =IF(AA22=1,M22,0) -> 0 | AS22: =IF(AA22=1,I22,0)*V22 -> 0 | AU22: =IF(AE22=0,0,IF(COUNTIF($AE$11:AE21,AE22)=0,S22,0)) -> 21 | AV22: =IF(AF22=0,0,S22) -> 0 | AX22: =IF(R22>0,I22*R22*AA22,0) -> 0 | AY22: =IF(R22>0,R22*AA22,0) -> 0 | BA22: =IF(S22>0,I22*S22*AA22,0) -> 0 | BB22: =IF(S22>0,S22*AA22,0) -> 0 | BD22: =IF(T22>0,I22*T22*AA22,0) -> 0 | BE22: =IF(T22>0,T22*AA22,0) -> 0 | BG22: =AX22+BA22+BD22 -> 0 | BH22: =AY22+BB22+BE22 -> 0
A23: 13 | B23: АО "Дальневосточная ресурсоснабжающая компания" ОДС | C23: ВЛ | D23: ПС Приморская ф-4 | E23: 10 (10.5) | F23: 11,10 2021.01.29 | G23: 12,40 2021.01.29 | H23: В | I23: 1.5 | J23: ТП 10 (10.5) кВ(Все ЛЭП ТП) | K23: 0 | L23: 0 | M23: 235 | N23: 0 | O23: 0 | P23: 235 | Q23: 0 | R23: 0 | S23: 15 | T23: 220 | U23: 0 | V23: 630 | X23: записи в оперативном журнале | Y23: 3.4.12.2 | Z23: 4.21 | AA23: 1 | AB23: =IF(AA23=0,I23,0) -> 0 | AC23: =IF(AA23=1,I23,0) -> 1.5 | AE23: =IF(AA23=0,D23,0) -> 0 | AF23: =IF(AA23=1,D23,0) -> ПС Приморская ф-4 | AH23: =IF(AE23=0,0,IF(COUNTIF($AE$11:AE22,AE23)=0,P23,0)) -> 0 | AI23: =IF(AF23=0,0,IF(COUNTIF($AF$11:AF22,AF23)=0,P23,0)) -> 235 | AK23: =IF(AA23=0,V23,0) -> 0 | AL23: =IF(AA23=1,V23,0) -> 630 | AN23: =IF(COUNTIF($D$11:D22,D23)=0,M23,0) -> 235 | AP23: =IF(AA23=1,I23,0)*M23 -> 352.5 | AQ23: =IF(AA23=1,M23,0) -> 235 | AS23: =IF(AA23=1,I23,0)*V23 -> 945 | AU23: =IF(AE23=0,0,IF(COUNTIF($AE$11:AE22,AE23)=0,S23,0)) -> 0 | AV23: =IF(AF23=0,0,S23) -> 15 | AX23: =IF(R23>0,I23*R23*AA23,0) -> 0 | AY23: =IF(R23>0,R23*AA23,0) -> 0 | BA23: =IF(S23>0,I23*S23*AA23,0) -> 22.5 | BB23: =IF(S23>0,S23*AA23,0) -> 15 | BD23: =IF(T23>0,I23*T23*AA23,0) -> 330 | BE23: =IF(T23>0,T23*AA23,0) -> 220 | BG23: =AX23+BA23+BD23 -> 352.5 | BH23: =AY23+BB23+BE23 -> 235
A24: 14 | B24: АО "Дальневосточная ресурсоснабжающая компания" ОДС | C24: ВЛ | D24: ПС "Славянка" Ф-20 | E24: 10 (10.5) | F24: 08,47 2021.02.01 | G24: 09,10 2021.02.01 | H24: В | I24: 0.38 | J24: ТП 10 (10.5) кВ(Все ЛЭП ТП) | K24: 0 | L24: 0 | M24: 87 | N24: 0 | O24: 0 | P24: 87 | Q24: 0 | R24: 0 | S24: 9 | T24: 78 | U24: 0 | V24: 1100 | X24: записи в оперативном журнале | Y24: 3.4.8.5 | Z24: 4.12 | AA24: 0 | AB24: =IF(AA24=0,I24,0) -> 0.38 | AC24: =IF(AA24=1,I24,0) -> 0 | AE24: =IF(AA24=0,D24,0) -> ПС "Славянка" Ф-20 | AF24: =IF(AA24=1,D24,0) -> 0 | AH24: =IF(AE24=0,0,IF(COUNTIF($AE$11:AE23,AE24)=0,P24,0)) -> 87 | AI24: =IF(AF24=0,0,IF(COUNTIF($AF$11:AF23,AF24)=0,P24,0)) -> 0 | AK24: =IF(AA24=0,V24,0) -> 1100 | AL24: =IF(AA24=1,V24,0) -> 0 | AN24: =IF(COUNTIF($D$11:D23,D24)=0,M24,0) -> 87 | AP24: =IF(AA24=1,I24,0)*M24 -> 0 | AQ24: =IF(AA24=1,M24,0) -> 0 | AS24: =IF(AA24=1,I24,0)*V24 -> 0 | AU24: =IF(AE24=0,0,IF(COUNTIF($AE$11:AE23,AE24)=0,S24,0)) -> 9 | AV24: =IF(AF24=0,0,S24) -> 0 | AX24: =IF(R24>0,I24*R24*AA24,0) -> 0 | AY24: =IF(R24>0,R24*AA24,0) -> 0 | BA24: =IF(S24>0,I24*S24*AA24,0) -> 0 | BB24: =IF(S24>0,S24*AA24,0) -> 0 | BD24: =IF(T24>0,I24*T24*AA24,0) -> 0 | BE24: =IF(T24>0,T24*AA24,0) -> 0 | BG24: =AX24+BA24+BD24 -> 0 | BH24: =AY24+BB24+BE24 -> 0
A25: 15 | B25: АО "Дальневосточная ресурсоснабжающая компания" ОДС | C25: ВЛ | D25: ПС "Давыдовка" Ф-5 | E25: 6 (6.3) | F25: 03,00 2021.02.05 | G25: 05,00 2021.02.05 | H25: В | I25: 2 | J25: ВЛ 6 (6.3) кВ;ТП 6 (6.3) кВ(Все ЛЭП ТП) | K25: 0 | L25: 0 | M25: 25 | N25: 0 | O25: 0 | P25: 25 | Q25: 0 | R25: 0 | S25: 5 | T25: 20 | U25: 0 | V25: 1250 | X25: запись в журнале одс | Y25: 3.4.8.5 | Z25: 4.12 | AA25: 1 | AB25: =IF(AA25=0,I25,0) -> 0 | AC25: =IF(AA25=1,I25,0) -> 2 | AE25: =IF(AA25=0,D25,0) -> 0 | AF25: =IF(AA25=1,D25,0) -> ПС "Давыдовка" Ф-5 | AH25: =IF(AE25=0,0,IF(COUNTIF($AE$11:AE24,AE25)=0,P25,0)) -> 0 | AI25: =IF(AF25=0,0,IF(COUNTIF($AF$11:AF24,AF25)=0,P25,0)) -> 25 | AK25: =IF(AA25=0,V25,0) -> 0 | AL25: =IF(AA25=1,V25,0) -> 1250 | AN25: =IF(COUNTIF($D$11:D24,D25)=0,M25,0) -> 25 | AP25: =IF(AA25=1,I25,0)*M25 -> 50 | AQ25: =IF(AA25=1,M25,0) -> 25 | AS25: =IF(AA25=1,I25,0)*V25 -> 2500 | AU25: =IF(AE25=0,0,IF(COUNTIF($AE$11:AE24,AE25)=0,S25,0)) -> 0 | AV25: =IF(AF25=0,0,S25) -> 5 | AX25: =IF(R25>0,I25*R25*AA25,0) -> 0 | AY25: =IF(R25>0,R25*AA25,0) -> 0 | BA25: =IF(S25>0,I25*S25*AA25,0) -> 10 | BB25: =IF(S25>0,S25*AA25,0) -> 5 | BD25: =IF(T25>0,I25*T25*AA25,0) -> 40 | BE25: =IF(T25>0,T25*AA25,0) -> 20 | BG25: =AX25+BA25+BD25 -> 50 | BH25: =AY25+BB25+BE25 -> 25
A26: 16 | B26: АО "Дальневосточная ресурсоснабжающая компания" ОДС | C26: ВЛ | D26: ПС СОЛОВЕЙ КЛЮЧ Ф6 | E26: 6 (6.3) | F26: 20,07 2021.02.06 | G26: 23,05 2021.02.06 | H26: В | I26: 2.97 | J26: ТП 6 (6.3) кВ(Все ЛЭП ТП) | K26: 0 | L26: 0 | M26: 125 | N26: 125 | O26: 0 | P26: 0 | Q26: 0 | R26: 0 | S26: 2 | T26: 123 | U26: 0 | V26: 950 | X26: записи в оперативном | Y26: 3.4.8.5 | Z26: 4.21 | AA26: 0 | AB26: =IF(AA26=0,I26,0) -> 2.97 | AC26: =IF(AA26=1,I26,0) -> 0 | AE26: =IF(AA26=0,D26,0) -> ПС СОЛОВЕЙ КЛЮЧ Ф6 | AF26: =IF(AA26=1,D26,0) -> 0 | AH26: =IF(AE26=0,0,IF(COUNTIF($AE$11:AE25,AE26)=0,P26,0)) -> 0 | AI26: =IF(AF26=0,0,IF(COUNTIF($AF$11:AF25,AF26)=0,P26,0)) -> 0 | AK26: =IF(AA26=0,V26,0) -> 950 | AL26: =IF(AA26=1,V26,0) -> 0 | AN26: =IF(COUNTIF($D$11:D25,D26)=0,M26,0) -> 125 | AP26: =IF(AA26=1,I26,0)*M26 -> 0 | AQ26: =IF(AA26=1,M26,0) -> 0 | AS26: =IF(AA26=1,I26,0)*V26 -> 0 | AU26: =IF(AE26=0,0,IF(COUNTIF($AE$11:AE25,AE26)=0,S26,0)) -> 2 | AV26: =IF(AF26=0,0,S26) -> 0 | AX26: =IF(R26>0,I26*R26*AA26,0) -> 0 | AY26: =IF(R26>0,R26*AA26,0) -> 0 | BA26: =IF(S26>0,I26*S26*AA26,0) -> 0 | BB26: =IF(S26>0,S26*AA26,0) -> 0 | BD26: =IF(T26>0,I26*T26*AA26,0) -> 0 | BE26: =IF(T26>0,T26*AA26,0) -> 0 | BG26: =AX26+BA26+BD26 -> 0 | BH26: =AY26+BB26+BE26 -> 0
A27: 17 | B27: АО "Дальневосточная ресурсоснабжающая компания" ОДС | C27: ВЛ | D27: ПС "Шмидтовка" Ф-16 | E27: 6 (6.3) | F27: 16,46 2021.02.12 | G27: 18,10 2021.02.12 | H27: В | I27: 1.4 | J27: ТП 6 (6.3) кВ(Все ЛЭП ТП) | K27: 0 | L27: 0 | M27: 266 | N27: 0 | O27: 0 | P27: 266 | Q27: 0 | R27: 0 | S27: 8 | T27: 258 | U27: 0 | V27: 1880 | X27: записи в оперативном журнале | Y27: 3.4.8.5 | Z27: 4.21 | AA27: 0 | AB27: =IF(AA27=0,I27,0) -> 1.4 | AC27: =IF(AA27=1,I27,0) -> 0 | AE27: =IF(AA27=0,D27,0) -> ПС "Шмидтовка" Ф-16 | AF27: =IF(AA27=1,D27,0) -> 0 | AH27: =IF(AE27=0,0,IF(COUNTIF($AE$11:AE26,AE27)=0,P27,0)) -> 0 | AI27: =IF(AF27=0,0,IF(COUNTIF($AF$11:AF26,AF27)=0,P27,0)) -> 0 | AK27: =IF(AA27=0,V27,0) -> 1880 | AL27: =IF(AA27=1,V27,0) -> 0 | AN27: =IF(COUNTIF($D$11:D26,D27)=0,M27,0) -> 0 | AP27: =IF(AA27=1,I27,0)*M27 -> 0 | AQ27: =IF(AA27=1,M27,0) -> 0 | AS27: =IF(AA27=1,I27,0)*V27 -> 0 | AU27: =IF(AE27=0,0,IF(COUNTIF($AE$11:AE26,AE27)=0,S27,0)) -> 0 | AV27: =IF(AF27=0,0,S27) -> 0 | AX27: =IF(R27>0,I27*R27*AA27,0) -> 0 | AY27: =IF(R27>0,R27*AA27,0) -> 0 | BA27: =IF(S27>0,I27*S27*AA27,0) -> 0 | BB27: =IF(S27>0,S27*AA27,0) -> 0 | BD27: =IF(T27>0,I27*T27*AA27,0) -> 0 | BE27: =IF(T27>0,T27*AA27,0) -> 0 | BG27: =AX27+BA27+BD27 -> 0 | BH27: =AY27+BB27+BE27 -> 0
A28: 18 | B28: АО "Дальневосточная ресурсоснабжающая компания" | C28: ВЛ | D28: ПС "Тавричанка" Ф-16 | E28: 6 (6.3) | F28: 08,58 2021.02.16 | G28: 09,52 2021.02.16 | H28: В | I28: 0.9 | J28: ТП 6 (6.3) кВ(Все ЛЭП ТП) | K28: 0 | L28: 0 | M28: 390 | N28: 0 | O28: 0 | P28: 390 | Q28: 0 | R28: 0 | S28: 9 | T28: 381 | U28: 0 | V28: 980 | X28: записи в оперативном журнале | Y28: 3.4.8.5 | Z28: 4.21 | AA28: 0 | AB28: =IF(AA28=0,I28,0) -> 0.9 | AC28: =IF(AA28=1,I28,0) -> 0 | AE28: =IF(AA28=0,D28,0) -> ПС "Тавричанка" Ф-16 | AF28: =IF(AA28=1,D28,0) -> 0 | AH28: =IF(AE28=0,0,IF(COUNTIF($AE$11:AE27,AE28)=0,P28,0)) -> 390 | AI28: =IF(AF28=0,0,IF(COUNTIF($AF$11:AF27,AF28)=0,P28,0)) -> 0 | AK28: =IF(AA28=0,V28,0) -> 980 | AL28: =IF(AA28=1,V28,0) -> 0 | AN28: =IF(COUNTIF($D$11:D27,D28)=0,M28,0) -> 390 | AP28: =IF(AA28=1,I28,0)*M28 -> 0 | AQ28: =IF(AA28=1,M28,0) -> 0 | AS28: =IF(AA28=1,I28,0)*V28 -> 0 | AU28: =IF(AE28=0,0,IF(COUNTIF($AE$11:AE27,AE28)=0,S28,0)) -> 9 | AV28: =IF(AF28=0,0,S28) -> 0 | AX28: =IF(R28>0,I28*R28*AA28,0) -> 0 | AY28: =IF(R28>0,R28*AA28,0) -> 0 | BA28: =IF(S28>0,I28*S28*AA28,0) -> 0 | BB28: =IF(S28>0,S28*AA28,0) -> 0 | BD28: =IF(T28>0,I28*T28*AA28,0) -> 0 | BE28: =IF(T28>0,T28*AA28,0) -> 0 | BG28: =AX28+BA28+BD28 -> 0 | BH28: =AY28+BB28+BE28 -> 0
A29: 19 | B29: АО "Дальневосточная ресурсоснабжающая компания" ОДС | C29: ВЛ | D29: ПС "Надеждинская" Ф-19 | E29: 6 (6.3) | F29: 04,50 2021.02.24 | G29: 07,15 2021.02.24 | H29: В | I29: 2.42 | J29: ТП 6 (6.3) кВ(Все ЛЭП ТП) | K29: 0 | L29: 0 | M29: 660 | N29: 0 | O29: 0 | P29: 660 | Q29: 0 | R29: 0 | S29: 17 | T29: 643 | U29: 0 | V29: 3800 | X29: записи в оперативном журнале | Y29: 3.4.8.5 | Z29: 4.21 | AA29: 0 | AB29: =IF(AA29=0,I29,0) -> 2.42 | AC29: =IF(AA29=1,I29,0) -> 0 | AE29: =IF(AA29=0,D29,0) -> ПС "Надеждинская" Ф-19 | AF29: =IF(AA29=1,D29,0) -> 0 | AH29: =IF(AE29=0,0,IF(COUNTIF($AE$11:AE28,AE29)=0,P29,0)) -> 660 | AI29: =IF(AF29=0,0,IF(COUNTIF($AF$11:AF28,AF29)=0,P29,0)) -> 0 | AK29: =IF(AA29=0,V29,0) -> 3800 | AL29: =IF(AA29=1,V29,0) -> 0 | AN29: =IF(COUNTIF($D$11:D28,D29)=0,M29,0) -> 660 | AP29: =IF(AA29=1,I29,0)*M29 -> 0 | AQ29: =IF(AA29=1,M29,0) -> 0 | AS29: =IF(AA29=1,I29,0)*V29 -> 0 | AU29: =IF(AE29=0,0,IF(COUNTIF($AE$11:AE28,AE29)=0,S29,0)) -> 17 | AV29: =IF(AF29=0,0,S29) -> 0 | AX29: =IF(R29>0,I29*R29*AA29,0) -> 0 | AY29: =IF(R29>0,R29*AA29,0) -> 0 | BA29: =IF(S29>0,I29*S29*AA29,0) -> 0 | BB29: =IF(S29>0,S29*AA29,0) -> 0 | BD29: =IF(T29>0,I29*T29*AA29,0) -> 0 | BE29: =IF(T29>0,T29*AA29,0) -> 0 | BG29: =AX29+BA29+BD29 -> 0 | BH29: =AY29+BB29+BE29 -> 0
A30: 20 | B30: АО "Дальневосточная ресурсоснабжающая компания" ОДС | C30: ВЛ | D30: ПС "Славянка" Ф-18 | E30: 10 (10.5) | F30: 16,25 2021.03.02 | G30: 17,10 2021.03.02 | H30: В | I30: 0.75 | J30: ТП 10 (10.5) кВ;ВЛ 10 (10.5) кВ | K30: 0 | L30: 0 | M30: 263 | N30: 0 | O30: 0 | P30: 263 | Q30: 0 | R30: 0 | S30: 10 | T30: 253 | U30: 0 | V30: 1200 | X30: запись в оперативном журнале | Y30: 3.4.12.5 | Z30: 4.21 | AA30: 0 | AB30: =IF(AA30=0,I30,0) -> 0.75 | AC30: =IF(AA30=1,I30,0) -> 0 | AE30: =IF(AA30=0,D30,0) -> ПС "Славянка" Ф-18 | AF30: =IF(AA30=1,D30,0) -> 0 | AH30: =IF(AE30=0,0,IF(COUNTIF($AE$11:AE29,AE30)=0,P30,0)) -> 263 | AI30: =IF(AF30=0,0,IF(COUNTIF($AF$11:AF29,AF30)=0,P30,0)) -> 0 | AK30: =IF(AA30=0,V30,0) -> 1200 | AL30: =IF(AA30=1,V30,0) -> 0 | AN30: =IF(COUNTIF($D$11:D29,D30)=0,M30,0) -> 263 | AP30: =IF(AA30=1,I30,0)*M30 -> 0 | AQ30: =IF(AA30=1,M30,0) -> 0 | AS30: =IF(AA30=1,I30,0)*V30 -> 0 | AU30: =IF(AE30=0,0,IF(COUNTIF($AE$11:AE29,AE30)=0,S30,0)) -> 10 | AV30: =IF(AF30=0,0,S30) -> 0 | AX30: =IF(R30>0,I30*R30*AA30,0) -> 0 | AY30: =IF(R30>0,R30*AA30,0) -> 0 | BA30: =IF(S30>0,I30*S30*AA30,0) -> 0 | BB30: =IF(S30>0,S30*AA30,0) -> 0 | BD30: =IF(T30>0,I30*T30*AA30,0) -> 0 | BE30: =IF(T30>0,T30*AA30,0) -> 0 | BG30: =AX30+BA30+BD30 -> 0 | BH30: =AY30+BB30+BE30 -> 0
A31: 21 | B31: АО "Дальневосточная ресурсоснабжающая компания" ОДС | C31: ВЛ | D31: Ф-17 ПС "Раздольное-1" | E31: 10 (10.5) | F31: 19,58 2021.03.03 | G31: 20,45 2021.03.03 | H31: В | I31: 0.78 | J31: ТП 10 (10.5) кВ(Все ЛЭП ТП) | K31: 0 | L31: 0 | M31: 67 | N31: 0 | O31: 0 | P31: 67 | Q31: 0 | R31: 0 | S31: 6 | T31: 61 | U31: 0 | V31: 1300 | X31: записи в оперативном журнале | Y31: 3.4.12.2 | Z31: 4.21 | AA31: 0 | AB31: =IF(AA31=0,I31,0) -> 0.78 | AC31: =IF(AA31=1,I31,0) -> 0 | AE31: =IF(AA31=0,D31,0) -> Ф-17 ПС "Раздольное-1" | AF31: =IF(AA31=1,D31,0) -> 0 | AH31: =IF(AE31=0,0,IF(COUNTIF($AE$11:AE30,AE31)=0,P31,0)) -> 67 | AI31: =IF(AF31=0,0,IF(COUNTIF($AF$11:AF30,AF31)=0,P31,0)) -> 0 | AK31: =IF(AA31=0,V31,0) -> 1300 | AL31: =IF(AA31=1,V31,0) -> 0 | AN31: =IF(COUNTIF($D$11:D30,D31)=0,M31,0) -> 67 | AP31: =IF(AA31=1,I31,0)*M31 -> 0 | AQ31: =IF(AA31=1,M31,0) -> 0 | AS31: =IF(AA31=1,I31,0)*V31 -> 0 | AU31: =IF(AE31=0,0,IF(COUNTIF($AE$11:AE30,AE31)=0,S31,0)) -> 6 | AV31: =IF(AF31=0,0,S31) -> 0 | AX31: =IF(R31>0,I31*R31*AA31,0) -> 0 | AY31: =IF(R31>0,R31*AA31,0) -> 0 | BA31: =IF(S31>0,I31*S31*AA31,0) -> 0 | BB31: =IF(S31>0,S31*AA31,0) -> 0 | BD31: =IF(T31>0,I31*T31*AA31,0) -> 0 | BE31: =IF(T31>0,T31*AA31,0) -> 0 | BG31: =AX31+BA31+BD31 -> 0 | BH31: =AY31+BB31+BE31 -> 0
A32: 22 | B32: АО "Дальневосточная ресурсоснабжающая компания" ОДС | C32: ВЛ | D32: ПС НАДЕЖДИНСКАЯ Ф7 | E32: 6 (6.3) | F32: 19,10 2021.03.03 | G32: 23,10 2021.03.03 | H32: В | I32: 4 | J32: ТП 6 (6.3) кВ(Все ЛЭП ТП) | K32: 0 | L32: 0 | M32: 288 | N32: 0 | O32: 0 | P32: 288 | Q32: 0 | R32: 0 | S32: 4 | T32: 284 | U32: 0 | V32: 1700 | X32: записи в оперативном журнале | Y32: 3.4.12.5 | Z32: 4.21 | AA32: 0 | AB32: =IF(AA32=0,I32,0) -> 4 | AC32: =IF(AA32=1,I32,0) -> 0 | AE32: =IF(AA32=0,D32,0) -> ПС НАДЕЖДИНСКАЯ Ф7 | AF32: =IF(AA32=1,D32,0) -> 0 | AH32: =IF(AE32=0,0,IF(COUNTIF($AE$11:AE28,AE32)=0,P32,0)) -> 288 | AI32: =IF(AF32=0,0,IF(COUNTIF($AF$11:AF28,AF32)=0,P32,0)) -> 0 | AK32: =IF(AA32=0,V32,0) -> 1700 | AL32: =IF(AA32=1,V32,0) -> 0 | AN32: =IF(COUNTIF($D$11:D28,D32)=0,M32,0) -> 288 | AP32: =IF(AA32=1,I32,0)*M32 -> 0 | AQ32: =IF(AA32=1,M32,0) -> 0 | AS32: =IF(AA32=1,I32,0)*V32 -> 0 | AU32: =IF(AE32=0,0,IF(COUNTIF($AE$11:AE28,AE32)=0,S32,0)) -> 4 | AV32: =IF(AF32=0,0,S32) -> 0 | AX32: =IF(R32>0,I32*R32*AA32,0) -> 0 | AY32: =IF(R32>0,R32*AA32,0) -> 0 | BA32: =IF(S32>0,I32*S32*AA32,0) -> 0 | BB32: =IF(S32>0,S32*AA32,0) -> 0 | BD32: =IF(T32>0,I32*T32*AA32,0) -> 0 | BE32: =IF(T32>0,T32*AA32,0) -> 0 | BG32: =AX32+BA32+BD32 -> 0 | BH32: =AY32+BB32+BE32 -> 0
A33: 23 | B33: АО "Дальневосточная ресурсоснабжающая компания" ОДС | C33: ВЛ | D33: ПС "Шмидтовка" Ф-16 | E33: 6 (6.3) | F33: 21,10 2021.03.09 | G33: 01,10 2021.03.10 | H33: В | I33: 4 | J33: ВЛ 6 (6.3) кВ;КЛ 6 (6.3) кВ;ТП 6 (6.3) кВ(Все ЛЭП ТП) | K33: 0 | L33: 0 | M33: 266 | N33: 0 | O33: 0 | P33: 266 | Q33: 0 | R33: 0 | S33: 8 | T33: 258 | U33: 0 | V33: 987 | X33: записи в оперативном журнале 2021-03-10 | Y33: 3.4.12.2 | Z33: 4.21 | AA33: 0 | AB33: =IF(AA33=0,I33,0) -> 4 | AC33: =IF(AA33=1,I33,0) -> 0 | AE33: =IF(AA33=0,D33,0) -> ПС "Шмидтовка" Ф-16 | AF33: =IF(AA33=1,D33,0) -> 0 | AH33: =IF(AE33=0,0,IF(COUNTIF($AE$11:AE32,AE33)=0,P33,0)) -> 0 | AI33: =IF(AF33=0,0,IF(COUNTIF($AF$11:AF32,AF33)=0,P33,0)) -> 0 | AK33: =IF(AA33=0,V33,0) -> 987 | AL33: =IF(AA33=1,V33,0) -> 0 | AN33: =IF(COUNTIF($D$11:D32,D33)=0,M33,0) -> 0 | AP33: =IF(AA33=1,I33,0)*M33 -> 0 | AQ33: =IF(AA33=1,M33,0) -> 0 | AS33: =IF(AA33=1,I33,0)*V33 -> 0 | AU33: =IF(AE33=0,0,IF(COUNTIF($AE$11:AE32,AE33)=0,S33,0)) -> 0 | AV33: =IF(AF33=0,0,S33) -> 0 | AX33: =IF(R33>0,I33*R33*AA33,0) -> 0 | AY33: =IF(R33>0,R33*AA33,0) -> 0 | BA33: =IF(S33>0,I33*S33*AA33,0) -> 0 | BB33: =IF(S33>0,S33*AA33,0) -> 0 | BD33: =IF(T33>0,I33*T33*AA33,0) -> 0 | BE33: =IF(T33>0,T33*AA33,0) -> 0 | BG33: =AX33+BA33+BD33 -> 0 | BH33: =AY33+BB33+BE33 -> 0
A34: 24 | B34: АО "Дальневосточная ресурсоснабжающая компания" ОДС | C34: ВЛ | D34: ПС "Шмидтовка" Ф-16 | E34: 6 (6.3) | F34: 17,14 2021.03.13 | G34: 20,04 2021.03.13 | H34: В | I34: 2.83 | J34: КЛ 6 (6.3) кВ;ВЛ 6 (6.3) кВ;ТП 6 (6.3) кВ(Все ЛЭП ТП) | K34: 0 | L34: 0 | M34: 266 | N34: 0 | O34: 0 | P34: 266 | Q34: 0 | R34: 0 | S34: 8 | T34: 258 | U34: 0 | V34: 985 | X34: записи в оперативном журнале 2021-03-13 | Y34: 3.4.12.5 | Z34: 4.21 | AA34: 0 | AB34: =IF(AA34=0,I34,0) -> 2.83 | AC34: =IF(AA34=1,I34,0) -> 0 | AE34: =IF(AA34=0,D34,0) -> ПС "Шмидтовка" Ф-16 | AF34: =IF(AA34=1,D34,0) -> 0 | AH34: =IF(AE34=0,0,IF(COUNTIF($AE$11:AE33,AE34)=0,P34,0)) -> 0 | AI34: =IF(AF34=0,0,IF(COUNTIF($AF$11:AF33,AF34)=0,P34,0)) -> 0 | AK34: =IF(AA34=0,V34,0) -> 985 | AL34: =IF(AA34=1,V34,0) -> 0 | AN34: =IF(COUNTIF($D$11:D33,D34)=0,M34,0) -> 0 | AP34: =IF(AA34=1,I34,0)*M34 -> 0 | AQ34: =IF(AA34=1,M34,0) -> 0 | AS34: =IF(AA34=1,I34,0)*V34 -> 0 | AU34: =IF(AE34=0,0,IF(COUNTIF($AE$11:AE33,AE34)=0,S34,0)) -> 0 | AV34: =IF(AF34=0,0,S34) -> 0 | AX34: =IF(R34>0,I34*R34*AA34,0) -> 0 | AY34: =IF(R34>0,R34*AA34,0) -> 0 | BA34: =IF(S34>0,I34*S34*AA34,0) -> 0 | BB34: =IF(S34>0,S34*AA34,0) -> 0 | BD34: =IF(T34>0,I34*T34*AA34,0) -> 0 | BE34: =IF(T34>0,T34*AA34,0) -> 0 | BG34: =AX34+BA34+BD34 -> 0 | BH34: =AY34+BB34+BE34 -> 0
A35: 25 | B35: АО "Дальневосточная ресурсоснабжающая компания" ОДС | C35: ВЛ | D35: ПС "Посьет" Ф-10 | E35: 10 (10.5) | F35: 11,25 2021.03.28 | G35: 12,38 2021.03.28 | H35: В | I35: 1.22 | J35: ТП 10 (10.5) кВ(Все ЛЭП ТП) | K35: 0 | L35: 0 | M35: 64 | N35: 0 | O35: 0 | P35: 64 | Q35: 0 | R35: 0 | S35: 5 | T35: 59 | U35: 0 | V35: 500 | X35: записи в оперативном журнале | Y35: 3.4.12.5 | Z35: 4.21 | AA35: 0 | AB35: =IF(AA35=0,I35,0) -> 1.22 | AC35: =IF(AA35=1,I35,0) -> 0 | AE35: =IF(AA35=0,D35,0) -> ПС "Посьет" Ф-10 | AF35: =IF(AA35=1,D35,0) -> 0 | AH35: =IF(AE35=0,0,IF(COUNTIF($AE$11:AE31,AE35)=0,P35,0)) -> 64 | AI35: =IF(AF35=0,0,IF(COUNTIF($AF$11:AF31,AF35)=0,P35,0)) -> 0 | AK35: =IF(AA35=0,V35,0) -> 500 | AL35: =IF(AA35=1,V35,0) -> 0 | AN35: =IF(COUNTIF($D$11:D31,D35)=0,M35,0) -> 64 | AP35: =IF(AA35=1,I35,0)*M35 -> 0 | AQ35: =IF(AA35=1,M35,0) -> 0 | AS35: =IF(AA35=1,I35,0)*V35 -> 0 | AU35: =IF(AE35=0,0,IF(COUNTIF($AE$11:AE31,AE35)=0,S35,0)) -> 5 | AV35: =IF(AF35=0,0,S35) -> 0 | AX35: =IF(R35>0,I35*R35*AA35,0) -> 0 | AY35: =IF(R35>0,R35*AA35,0) -> 0 | BA35: =IF(S35>0,I35*S35*AA35,0) -> 0 | BB35: =IF(S35>0,S35*AA35,0) -> 0 | BD35: =IF(T35>0,I35*T35*AA35,0) -> 0 | BE35: =IF(T35>0,T35*AA35,0) -> 0 | BG35: =AX35+BA35+BD35 -> 0 | BH35: =AY35+BB35+BE35 -> 0
A36: 26 | B36: АО "Дальневосточная ресурсоснабжающая компания" ОДС | C36: ВЛ | D36: псТроица Ф-7 | E36: 10 (10.5) | F36: 15,50 2021.03.28 | G36: 16,50 2021.03.28 | H36: В | I36: 1 | J36: ТП 10 (10.5) кВ(Все ЛЭП ТП) | K36: 0 | L36: 0 | M36: 2 | N36: 0 | O36: 0 | P36: 2 | Q36: 0 | R36: 0 | S36: 1 | T36: 1 | U36: 0 | V36: 200 | X36: записи в оперативном журнале | Y36: 3.4.12.5 | Z36: 4.21 | AA36: 0 | AB36: =IF(AA36=0,I36,0) -> 1 | AC36: =IF(AA36=1,I36,0) -> 0 | AE36: =IF(AA36=0,D36,0) -> псТроица Ф-7 | AF36: =IF(AA36=1,D36,0) -> 0 | AH36: =IF(AE36=0,0,IF(COUNTIF($AE$11:AE35,AE36)=0,P36,0)) -> 2 | AI36: =IF(AF36=0,0,IF(COUNTIF($AF$11:AF35,AF36)=0,P36,0)) -> 0 | AK36: =IF(AA36=0,V36,0) -> 200 | AL36: =IF(AA36=1,V36,0) -> 0 | AN36: =IF(COUNTIF($D$11:D35,D36)=0,M36,0) -> 2 | AP36: =IF(AA36=1,I36,0)*M36 -> 0 | AQ36: =IF(AA36=1,M36,0) -> 0 | AS36: =IF(AA36=1,I36,0)*V36 -> 0 | AU36: =IF(AE36=0,0,IF(COUNTIF($AE$11:AE35,AE36)=0,S36,0)) -> 1 | AV36: =IF(AF36=0,0,S36) -> 0 | AX36: =IF(R36>0,I36*R36*AA36,0) -> 0 | AY36: =IF(R36>0,R36*AA36,0) -> 0 | BA36: =IF(S36>0,I36*S36*AA36,0) -> 0 | BB36: =IF(S36>0,S36*AA36,0) -> 0 | BD36: =IF(T36>0,I36*T36*AA36,0) -> 0 | BE36: =IF(T36>0,T36*AA36,0) -> 0 | BG36: =AX36+BA36+BD36 -> 0 | BH36: =AY36+BB36+BE36 -> 0
A37: 27 | B37: АО "Дальневосточная ресурсоснабжающая компания" ОДС | C37: ВЛ | D37: пс "Краскино" Ф-5 | E37: 10 (10.5) | F37: 08,30 2021.04.13 | G37: 09,30 2021.04.13 | H37: В | I37: 1 | J37: ТП 10 (10.5) кВ(Все ЛЭП ТП) | K37: 0 | L37: 0 | M37: 12 | N37: 0 | O37: 0 | P37: 12 | Q37: 0 | R37: 0 | S37: 1 | T37: 11 | U37: 0 | V37: 187 | X37: записи в оперативном журнале | Y37: 3.4.8.5 | Z37: 4.21 | AA37: 0 | AB37: =IF(AA37=0,I37,0) -> 1 | AC37: =IF(AA37=1,I37,0) -> 0 | AE37: =IF(AA37=0,D37,0) -> пс "Краскино" Ф-5 | AF37: =IF(AA37=1,D37,0) -> 0 | AH37: =IF(AE37=0,0,IF(COUNTIF($AE$11:AE36,AE37)=0,P37,0)) -> 12 | AI37: =IF(AF37=0,0,IF(COUNTIF($AF$11:AF36,AF37)=0,P37,0)) -> 0 | AK37: =IF(AA37=0,V37,0) -> 187 | AL37: =IF(AA37=1,V37,0) -> 0 | AN37: =IF(COUNTIF($D$11:D36,D37)=0,M37,0) -> 12 | AP37: =IF(AA37=1,I37,0)*M37 -> 0 | AQ37: =IF(AA37=1,M37,0) -> 0 | AS37: =IF(AA37=1,I37,0)*V37 -> 0 | AU37: =IF(AE37=0,0,IF(COUNTIF($AE$11:AE36,AE37)=0,S37,0)) -> 1 | AV37: =IF(AF37=0,0,S37) -> 0 | AX37: =IF(R37>0,I37*R37*AA37,0) -> 0 | AY37: =IF(R37>0,R37*AA37,0) -> 0 | BA37: =IF(S37>0,I37*S37*AA37,0) -> 0 | BB37: =IF(S37>0,S37*AA37,0) -> 0 | BD37: =IF(T37>0,I37*T37*AA37,0) -> 0 | BE37: =IF(T37>0,T37*AA37,0) -> 0 | BG37: =AX37+BA37+BD37 -> 0 | BH37: =AY37+BB37+BE37 -> 0
A38: 28 | B38: АО "Дальневосточная ресурсоснабжающая компания" ОДС | C38: ВЛ | D38: ПС "Давыдовка" Ф-8 | E38: 6 (6.3) | F38: 18,45 2021.04.25 | G38: 21,25 2021.04.25 | H38: В | I38: 2.67 | J38: ВЛ 6 (6.3) кВ;КЛ 6 (6.3) кВ | K38: 0 | L38: 0 | M38: 713 | N38: 0 | O38: 0 | P38: 713 | Q38: 0 | R38: 0 | S38: 3 | T38: 710 | U38: 0 | V38: 935 | X38: записи в оперативном журнале 2021-04-25 | Y38: 3.4.12.2 | Z38: 4.21 | AA38: 0 | AB38: =IF(AA38=0,I38,0) -> 2.67 | AC38: =IF(AA38=1,I38,0) -> 0 | AE38: =IF(AA38=0,D38,0) -> ПС "Давыдовка" Ф-8 | AF38: =IF(AA38=1,D38,0) -> 0 | AH38: =IF(AE38=0,0,IF(COUNTIF($AE$11:AE17,AE38)=0,P38,0)) -> 713 | AI38: =IF(AF38=0,0,IF(COUNTIF($AF$11:AF17,AF38)=0,P38,0)) -> 0 | AK38: =IF(AA38=0,V38,0) -> 935 | AL38: =IF(AA38=1,V38,0) -> 0 | AN38: =IF(COUNTIF($D$11:D17,D38)=0,M38,0) -> 713 | AP38: =IF(AA38=1,I38,0)*M38 -> 0 | AQ38: =IF(AA38=1,M38,0) -> 0 | AS38: =IF(AA38=1,I38,0)*V38 -> 0 | AU38: =IF(AE38=0,0,IF(COUNTIF($AE$11:AE17,AE38)=0,S38,0)) -> 3 | AV38: =IF(AF38=0,0,S38) -> 0 | AX38: =IF(R38>0,I38*R38*AA38,0) -> 0 | AY38: =IF(R38>0,R38*AA38,0) -> 0 | BA38: =IF(S38>0,I38*S38*AA38,0) -> 0 | BB38: =IF(S38>0,S38*AA38,0) -> 0 | BD38: =IF(T38>0,I38*T38*AA38,0) -> 0 | BE38: =IF(T38>0,T38*AA38,0) -> 0 | BG38: =AX38+BA38+BD38 -> 0 | BH38: =AY38+BB38+BE38 -> 0
A39: 29 | B39: АО "Дальневосточная ресурсоснабжающая компания" ОДС | C39: ВЛ | D39: ПС "Славянка" Ф-20 | E39: 10 (10.5) | F39: 17,17 2021.05.07 | G39: 17,36 2021.05.07 | H39: В | I39: 0.32 | J39: ТП 10 (10.5) кВ(Все ЛЭП ТП) | K39: 0 | L39: 0 | M39: 102 | N39: 0 | O39: 0 | P39: 102 | Q39: 0 | R39: 0 | S39: 12 | T39: 90 | U39: 0 | V39: 785 | X39: запись в оперативном журнале | Y39: 3.4.8.5 | AA39: 0 | AB39: =IF(AA39=0,I39,0) -> 0.32 | AC39: =IF(AA39=1,I39,0) -> 0 | AE39: =IF(AA39=0,D39,0) -> ПС "Славянка" Ф-20 | AF39: =IF(AA39=1,D39,0) -> 0 | AH39: =IF(AE39=0,0,IF(COUNTIF($AE$11:AE38,AE39)=0,P39,0)) -> 0 | AI39: =IF(AF39=0,0,IF(COUNTIF($AF$11:AF38,AF39)=0,P39,0)) -> 0 | AK39: =IF(AA39=0,V39,0) -> 785 | AL39: =IF(AA39=1,V39,0) -> 0 | AN39: =IF(COUNTIF($D$11:D38,D39)=0,M39,0) -> 0 | AP39: =IF(AA39=1,I39,0)*M39 -> 0 | AQ39: =IF(AA39=1,M39,0) -> 0 | AS39: =IF(AA39=1,I39,0)*V39 -> 0 | AU39: =IF(AE39=0,0,IF(COUNTIF($AE$11:AE38,AE39)=0,S39,0)) -> 0 | AV39: =IF(AF39=0,0,S39) -> 0 | AX39: =IF(R39>0,I39*R39*AA39,0) -> 0 | AY39: =IF(R39>0,R39*AA39,0) -> 0 | BA39: =IF(S39>0,I39*S39*AA39,0) -> 0 | BB39: =IF(S39>0,S39*AA39,0) -> 0 | BD39: =IF(T39>0,I39*T39*AA39,0) -> 0 | BE39: =IF(T39>0,T39*AA39,0) -> 0 | BG39: =AX39+BA39+BD39 -> 0 | BH39: =AY39+BB39+BE39 -> 0
A40: 30 | B40: АО "Дальневосточная ресурсоснабжающая компания" ОДС | C40: ВЛ | D40: ПС "Славянка" Ф-18 | E40: 10 (10.5) | F40: 17,17 2021.05.07 | G40: 18,08 2021.05.07 | H40: В | I40: 0.85 | J40: ТП 10 (10.5) кВ(Все ЛЭП ТП) | K40: 0 | L40: 0 | M40: 268 | N40: 0 | O40: 0 | P40: 268 | Q40: 0 | R40: 0 | S40: 8 | T40: 260 | U40: 0 | V40: 1400 | X40: запись в оперативном журнале | Y40: 3.4.8.5 | AA40: 0 | AB40: =IF(AA40=0,I40,0) -> 0.85 | AC40: =IF(AA40=1,I40,0) -> 0 | AE40: =IF(AA40=0,D40,0) -> ПС "Славянка" Ф-18 | AF40: =IF(AA40=1,D40,0) -> 0 | AH40: =IF(AE40=0,0,IF(COUNTIF($AE$11:AE39,AE40)=0,P40,0)) -> 0 | AI40: =IF(AF40=0,0,IF(COUNTIF($AF$11:AF39,AF40)=0,P40,0)) -> 0 | AK40: =IF(AA40=0,V40,0) -> 1400 | AL40: =IF(AA40=1,V40,0) -> 0 | AN40: =IF(COUNTIF($D$11:D39,D40)=0,M40,0) -> 0 | AP40: =IF(AA40=1,I40,0)*M40 -> 0 | AQ40: =IF(AA40=1,M40,0) -> 0 | AS40: =IF(AA40=1,I40,0)*V40 -> 0 | AU40: =IF(AE40=0,0,IF(COUNTIF($AE$11:AE39,AE40)=0,S40,0)) -> 0 | AV40: =IF(AF40=0,0,S40) -> 0 | AX40: =IF(R40>0,I40*R40*AA40,0) -> 0 | AY40: =IF(R40>0,R40*AA40,0) -> 0 | BA40: =IF(S40>0,I40*S40*AA40,0) -> 0 | BB40: =IF(S40>0,S40*AA40,0) -> 0 | BD40: =IF(T40>0,I40*T40*AA40,0) -> 0 | BE40: =IF(T40>0,T40*AA40,0) -> 0 | BG40: =AX40+BA40+BD40 -> 0 | BH40: =AY40+BB40+BE40 -> 0
A41: 31 | B41: АО "Дальневосточная ресурсоснабжающая компания" ОДС | C41: ВЛ | D41: ПС Надеждинская Ф-19 | E41: 6 (6.3) | F41: 05,00 2021.06.12 | G41: 07,00 2021.06.12 | H41: В | I41: 2 | J41: ТП 6 (6.3) кВ(Все ЛЭП ТП) | K41: 0 | L41: 0 | M41: 660 | N41: 0 | O41: 0 | P41: 660 | Q41: 0 | R41: 0 | S41: 17 | T41: 643 | U41: 0 | V41: 895 | X41: запись в оперативном журнале | Y41: 3.4.8.4 | Z41: 4.3 | AA41: 0 | AB41: =IF(AA41=0,I41,0) -> 2 | AC41: =IF(AA41=1,I41,0) -> 0 | AE41: =IF(AA41=0,D41,0) -> ПС Надеждинская Ф-19 | AF41: =IF(AA41=1,D41,0) -> 0 | AH41: =IF(AE41=0,0,IF(COUNTIF($AE$11:AE40,AE41)=0,P41,0)) -> 660 | AI41: =IF(AF41=0,0,IF(COUNTIF($AF$11:AF40,AF41)=0,P41,0)) -> 0 | AK41: =IF(AA41=0,V41,0) -> 895 | AL41: =IF(AA41=1,V41,0) -> 0 | AN41: =IF(COUNTIF($D$11:D40,D41)=0,M41,0) -> 660 | AP41: =IF(AA41=1,I41,0)*M41 -> 0 | AQ41: =IF(AA41=1,M41,0) -> 0 | AS41: =IF(AA41=1,I41,0)*V41 -> 0 | AU41: =IF(AE41=0,0,IF(COUNTIF($AE$11:AE40,AE41)=0,S41,0)) -> 17 | AV41: =IF(AF41=0,0,S41) -> 0 | AX41: =IF(R41>0,I41*R41*AA41,0) -> 0 | AY41: =IF(R41>0,R41*AA41,0) -> 0 | BA41: =IF(S41>0,I41*S41*AA41,0) -> 0 | BB41: =IF(S41>0,S41*AA41,0) -> 0 | BD41: =IF(T41>0,I41*T41*AA41,0) -> 0 | BE41: =IF(T41>0,T41*AA41,0) -> 0 | BG41: =AX41+BA41+BD41 -> 0 | BH41: =AY41+BB41+BE41 -> 0
A42: 32 | B42: АО "Дальневосточная ресурсоснабжающая компания" ОДС | C42: ВЛ | D42: ПС "Краскино" Ф-6 | E42: 10 (10.5) | F42: 07,30 2021.06.26 | G42: 09,04 2021.06.26 | H42: В | I42: 1.57 | J42: ВЛ 10 (10.5) кВ;КЛ 10 (10.5) кВ;ТП 10 (10.5) кВ(Все ЛЭП ТП) | K42: 0 | L42: 0 | M42: 304 | N42: 0 | O42: 0 | P42: 304 | Q42: 0 | R42: 0 | S42: 6 | T42: 298 | U42: 0 | V42: 978 | X42: записи в оперативном журнале 2021-06-26 | Y42: 3.4.10 | Z42: 4.21 | AA42: 0 | AB42: =IF(AA42=0,I42,0) -> 1.57 | AC42: =IF(AA42=1,I42,0) -> 0 | AE42: =IF(AA42=0,D42,0) -> ПС "Краскино" Ф-6 | AF42: =IF(AA42=1,D42,0) -> 0 | AH42: =IF(AE42=0,0,IF(COUNTIF($AE$11:AE41,AE42)=0,P42,0)) -> 0 | AI42: =IF(AF42=0,0,IF(COUNTIF($AF$11:AF41,AF42)=0,P42,0)) -> 0 | AK42: =IF(AA42=0,V42,0) -> 978 | AL42: =IF(AA42=1,V42,0) -> 0 | AN42: =IF(COUNTIF($D$11:D41,D42)=0,M42,0) -> 0 | AP42: =IF(AA42=1,I42,0)*M42 -> 0 | AQ42: =IF(AA42=1,M42,0) -> 0 | AS42: =IF(AA42=1,I42,0)*V42 -> 0 | AU42: =IF(AE42=0,0,IF(COUNTIF($AE$11:AE41,AE42)=0,S42,0)) -> 0 | AV42: =IF(AF42=0,0,S42) -> 0 | AX42: =IF(R42>0,I42*R42*AA42,0) -> 0 | AY42: =IF(R42>0,R42*AA42,0) -> 0 | BA42: =IF(S42>0,I42*S42*AA42,0) -> 0 | BB42: =IF(S42>0,S42*AA42,0) -> 0 | BD42: =IF(T42>0,I42*T42*AA42,0) -> 0 | BE42: =IF(T42>0,T42*AA42,0) -> 0 | BG42: =AX42+BA42+BD42 -> 0 | BH42: =AY42+BB42+BE42 -> 0
A43: 33 | B43: АО "Дальневосточная ресурсоснабжающая компания" ОДС | C43: ВЛ | D43: Ф-31 пс Славянка | E43: 10 (10.5) | F43: 11,30 2021.07.05 | G43: 12,30 2021.07.05 | H43: В | I43: 1 | J43: ВЛ 10 (10.5) кВ;КЛ 10 (10.5) кВ;ТП 10 (10.5) кВ(Все ЛЭП ТП) | K43: 0 | L43: 0 | M43: 278 | N43: 0 | O43: 0 | P43: 278 | Q43: 0 | R43: 0 | S43: 29 | T43: 249 | U43: 0 | V43: 1054 | X43: записи в оперативном журнале 2021-07-05 | Y43: 3.4.10 | Z43: 4.21 | AA43: 0 | AB43: =IF(AA43=0,I43,0) -> 1 | AC43: =IF(AA43=1,I43,0) -> 0 | AE43: =IF(AA43=0,D43,0) -> Ф-31 пс Славянка | AF43: =IF(AA43=1,D43,0) -> 0 | AH43: =IF(AE43=0,0,IF(COUNTIF($AE$11:AE42,AE43)=0,P43,0)) -> 278 | AI43: =IF(AF43=0,0,IF(COUNTIF($AF$11:AF42,AF43)=0,P43,0)) -> 0 | AK43: =IF(AA43=0,V43,0) -> 1054 | AL43: =IF(AA43=1,V43,0) -> 0 | AN43: =IF(COUNTIF($D$11:D42,D43)=0,M43,0) -> 278 | AP43: =IF(AA43=1,I43,0)*M43 -> 0 | AQ43: =IF(AA43=1,M43,0) -> 0 | AS43: =IF(AA43=1,I43,0)*V43 -> 0 | AU43: =IF(AE43=0,0,IF(COUNTIF($AE$11:AE42,AE43)=0,S43,0)) -> 29 | AV43: =IF(AF43=0,0,S43) -> 0 | AX43: =IF(R43>0,I43*R43*AA43,0) -> 0 | AY43: =IF(R43>0,R43*AA43,0) -> 0 | BA43: =IF(S43>0,I43*S43*AA43,0) -> 0 | BB43: =IF(S43>0,S43*AA43,0) -> 0 | BD43: =IF(T43>0,I43*T43*AA43,0) -> 0 | BE43: =IF(T43>0,T43*AA43,0) -> 0 | BG43: =AX43+BA43+BD43 -> 0 | BH43: =AY43+BB43+BE43 -> 0
A44: 34 | B44: АО "Дальневосточная ресурсоснабжающая компания" ОДС | C44: ВЛ | D44: псТроица Ф-7 | E44: 10 (10.5) | F44: 06,00 2021.08.22 | G44: 11,00 2021.08.22 | H44: В | I44: 5 | J44: ТП 10 (10.5) кВ(Все ЛЭП ТП) | K44: 0 | L44: 0 | M44: 33 | N44: 0 | O44: 0 | P44: 33 | Q44: 0 | R44: 0 | S44: 2 | T44: 31 | U44: 0 | V44: 492 | X44: записи в оперативном журнале | Y44: 3.4.12 | Z44: 4.21 | AA44: 0 | AB44: =IF(AA44=0,I44,0) -> 5 | AC44: =IF(AA44=1,I44,0) -> 0 | AE44: =IF(AA44=0,D44,0) -> псТроица Ф-7 | AF44: =IF(AA44=1,D44,0) -> 0 | AH44: =IF(AE44=0,0,IF(COUNTIF($AE$11:AE43,AE44)=0,P44,0)) -> 0 | AI44: =IF(AF44=0,0,IF(COUNTIF($AF$11:AF43,AF44)=0,P44,0)) -> 0 | AK44: =IF(AA44=0,V44,0) -> 492 | AL44: =IF(AA44=1,V44,0) -> 0 | AN44: =IF(COUNTIF($D$11:D43,D44)=0,M44,0) -> 0 | AP44: =IF(AA44=1,I44,0)*M44 -> 0 | AQ44: =IF(AA44=1,M44,0) -> 0 | AS44: =IF(AA44=1,I44,0)*V44 -> 0 | AU44: =IF(AE44=0,0,IF(COUNTIF($AE$11:AE43,AE44)=0,S44,0)) -> 0 | AV44: =IF(AF44=0,0,S44) -> 0 | AX44: =IF(R44>0,I44*R44*AA44,0) -> 0 | AY44: =IF(R44>0,R44*AA44,0) -> 0 | BA44: =IF(S44>0,I44*S44*AA44,0) -> 0 | BB44: =IF(S44>0,S44*AA44,0) -> 0 | BD44: =IF(T44>0,I44*T44*AA44,0) -> 0 | BE44: =IF(T44>0,T44*AA44,0) -> 0 | BG44: =AX44+BA44+BD44 -> 0 | BH44: =AY44+BB44+BE44 -> 0
A45: 35 | B45: АО "Дальневосточная ресурсоснабжающая компания" ОДС | C45: ВЛ | D45: псТроица Ф-9 | E45: 10 (10.5) | F45: 06,00 2021.08.22 | G45: 11,00 2021.08.22 | H45: В | I45: 5 | J45: ТП 10 (10.5) кВ(Все ЛЭП ТП) | K45: 0 | L45: 0 | M45: 140 | N45: 0 | O45: 0 | P45: 140 | Q45: 0 | R45: 0 | S45: 7 | T45: 133 | U45: 0 | V45: 395 | X45: записи в оперативном журнале | Y45: 3.4.12 | Z45: 4.21 | AA45: 0 | AB45: =IF(AA45=0,I45,0) -> 5 | AC45: =IF(AA45=1,I45,0) -> 0 | AE45: =IF(AA45=0,D45,0) -> псТроица Ф-9 | AF45: =IF(AA45=1,D45,0) -> 0 | AH45: =IF(AE45=0,0,IF(COUNTIF($AE$11:AE44,AE45)=0,P45,0)) -> 140 | AI45: =IF(AF45=0,0,IF(COUNTIF($AF$11:AF44,AF45)=0,P45,0)) -> 0 | AK45: =IF(AA45=0,V45,0) -> 395 | AL45: =IF(AA45=1,V45,0) -> 0 | AN45: =IF(COUNTIF($D$11:D44,D45)=0,M45,0) -> 140 | AP45: =IF(AA45=1,I45,0)*M45 -> 0 | AQ45: =IF(AA45=1,M45,0) -> 0 | AS45: =IF(AA45=1,I45,0)*V45 -> 0 | AU45: =IF(AE45=0,0,IF(COUNTIF($AE$11:AE44,AE45)=0,S45,0)) -> 7 | AV45: =IF(AF45=0,0,S45) -> 0 | AX45: =IF(R45>0,I45*R45*AA45,0) -> 0 | AY45: =IF(R45>0,R45*AA45,0) -> 0 | BA45: =IF(S45>0,I45*S45*AA45,0) -> 0 | BB45: =IF(S45>0,S45*AA45,0) -> 0 | BD45: =IF(T45>0,I45*T45*AA45,0) -> 0 | BE45: =IF(T45>0,T45*AA45,0) -> 0 | BG45: =AX45+BA45+BD45 -> 0 | BH45: =AY45+BB45+BE45 -> 0
A46: 36 | B46: АО "Дальневосточная ресурсоснабжающая компания" ОДС | C46: ТП | D46: псТроица Ф-18 | E46: 10 (10.5) | F46: 06,00 2021.08.22 | G46: 11,00 2021.08.22 | H46: В | I46: 5 | J46: ТП 10 (10.5) кВ(Все ЛЭП ТП) | K46: 0 | L46: 0 | M46: 383 | N46: 0 | O46: 0 | P46: 383 | Q46: 0 | R46: 0 | S46: 5 | T46: 378 | U46: 0 | V46: 258 | X46: записи в оперативном журнале | Y46: 3.4.12 | Z46: 4.21 | AA46: 0 | AB46: =IF(AA46=0,I46,0) -> 5 | AC46: =IF(AA46=1,I46,0) -> 0 | AE46: =IF(AA46=0,D46,0) -> псТроица Ф-18 | AF46: =IF(AA46=1,D46,0) -> 0 | AH46: =IF(AE46=0,0,IF(COUNTIF($AE$11:AE45,AE46)=0,P46,0)) -> 383 | AI46: =IF(AF46=0,0,IF(COUNTIF($AF$11:AF45,AF46)=0,P46,0)) -> 0 | AK46: =IF(AA46=0,V46,0) -> 258 | AL46: =IF(AA46=1,V46,0) -> 0 | AN46: =IF(COUNTIF($D$11:D45,D46)=0,M46,0) -> 383 | AP46: =IF(AA46=1,I46,0)*M46 -> 0 | AQ46: =IF(AA46=1,M46,0) -> 0 | AS46: =IF(AA46=1,I46,0)*V46 -> 0 | AU46: =IF(AE46=0,0,IF(COUNTIF($AE$11:AE45,AE46)=0,S46,0)) -> 5 | AV46: =IF(AF46=0,0,S46) -> 0 | AX46: =IF(R46>0,I46*R46*AA46,0) -> 0 | AY46: =IF(R46>0,R46*AA46,0) -> 0 | BA46: =IF(S46>0,I46*S46*AA46,0) -> 0 | BB46: =IF(S46>0,S46*AA46,0) -> 0 | BD46: =IF(T46>0,I46*T46*AA46,0) -> 0 | BE46: =IF(T46>0,T46*AA46,0) -> 0 | BG46: =AX46+BA46+BD46 -> 0 | BH46: =AY46+BB46+BE46 -> 0
A47: 37 | B47: АО "Дальневосточная ресурсоснабжающая компания" ОДС | C47: ВЛ | D47: пс Славянка Ф-5 | E47: 10 (10.5) | F47: 12,28 2021.08.23 | G47: 13,43 2021.08.23 | H47: В | I47: 1.25 | J47: ВЛ 10 (10.5) кВ;КЛ 10 (10.5) кВ;ТП 10 (10.5) кВ(Все ЛЭП ТП) | K47: 0 | L47: 0 | M47: 171 | N47: 0 | O47: 0 | P47: 171 | Q47: 0 | R47: 0 | S47: 14 | T47: 157 | U47: 0 | V47: 798 | X47: записи в оперативном журнале 2021-08-23 | Y47: 3.4.10 | Z47: 4.21 | AA47: 0 | AB47: =IF(AA47=0,I47,0) -> 1.25 | AC47: =IF(AA47=1,I47,0) -> 0 | AE47: =IF(AA47=0,D47,0) -> пс Славянка Ф-5 | AF47: =IF(AA47=1,D47,0) -> 0 | AH47: =IF(AE47=0,0,IF(COUNTIF($AE$11:AE46,AE47)=0,P47,0)) -> 171 | AI47: =IF(AF47=0,0,IF(COUNTIF($AF$11:AF46,AF47)=0,P47,0)) -> 0 | AK47: =IF(AA47=0,V47,0) -> 798 | AL47: =IF(AA47=1,V47,0) -> 0 | AN47: =IF(COUNTIF($D$11:D46,D47)=0,M47,0) -> 171 | AP47: =IF(AA47=1,I47,0)*M47 -> 0 | AQ47: =IF(AA47=1,M47,0) -> 0 | AS47: =IF(AA47=1,I47,0)*V47 -> 0 | AU47: =IF(AE47=0,0,IF(COUNTIF($AE$11:AE46,AE47)=0,S47,0)) -> 14 | AV47: =IF(AF47=0,0,S47) -> 0 | AX47: =IF(R47>0,I47*R47*AA47,0) -> 0 | AY47: =IF(R47>0,R47*AA47,0) -> 0 | BA47: =IF(S47>0,I47*S47*AA47,0) -> 0 | BB47: =IF(S47>0,S47*AA47,0) -> 0 | BD47: =IF(T47>0,I47*T47*AA47,0) -> 0 | BE47: =IF(T47>0,T47*AA47,0) -> 0 | BG47: =AX47+BA47+BD47 -> 0 | BH47: =AY47+BB47+BE47 -> 0
A48: 38 | B48: АО "Дальневосточная ресурсоснабжающая компания" ОДС | C48: ВЛ | D48: пс "Краскино" Ф-12 | E48: 10 (10.5) | F48: 09,00 2021.09.08 | G48: 15,00 2021.09.08 | H48: В | I48: 6 | J48: ТП 10 (10.5) кВ(Все ЛЭП ТП) | K48: 0 | L48: 0 | M48: 465 | N48: 0 | O48: 0 | P48: 465 | Q48: 0 | R48: 0 | S48: 7 | T48: 458 | U48: 0 | V48: 1130 | X48: записи в оперативном журнале | Y48: 3.4.12 | Z48: 4.21 | AA48: 0 | AB48: =IF(AA48=0,I48,0) -> 6 | AC48: =IF(AA48=1,I48,0) -> 0 | AE48: =IF(AA48=0,D48,0) -> пс "Краскино" Ф-12 | AF48: =IF(AA48=1,D48,0) -> 0 | AH48: =IF(AE48=0,0,IF(COUNTIF($AE$11:AE47,AE48)=0,P48,0)) -> 465 | AI48: =IF(AF48=0,0,IF(COUNTIF($AF$11:AF47,AF48)=0,P48,0)) -> 0 | AK48: =IF(AA48=0,V48,0) -> 1130 | AL48: =IF(AA48=1,V48,0) -> 0 | AN48: =IF(COUNTIF($D$11:D47,D48)=0,M48,0) -> 465 | AP48: =IF(AA48=1,I48,0)*M48 -> 0 | AQ48: =IF(AA48=1,M48,0) -> 0 | AS48: =IF(AA48=1,I48,0)*V48 -> 0 | AU48: =IF(AE48=0,0,IF(COUNTIF($AE$11:AE47,AE48)=0,S48,0)) -> 7 | AV48: =IF(AF48=0,0,S48) -> 0 | AX48: =IF(R48>0,I48*R48*AA48,0) -> 0 | AY48: =IF(R48>0,R48*AA48,0) -> 0 | BA48: =IF(S48>0,I48*S48*AA48,0) -> 0 | BB48: =IF(S48>0,S48*AA48,0) -> 0 | BD48: =IF(T48>0,I48*T48*AA48,0) -> 0 | BE48: =IF(T48>0,T48*AA48,0) -> 0 | BG48: =AX48+BA48+BD48 -> 0 | BH48: =AY48+BB48+BE48 -> 0
A49: 39 | B49: АО "Дальневосточная ресурсоснабжающая компания" ОДС | C49: ВЛ | D49: пс "Краскино" Ф-12 | E49: 10 (10.5) | F49: 12,58 2021.09.21 | G49: 13,51 2021.09.21 | H49: В | I49: 0.88 | J49: ТП 10 (10.5) кВ(Все ЛЭП ТП) | K49: 0 | L49: 0 | M49: 465 | N49: 0 | O49: 0 | P49: 465 | Q49: 0 | R49: 0 | S49: 7 | T49: 458 | U49: 0 | V49: 646 | X49: запись в оперативном журнале | Y49: 3.4.12 | Z49: 4.21 | AA49: 0 | AB49: =IF(AA49=0,I49,0) -> 0.88 | AC49: =IF(AA49=1,I49,0) -> 0 | AE49: =IF(AA49=0,D49,0) -> пс "Краскино" Ф-12 | AF49: =IF(AA49=1,D49,0) -> 0 | AH49: =IF(AE49=0,0,IF(COUNTIF($AE$11:AE48,AE49)=0,P49,0)) -> 0 | AI49: =IF(AF49=0,0,IF(COUNTIF($AF$11:AF48,AF49)=0,P49,0)) -> 0 | AK49: =IF(AA49=0,V49,0) -> 646 | AL49: =IF(AA49=1,V49,0) -> 0 | AN49: =IF(COUNTIF($D$11:D48,D49)=0,M49,0) -> 0 | AP49: =IF(AA49=1,I49,0)*M49 -> 0 | AQ49: =IF(AA49=1,M49,0) -> 0 | AS49: =IF(AA49=1,I49,0)*V49 -> 0 | AU49: =IF(AE49=0,0,IF(COUNTIF($AE$11:AE48,AE49)=0,S49,0)) -> 0 | AV49: =IF(AF49=0,0,S49) -> 0 | AX49: =IF(R49>0,I49*R49*AA49,0) -> 0 | AY49: =IF(R49>0,R49*AA49,0) -> 0 | BA49: =IF(S49>0,I49*S49*AA49,0) -> 0 | BB49: =IF(S49>0,S49*AA49,0) -> 0 | BD49: =IF(T49>0,I49*T49*AA49,0) -> 0 | BE49: =IF(T49>0,T49*AA49,0) -> 0 | BG49: =AX49+BA49+BD49 -> 0 | BH49: =AY49+BB49+BE49 -> 0
A50: 40 | B50: АО "Дальневосточная ресурсоснабжающая компания" ОДС | C50: ВЛ | D50: ПС "Надеждинская" Ф-19 | E50: 6 (6.3) | F50: 09,00 2021.09.23 | G50: 10,15 2021.09.23 | H50: В | I50: 1.25 | J50: ВЛ 6 (6.3) кВ;КЛ 6 (6.3) кВ;ТП 6 (6.3) кВ(Все ЛЭП ТП) | K50: 0 | L50: 0 | M50: 873 | N50: 0 | O50: 0 | P50: 873 | Q50: 0 | R50: 0 | S50: 5 | T50: 868 | U50: 0 | V50: 987 | X50: записи в оперативном журнале 2021-09-23 | Y50: 3.4.8.4 | Z50: 4.21 | AA50: 0 | AB50: =IF(AA50=0,I50,0) -> 1.25 | AC50: =IF(AA50=1,I50,0) -> 0 | AE50: =IF(AA50=0,D50,0) -> ПС "Надеждинская" Ф-19 | AF50: =IF(AA50=1,D50,0) -> 0 | AH50: =IF(AE50=0,0,IF(COUNTIF($AE$11:AE49,AE50)=0,P50,0)) -> 0 | AI50: =IF(AF50=0,0,IF(COUNTIF($AF$11:AF49,AF50)=0,P50,0)) -> 0 | AK50: =IF(AA50=0,V50,0) -> 987 | AL50: =IF(AA50=1,V50,0) -> 0 | AN50: =IF(COUNTIF($D$11:D49,D50)=0,M50,0) -> 0 | AP50: =IF(AA50=1,I50,0)*M50 -> 0 | AQ50: =IF(AA50=1,M50,0) -> 0 | AS50: =IF(AA50=1,I50,0)*V50 -> 0 | AU50: =IF(AE50=0,0,IF(COUNTIF($AE$11:AE49,AE50)=0,S50,0)) -> 0 | AV50: =IF(AF50=0,0,S50) -> 0 | AX50: =IF(R50>0,I50*R50*AA50,0) -> 0 | AY50: =IF(R50>0,R50*AA50,0) -> 0 | BA50: =IF(S50>0,I50*S50*AA50,0) -> 0 | BB50: =IF(S50>0,S50*AA50,0) -> 0 | BD50: =IF(T50>0,I50*T50*AA50,0) -> 0 | BE50: =IF(T50>0,T50*AA50,0) -> 0 | BG50: =AX50+BA50+BD50 -> 0 | BH50: =AY50+BB50+BE50 -> 0
A51: 41 | B51: АО "Дальневосточная ресурсоснабжающая компания" ОДС | C51: ТП | D51: ПС "Славянка" Ф-31 | E51: 10 (10.5) | F51: 10,20 2021.10.16 | G51: 11,20 2021.10.16 | H51: В | I51: 1 | J51: КЛ 10 (10.5) кВ;КЛ 10 (10.5) кВ | K51: 0 | L51: 0 | M51: 278 | N51: 0 | O51: 0 | P51: 278 | Q51: 0 | R51: 0 | S51: 29 | T51: 249 | U51: 0 | V51: 825 | X51: записи в оперативном журнале | Y51: 3.4.8.5 | Z51: 4.13 | AA51: 0 | AB51: =IF(AA51=0,I51,0) -> 1 | AC51: =IF(AA51=1,I51,0) -> 0 | AE51: =IF(AA51=0,D51,0) -> ПС "Славянка" Ф-31 | AF51: =IF(AA51=1,D51,0) -> 0 | AH51: =IF(AE51=0,0,IF(COUNTIF($AE$11:AE50,AE51)=0,P51,0)) -> 278 | AI51: =IF(AF51=0,0,IF(COUNTIF($AF$11:AF50,AF51)=0,P51,0)) -> 0 | AK51: =IF(AA51=0,V51,0) -> 825 | AL51: =IF(AA51=1,V51,0) -> 0 | AN51: =IF(COUNTIF($D$11:D50,D51)=0,M51,0) -> 278 | AP51: =IF(AA51=1,I51,0)*M51 -> 0 | AQ51: =IF(AA51=1,M51,0) -> 0 | AS51: =IF(AA51=1,I51,0)*V51 -> 0 | AU51: =IF(AE51=0,0,IF(COUNTIF($AE$11:AE50,AE51)=0,S51,0)) -> 29 | AV51: =IF(AF51=0,0,S51) -> 0 | AX51: =IF(R51>0,I51*R51*AA51,0) -> 0 | AY51: =IF(R51>0,R51*AA51,0) -> 0 | BA51: =IF(S51>0,I51*S51*AA51,0) -> 0 | BB51: =IF(S51>0,S51*AA51,0) -> 0 | BD51: =IF(T51>0,I51*T51*AA51,0) -> 0 | BE51: =IF(T51>0,T51*AA51,0) -> 0 | BG51: =AX51+BA51+BD51 -> 0 | BH51: =AY51+BB51+BE51 -> 0
A52: 42 | B52: АО "Дальневосточная ресурсоснабжающая компания" ОДС | C52: ВЛ | D52: псТроица Ф-18 | E52: 10 (10.5) | F52: 20,20 2021.11.03 | G52: 21,45 2021.11.03 | H52: В | I52: 1.42 | J52: ВЛ 10 (10.5) кВ;КЛ 10 (10.5) кВ;ТП 10 (10.5) кВ(Все ЛЭП ТП) | K52: 0 | L52: 0 | M52: 383 | N52: 0 | O52: 0 | P52: 383 | Q52: 0 | R52: 0 | S52: 5 | T52: 378 | U52: 0 | V52: 1078 | X52: записи в оперативном журнале 2021-11-03 | Y52: 3.4.12.2 | Z52: 4.21 | AA52: 0 | AB52: =IF(AA52=0,I52,0) -> 1.42 | AC52: =IF(AA52=1,I52,0) -> 0 | AE52: =IF(AA52=0,D52,0) -> псТроица Ф-18 | AF52: =IF(AA52=1,D52,0) -> 0 | AH52: =IF(AE52=0,0,IF(COUNTIF($AE$11:AE48,AE52)=0,P52,0)) -> 0 | AI52: =IF(AF52=0,0,IF(COUNTIF($AF$11:AF48,AF52)=0,P52,0)) -> 0 | AK52: =IF(AA52=0,V52,0) -> 1078 | AL52: =IF(AA52=1,V52,0) -> 0 | AN52: =IF(COUNTIF($D$11:D48,D52)=0,M52,0) -> 0 | AP52: =IF(AA52=1,I52,0)*M52 -> 0 | AQ52: =IF(AA52=1,M52,0) -> 0 | AS52: =IF(AA52=1,I52,0)*V52 -> 0 | AU52: =IF(AE52=0,0,IF(COUNTIF($AE$11:AE48,AE52)=0,S52,0)) -> 0 | AV52: =IF(AF52=0,0,S52) -> 0 | AX52: =IF(R52>0,I52*R52*AA52,0) -> 0 | AY52: =IF(R52>0,R52*AA52,0) -> 0 | BA52: =IF(S52>0,I52*S52*AA52,0) -> 0 | BB52: =IF(S52>0,S52*AA52,0) -> 0 | BD52: =IF(T52>0,I52*T52*AA52,0) -> 0 | BE52: =IF(T52>0,T52*AA52,0) -> 0 | BG52: =AX52+BA52+BD52 -> 0 | BH52: =AY52+BB52+BE52 -> 0
A53: 43 | B53: АО "Дальневосточная ресурсоснабжающая компания" ОДС | C53: ВЛ | D53: ПС "Славянка" Ф-12 | E53: 10 (10.5) | F53: 14,30 2021.11.08 | G53: 15,10 2021.11.08 | H53: В | I53: 0.67 | J53: ТП 10 (10.5) кВ;ВЛ 10 (10.5) кВ | K53: 0 | L53: 0 | M53: 269 | N53: 0 | O53: 0 | P53: 269 | Q53: 0 | R53: 0 | S53: 25 | T53: 244 | U53: 0 | V53: 360 | X53: записи в оперативном журнале 08.11.2021 | Y53: 3.4.8.5 | Z53: 4.21 | AA53: 0 | AB53: =IF(AA53=0,I53,0) -> 0.67 | AC53: =IF(AA53=1,I53,0) -> 0 | AE53: =IF(AA53=0,D53,0) -> ПС "Славянка" Ф-12 | AF53: =IF(AA53=1,D53,0) -> 0 | AH53: =IF(AE53=0,0,IF(COUNTIF($AE$11:AE52,AE53)=0,P53,0)) -> 269 | AI53: =IF(AF53=0,0,IF(COUNTIF($AF$11:AF52,AF53)=0,P53,0)) -> 0 | AK53: =IF(AA53=0,V53,0) -> 360 | AL53: =IF(AA53=1,V53,0) -> 0 | AN53: =IF(COUNTIF($D$11:D52,D53)=0,M53,0) -> 269 | AP53: =IF(AA53=1,I53,0)*M53 -> 0 | AQ53: =IF(AA53=1,M53,0) -> 0 | AS53: =IF(AA53=1,I53,0)*V53 -> 0 | AU53: =IF(AE53=0,0,IF(COUNTIF($AE$11:AE52,AE53)=0,S53,0)) -> 25 | AV53: =IF(AF53=0,0,S53) -> 0 | AX53: =IF(R53>0,I53*R53*AA53,0) -> 0 | AY53: =IF(R53>0,R53*AA53,0) -> 0 | BA53: =IF(S53>0,I53*S53*AA53,0) -> 0 | BB53: =IF(S53>0,S53*AA53,0) -> 0 | BD53: =IF(T53>0,I53*T53*AA53,0) -> 0 | BE53: =IF(T53>0,T53*AA53,0) -> 0 | BG53: =AX53+BA53+BD53 -> 0 | BH53: =AY53+BB53+BE53 -> 0
A54: 44 | B54: АО "Дальневосточная ресурсоснабжающая компания" ОДС | C54: ВЛ | D54: Ф-19 П/С Троица | E54: 10 (10.5) | F54: 20,38 2021.11.13 | G54: 22,04 2021.11.13 | H54: В | I54: 1.43 | J54: ТП 10 (10.5) кВ(Все ЛЭП ТП) | K54: 0 | L54: 0 | M54: 256 | N54: 0 | O54: 0 | P54: 256 | Q54: 0 | R54: 0 | S54: 9 | T54: 247 | U54: 0 | V54: 570 | X54: запись в оперативном журнале | Y54: 3.4.8.5 | Z54: 4.21 | AA54: 0 | AB54: =IF(AA54=0,I54,0) -> 1.43 | AC54: =IF(AA54=1,I54,0) -> 0 | AE54: =IF(AA54=0,D54,0) -> Ф-19 П/С Троица | AF54: =IF(AA54=1,D54,0) -> 0 | AH54: =IF(AE54=0,0,IF(COUNTIF($AE$11:AE53,AE54)=0,P54,0)) -> 256 | AI54: =IF(AF54=0,0,IF(COUNTIF($AF$11:AF53,AF54)=0,P54,0)) -> 0 | AK54: =IF(AA54=0,V54,0) -> 570 | AL54: =IF(AA54=1,V54,0) -> 0 | AN54: =IF(COUNTIF($D$11:D53,D54)=0,M54,0) -> 256 | AP54: =IF(AA54=1,I54,0)*M54 -> 0 | AQ54: =IF(AA54=1,M54,0) -> 0 | AS54: =IF(AA54=1,I54,0)*V54 -> 0 | AU54: =IF(AE54=0,0,IF(COUNTIF($AE$11:AE53,AE54)=0,S54,0)) -> 9 | AV54: =IF(AF54=0,0,S54) -> 0 | AX54: =IF(R54>0,I54*R54*AA54,0) -> 0 | AY54: =IF(R54>0,R54*AA54,0) -> 0 | BA54: =IF(S54>0,I54*S54*AA54,0) -> 0 | BB54: =IF(S54>0,S54*AA54,0) -> 0 | BD54: =IF(T54>0,I54*T54*AA54,0) -> 0 | BE54: =IF(T54>0,T54*AA54,0) -> 0 | BG54: =AX54+BA54+BD54 -> 0 | BH54: =AY54+BB54+BE54 -> 0
A55: 45 | B55: АО "Дальневосточная ресурсоснабжающая компания" | C55: ВЛ | D55: ПС "Славянка" Ф-18 | E55: 10 (10.5) | F55: 21,05 2021.12.03 | G55: 22,00 2021.12.03 | H55: В | I55: 0.92 | J55: ВЛ 10 (10.5) кВ;ТП 10 (10.5) кВ(Все ЛЭП ТП) | K55: 0 | L55: 0 | M55: 268 | N55: 0 | O55: 0 | P55: 268 | Q55: 0 | R55: 0 | S55: 8 | T55: 260 | U55: 0 | V55: 395 | X55: записи в оперативном журнале от 03.12.2021 | Y55: 3.4.8.5 | Z55: 4.21 | AA55: 0 | AB55: =IF(AA55=0,I55,0) -> 0.92 | AC55: =IF(AA55=1,I55,0) -> 0 | AE55: =IF(AA55=0,D55,0) -> ПС "Славянка" Ф-18 | AF55: =IF(AA55=1,D55,0) -> 0 | AH55: =IF(AE55=0,0,IF(COUNTIF($AE$11:AE51,AE55)=0,P55,0)) -> 0 | AI55: =IF(AF55=0,0,IF(COUNTIF($AF$11:AF51,AF55)=0,P55,0)) -> 0 | AK55: =IF(AA55=0,V55,0) -> 395 | AL55: =IF(AA55=1,V55,0) -> 0 | AN55: =IF(COUNTIF($D$11:D51,D55)=0,M55,0) -> 0 | AP55: =IF(AA55=1,I55,0)*M55 -> 0 | AQ55: =IF(AA55=1,M55,0) -> 0 | AS55: =IF(AA55=1,I55,0)*V55 -> 0 | AU55: =IF(AE55=0,0,IF(COUNTIF($AE$11:AE51,AE55)=0,S55,0)) -> 0 | AV55: =IF(AF55=0,0,S55) -> 0 | AX55: =IF(R55>0,I55*R55*AA55,0) -> 0 | AY55: =IF(R55>0,R55*AA55,0) -> 0 | BA55: =IF(S55>0,I55*S55*AA55,0) -> 0 | BB55: =IF(S55>0,S55*AA55,0) -> 0 | BD55: =IF(T55>0,I55*T55*AA55,0) -> 0 | BE55: =IF(T55>0,T55*AA55,0) -> 0 | BG55: =AX55+BA55+BD55 -> 0 | BH55: =AY55+BB55+BE55 -> 0
A56: 46 | B56: АО "Дальневосточная ресурсоснабжающая компания" ОДС | C56: КЛ | D56: ПС "Славянка" Ф-31 | E56: 10 (10.5) | F56: 17,00 2021.12.14 | G56: 17,40 2021.12.14 | H56: В | I56: 0.67 | J56: ТП 0.38 кВ(Все ЛЭП ТП) | K56: 0 | L56: 0 | M56: 278 | N56: 0 | O56: 0 | P56: 278 | Q56: 0 | R56: 0 | S56: 29 | T56: 249 | U56: 0 | V56: 567 | X56: запись в оперативном журнале | Y56: 3.4.8.4 | Z56: 4.1 | AA56: 0 | AB56: =IF(AA56=0,I56,0) -> 0.67 | AC56: =IF(AA56=1,I56,0) -> 0 | AE56: =IF(AA56=0,D56,0) -> ПС "Славянка" Ф-31 | AF56: =IF(AA56=1,D56,0) -> 0 | AH56: =IF(AE56=0,0,IF(COUNTIF($AE$11:AE55,AE56)=0,P56,0)) -> 0 | AI56: =IF(AF56=0,0,IF(COUNTIF($AF$11:AF55,AF56)=0,P56,0)) -> 0 | AK56: =IF(AA56=0,V56,0) -> 567 | AL56: =IF(AA56=1,V56,0) -> 0 | AN56: =IF(COUNTIF($D$11:D55,D56)=0,M56,0) -> 0 | AP56: =IF(AA56=1,I56,0)*M56 -> 0 | AQ56: =IF(AA56=1,M56,0) -> 0 | AS56: =IF(AA56=1,I56,0)*V56 -> 0 | AU56: =IF(AE56=0,0,IF(COUNTIF($AE$11:AE55,AE56)=0,S56,0)) -> 0 | AV56: =IF(AF56=0,0,S56) -> 0 | AX56: =IF(R56>0,I56*R56*AA56,0) -> 0 | AY56: =IF(R56>0,R56*AA56,0) -> 0 | BA56: =IF(S56>0,I56*S56*AA56,0) -> 0 | BB56: =IF(S56>0,S56*AA56,0) -> 0 | BD56: =IF(T56>0,I56*T56*AA56,0) -> 0 | BE56: =IF(T56>0,T56*AA56,0) -> 0 | BG56: =AX56+BA56+BD56 -> 0 | BH56: =AY56+BB56+BE56 -> 0
A57: ИТОГО по всем прекращениям передачи электрической энергии за отчетный период: | H57: И | I57: =I60+I61 -> 86.99 | J57: х | K57: х | L57: х | M57: =SUM(AN11:AN56) -> 9382 | N57: 0 | O57: 0 | P57: =SUM(AN11:AN56) -> 9382 | Q57: 0 | R57: 0 | S57: =S60+S61 -> 316 | T57: =P57-S57 -> 9066 | U57: 0 | V57: =V60+V61 -> 46776 | X57: х | Y57: х | Z57: х | AA57: 0, 1 | AH57: Примечание: формулы столбца не действуют на 0,4 кв | AO57: сумма | AP57: =SUM(AP11:AP56) -> 402.5 | AQ57: =SUM(AQ11:AQ56) -> 260 | AS57: =SUM(AS11:AS56) -> 3445 | AT57: =SUM(AT11:AT56) -> 0 | AU57: =SUM(AU11:AU56) -> 296 | AV57: =SUM(AV11:AV56) -> 20 | AX57: 0 | AY57: 0 | BA57: =SUM(BA11:BA56)/394 -> 0.08248731 | BB57: =SUM(BB11:BB56)/394 -> 0.050761421 | BD57: =SUM(BD11:BD56)/11344 -> 0.032616361 | BE57: =SUM(BE11:BE56)/11344 -> 0.021156559 | BG57: =SUM(BG11:BG56)/11738 -> 0.034290339 | BH57: =SUM(BH11:BH56)/11738 -> 0.022150281
A58: - по ограничениям, связанным с проведением ремонтных работ | H58: П | I58: - | J58: х | K58: х | L58: х | M58: - | N58: - | O58: - | P58: - | Q58: - | R58: - | S58: - | T58: - | U58: - | V58: - | W58: - | X58: х | Y58: х | Z58: х | AA58: 0 | AX58: ПsaidiСН1 | AY58: ПsaifiСН1 | BA58: ПsaidiСН2 | BB58: ПsaifiСН2 | BD58: ПsaidiНН | BE58: ПsaifiНН | BG58: Пsaidi | BH58: Пsaifi
A59: - по аварийным ограничениям | H59: А | I59: - | J59: х | K59: х | L59: х | M59: - | N59: - | O59: - | P59: - | Q59: - | R59: - | S59: - | T59: - | U59: - | V59: - | W59: - | X59: х | Y59: х | Z59: х | AA59: 0
A60: - по внерегламентным отключениям | H60: В | I60: =SUM(AB11:AB56) -> 83.49 | J60: х | K60: х | L60: х | M60: =SUM(AH11:AH56) -> 8997 | N60: 0 | O60: 0 | P60: =SUM(AH11:AH56) -> 8997 | Q60: 0 | R60: 0 | S60: =AU57 -> 296 | T60: =P60-S60 -> 8701 | U60: 0 | V60: =SUM(AK11:AK56) -> 44896 | X60: х | Y60: х | Z60: х | AA60: 0
A61: - по внерегламентным отключениям, учитываемым при расчете индикативных показателей надежности | H61: В1 | I61: =SUM(AC11:AC56) -> 3.5 | J61: х | K61: х | L61: х | M61: =SUM(AI11:AI56) -> 260 | N61: 0 | O61: 0 | P61: =SUM(AI11:AI56) -> 260 | Q61: 0 | R61: 0 | S61: =AV57 -> 20 | T61: =P61-S61 -> 240 | U61: 0 | V61: =SUM(AL11:AL56) -> 1880 | W61: - | X61: х | Y61: х | Z61: х | AA61: 1
F63: Ведущий инженер ПТС | L63: Шевелев Д.С.
F64: Должность | L64: Ф.И.О. | R64: Подпись

Sheet 8.3.1
A3: Форма 8.3.1. Расчет индикативного показателя уровня надежности оказываемых услуг для территориальных сетевых организаций и организации по управлению единой национальной (общероссийской) электрической сетью, долгосрочный период регулирования которых начинается с 2024 года
A5: АО "Дальневосточная ресурсоснабжающая компания"
A6: Наименование сетевой организации
A8: № п/п | H8: Наименование составляющей показателя | AW8: Метод определения
A9: 1 | H9: Число точек поставки сетевой организации за расчетный период регулирования, шт., в том числе по уровням напряжения, шт.: | AW9: ='1.3.1.'!BF8 -> 12854
A11: 1.1 | H11: ВН (110 кВ и выше), шт. | AW11: ='1.3.1.'!BF10 -> 0
A13: 1.2 | H13: СН1 (27,5 - 60 кВ), шт. | AW13: ='1.3.1.'!BF11 -> 0
A15: 1.3 | H15: СН2 (1 - 20 кВ), шт. | AW15: ='1.3.1.'!BF12 -> 322
A17: 1.4 | H17: НН (до 1 кВ), шт. | AW17: ='1.3.1.'!BF13 -> 12532
A19: 2 | H19: Средняя продолжительность прекращения передачи электрической энергии на точку поставки (Пsaidi), час. | AW19: ='8.1. 2023'!BG35 -> 0.041599502
A21: 3 | H21: Средняя частота прекращений передачи электрической энергии на точку поставки (Пsaifi), шт. | AW21: ='8.1. 2023'!BH35 -> 0.0728178
A23: 4 | H23: Средняя продолжительность прекращения передачи электрической энергии при проведении ремонтных работ (Пsaidi,рем), час. | AW23: 0
A25: 4.1 | H25: Средняя продолжительность прекращения передачи электрической энергии при проведении ремонтных работ по уровню напряжения ВН (ПsaidiВН,рем), ч | AW25: 0
A27: 4.2 | H27: Средняя продолжительность прекращения передачи электрической энергии при проведении ремонтных работ по уровню напряжения СН1 (ПsaidiСН1,рем), ч | AW27: 0
A29: 4.3 | H29: Средняя продолжительность прекращения передачи электрической энергии при проведении ремонтных работ по уровню напряжения СН2 (ПsaidiСН2,рем), ч | AW29: 0
A31: 4.4 | H31: Средняя продолжительность прекращения передачи электрической энергии при проведении ремонтных работ по уровню напряжения НН (ПsaidiНН,рем), ч | AW31: 0
A33: 5 | H33: Средняя частота прекращений передачи электрической энергии при проведении ремонтных работ (Пsaifi,рем), шт. | AW33: 0
A35: 5.1 | H35: Средняя частота прекращений передачи электрической энергии при проведении ремонтных работ по уровню напряжения ВН (ПsaifiВН,рем), ч | AW35: 0
A37: 5.2 | H37: Средняя частота прекращений передачи электрической энергии при проведении ремонтных работ по уровню напряжения СН1 (ПsaifiСН1,рем), ч | AW37: 0
A39: 5.3 | H39: Средняя частота прекращений передачи электрической энергии при проведении ремонтных работ по уровню напряжения СН2 (ПsaifiСН2,рем), ч | AW39: 0
A41: 5.4 | H41: Средняя частота прекращений передачи электрической энергии при проведении ремонтных работ по уровню напряжения НН (ПsaifiНН,рем), ч | AW41: 0
A44: Ведущий инженер ПТС | AL44: Шевелев Д.С.
A45: Должность | AL45: Ф.И.О. | BW45: Подпись
