Workbook

Sheet 1.3.1.
A3: Форма 1.3.1. Расчет показателя средней продолжительности прекращения передачи электрической энергии потребителям услуг и показателя средней частоты прекращений передачи электрической энергии потребителям услуг сетевой организации, долгосрочный период регулирования которой начинается с 2024 года
F4: АО "Дальневосточная ресурсоснабжающая компания"
F5: Наименование сетевой организации
A7: № п/п | H7: Наименование составляющей показателя | BF7: Метод определения
A8: 1 | H8: Число точек поставки сетевой организации за расчетный период регулирования, в том числе по уровням напряжения, шт.: | BF8: 12854
A10: 1.1 | H10: ВН (110 кВ и выше), шт. | BF10: 0
A11: 1.2 | H11: СН1 (27,5 - 60 кВ), шт. | BF11: 0
A12: 1.3 | H12: СН2 (1 - 20 кВ), шт. | BF12: 322
A13: 1.4 | H13: НН (до 1 кВ), шт. | BF13: 12532
A14: 2 | H14: Показатель средней продолжительности прекращений передачи электрической энергии на точку поставки по уровню напряжения ВН (ПsaidiВН), ч | BF14: 0
A16: 3 | H16: Показатель средней продолжительности прекращений передачи электрической энергии на точку поставки по уровню напряжения СН1 (ПsaidiСН1), ч | BF16: ='8.1. 2023'!AX35 -> 0
A18: 4 | H18: Показатель средней продолжительности прекращений передачи электрической энергии на точку поставки по уровню напряжения СН2 (ПsaidiСН2), ч | BF18: ='8.1. 2023'!BA35 -> 0.039875776
A20: 5 | H20: Показатель средней продолжительности прекращений передачи электрической энергии на точку поставки по уровню напряжения НН (ПsaidiНН), ч | BF20: ='8.1. 2023'!BD35 -> 0.041643792
A22: 6 | H22: Показатель средней частоты прекращений передачи электрической энергии на точку поставки по уровню напряжения ВН (ПsaifiВН), шт. | BF22: 0
A24: 7 | H24: Показатель средней частоты прекращений передачи электрической энергии на точку поставки по уровню напряжения СН1 (ПsaifiСН1), шт. | BF24: ='8.1. 2023'!AY35 -> 0
A26: 8 | H26: Показатель средней частоты прекращений передачи электрической энергии на точку поставки по уровню напряжения СН2 (ПsaifiСН2), шт. | BF26: ='8.1. 2023'!BB35 -> 0.068322981
A28: 9 | H28: Показатель средней частоты прекращений передачи электрической энергии на точку поставки по уровню напряжения НН (ПsaifiНН), шт. | BF28: ='8.1. 2023'!BE35 -> 0.072933291
A31: Ведущий инженер ПТС | AL31: Шевелев Д.С.
A32: Должность | AL32: Ф.И.О. | BW32: Подпись

Sheet 1.7.1.
F3: Форма 1.7.1. Предложения сетевой организации по плановым значениям показателей надежности и качества услуг на каждый расчетный период регулирования в пределах долгосрочного периода регулирования (для территориальной сетевой организации, долгосрочный период регулирования которой начинается с 2024 года)
K4: АО "Дальневосточная ресурсоснабжающая компания"
K5: Наименование сетевой организации
A7: № п/п | F7: Показатель | AD7: Мероприятия, направленные на улучшение показателя (информация представляется справочно) | AX7: Описание (обоснование) | BR7: Значение показателя, годы:
BR8: 2025 | BZ8: 2026 | CH8: 2027 | CP8: 2028 | CX8: 2029
F9: Показатель средней продолжительности прекращений передачи электрической энергии на точку поставки по уровню напряжения ВН (ПsaidiВН), час. | BR9: 0 | BZ9: 0 | CH9: 0 | CP9: 0 | CX9: 0
F10: Показатель средней частоты прекращений передачи электрической энергии на точку поставки по уровню напряжения ВН (ПsaifiВН), шт. | BR10: 0 | BZ10: 0 | CH10: 0 | CP10: 0 | CX10: 0
F11: Показатель средней продолжительности прекращений передачи электрической энергии на точку поставки по уровню напряжения СН2 (ПsaidiСН2), час. | BR11: =MIN('1.3.1.'!BF18,AVERAGE('8.1. 2023'!BA35,'8.1. 2022'!BA38,'8.1. 2021'!BA57))*(1-0.015) -> 0.03927764 | BZ11: =BR11*(1-0.015) -> 0.038688475 | CH11: =BZ11*(1-0.015) -> 0.038108148 | CP11: =CH11*(1-0.015) -> 0.037536526 | CX11: =CP11*(1-0.015) -> 0.036973478
F12: Показатель средней частоты прекращений передачи электрической энергии на точку поставки по уровню напряжения СН2 (ПsaifiСН2), шт. | BR12: =MIN('1.3.1.'!BF26,AVERAGE('8.1. 2023'!BB35,'8.1. 2022'!BB38,'8.1. 2021'!BB57))*(1-0.015) -> 0.067298137 | BZ12: =BR12*(1-0.015) -> 0.066288665 | CH12: =BZ12*(1-0.015) -> 0.065294335 | CP12: =CH12*(1-0.015) -> 0.06431492 | CX12: =CP12*(1-0.015) -> 0.063350196
F13: Показатель средней продолжительности прекращений передачи электрической энергии на точку поставки по уровню напряжения СН1 (ПsaidiСН1), час. | BR13: 0 | BZ13: 0 | CH13: 0 | CP13: 0 | CX13: 0
F14: Показатель средней частоты прекращений передачи электрической энергии на точку поставки по уровню напряжения СН1 (ПsaifiСН1), шт. | BR14: 0 | BZ14: 0 | CH14: 0 | CP14: 0 | CX14: 0
F15: Показатель средней продолжительности прекращений передачи электрической энергии на точку поставки по уровню напряжения НН (ПsaidiНН), час. | BR15: =MIN('1.3.1.'!BF20:CZ21,AVERAGE('8.1. 2023'!BD35,'8.1. 2022'!BD38,'8.1. 2021'!BD57))*(1-0.015) -> 0.041019135 | BZ15: =BR15*(1-0.015) -> 0.040403848 | CH15: =BZ15*(1-0.015) -> 0.03979779 | CP15: =CH15*(1-0.015) -> 0.039200823 | CX15: =CP15*(1-0.015) -> 0.038612811
F16: Показатель средней частоты прекращений передачи электрической энергии на точку поставки по уровню напряжения НН (ПsaifiНН), шт. | BR16: =MIN('1.3.1.'!BF28,AVERAGE('8.1. 2023'!BE35,'8.1. 2022'!BE38,'8.1. 2021'!BE57))*(1-0.015) -> 0.068695213 | BZ16: =BR16*(1-0.015) -> 0.067664785 | CH16: =BZ16*(1-0.015) -> 0.066649813 | CP16: =CH16*(1-0.015) -> 0.065650066 | CX16: =CP16*(1-0.015) -> 0.064665315
F17: Показатель уровня качества осуществляемого технологического присоединения (Птпр) | BR17: =0.5*('3.1.'!CA13+'3.2.'!CA13) -> 1 | BZ17: =BR17 -> 1 | CH17: =BZ17 -> 1 | CP17: =CH17 -> 1 | CX17: =CP17 -> 1
F19: Ведущий инженер ПТС | AQ19: Шевелев Д.С.
F20: Должность | AQ20: Ф.И.О. | CB20: Подпись
F23: _____1_Количество заполняемых столбцов должно соответствовать количеству расчетных периодов регулирования в пределах одного долгосрочного периода регулирования, с указанием года отчетного расчетного периода регулирования.
F24: _____2_Информация предоставляется справочно.

Sheet 1.9
A3: Форма 1.9. Данные об экономических и технических характеристиках и (или) условиях деятельности территориальных сетевых организаций
F5: АО "Дальневосточная ресурсоснабжающая компания"
F6: Наименование сетевой организации, субъект Российской Федерации
A8: № п/п | G8: Характеристики и (или) условия деятельности сетевой организации 1 | BE8: Значение характеристики | CC8: Наименование и реквизиты подтверждающих документов (в том числе внутренних документов сетевой организации)
A9: 1 | H9: Протяженность линий электропередачи в одноцепном выражении (ВЛ), км | BE9: 1209.607 | CC9: Договора аренды и свидетельства права собственности
A10: 1.1 | H10: Протяженность кабельных линий электропередачи в одноцепном выражении, км | BE10: 169.656 | CC10: Договора аренды и свидетельства права собственности
A11: 2 | H11: Доля кабельных линий электропередачи в одноцепном выражении от общей протяженности линий электропередачи (Доля КЛ), % | BE11: =BE10/BE9*100 -> 14.025712 | CC11: Договора аренды и свидетельства права собственности
A13: 3 | H13: Максимальной за год число точек поставки, шт. | BE13: ='1.3.1.'!BF8 -> 12854 | CC13: Договор со сбытовой организацией (приложение - перечень точек поставки)
A15: 4 | H15: Число разъединителей и выключателей, шт. | BE15: 1932 | CC15: Договора аренды и свидетельства права собственности
A16: 5 | H16: Средняя летняя температура, °C | BE16: +19,4 | CC16: Регионы России. Основные характеристики субъектов Российской Федерации
A17: 6 | H17: Номер группы (m) территориальной сетевой организации по показателю Пsaidi | BE17: 7 | CC17: -
A19: 7 | H19: Номер группы (m) территориальной сетевой организации по показателю Пsaifi | BE19: 6 | CC19: -
A22: 1 Протяженность линий электропередачи в одноцепном выражении (ВЛ) - протяженность линий электропередачи территориальной сетевой организации в одноцепном выражении (при определении протяженности воздушных и кабельных линий электропередачи низкого напряжения учитываются только трехфазные участки линий), км;
A23: Доля кабельных линий электропередачи в одноцепном выражении от общей протяженности линий электропередачи (Доля КЛ), % - доля кабельных линий электропередачи территориальной сетевой организации, рассчитываемая как отношение протяженности кабельных линий в одноцепном выражении к протяженности ВЛ, %;
A24: Число разъединителей и выключателей - совокупное число разъединителей и выключателей территориальной сетевой организации, шт.;
A25: Средняя летняя температура - в соответствии с данными по средней температуре июля на последнюю имеющуюся дату согласно Сборнику Федеральной службы государственной статистики "Регионы России. Основные характеристики субъектов Российской Федерации".

Sheet 3.1.
A3: Форма 3.1. Отчетные данные для расчета значения показателя качества
A4: рассмотрения заявок на технологическое присоединение к сети в период | CH4: 2023
F6: АО "Дальневосточная ресурсоснабжающая компания"
F7: Наименование сетевой организации (подразделения/филиала)
A9: Показатель | CA9: Число, шт.
A10: 1 | CA10: 2
B11: Число заявок на технологическое присоединение к сети, поданных в соответствии с требованиями нормативных правовых актов, по которым сетевой организацией в соответствующий расчетный период направлен проект договора об осуществлении технологического присоединения заявителей к сети, шт. (Nзаяв тпр) | CA11: 767
B12: Число заявок на технологическое присоединение к сети, поданных в соответствии с требованиями нормативных правовых актов, по которым сетевой организацией в соответствующий расчетный период направлен проект договора об осуществлении технологического присоединения заявителей к сети с нарушением установленных сроков его направления, шт. (Nнсзаяв тпр) | CA12: 0
B13: Показатель качества рассмотрения заявок на технологическое присоединение к сети (Пзаяв тпр) | CA13: 1
A15: Ведущий инженер ПТС | AL15: Шевелев Д.С.
A16: Должность | AL16: Ф.И.О. | BW16: Подпись

Sheet 3.2.
A3: Форма 3.2. Отчетные данные для расчета значения показателя качества исполнения договоров об осуществлении технологического присоединения
X4: заявителей к сети, в период | BG4: 2023
F6: АО "Дальневосточная ресурсоснабжающая компания"
F7: Наименование сетевой организации (подразделения/филиала)
A9: Показатель | CA9: Число, шт.
A10: 1 | CA10: 2
B11: Число договоров об осуществлении технологического присоединения заявителей к сети, исполненных в соответствующем расчетном периоде, по которым имеется подписанный сторонами акт о технологическом присоединении, шт. (Nсд тпр) | CA11: 540
B12: Число договоров об осуществлении технологического присоединения заявителей к сети, исполненных в соответствующем расчетном периоде, по которым имеется подписанный сторонами акт о технологическом присоединении, по которым произошло нарушение установленных сроков технологического присоединения, шт. (Nнссд тпр) | CA12: 0
B13: Показатель качества исполнения договоров об осуществлении технологического присоединения заявителей к сети (Пнс тпр) | CA13: 1
A15: Ведущий инженер ПТС | AL15: Шевелев Д.С.
A16: Должность | AL16: Ф.И.О. | BW16: Подпись

Sheet 8.1. 2023
A2: Форма 8.1. - Журнал учёта данных первичной информации по всем прекращениям передачи электрической энергии, произошедших на объектах электросетевых организаций за | Q2: декабрь | R2: месяц | S2: 2021 | T2: года
A3: АО "Дальневосточная ресурсоснабжающая компания"
A4: наименование электросетевой организации
A6: Данные о факте прекращения передачи электрической энергии (если восстановление режима потребления электрической энергии потребителей услуг в рамках одного прекращения передачи электрической энергии происходило в разное время, то форма заполняется отдельно по каждому такому восстановлению) | J6: Данные о масштабе прекращения передачи электрической энергии в сетевой организации | W6: Перечень смежных сетевых организаций, затронутых прекращением передачи электрической энергии | X6: Данные о причинах прекращения передачи электрической энергии и их расследовании | AA6: Учет в показателях надежности, в т.ч. индикативных показателях наджености (0 - нет, 1 - да)
A7: Номер прекращения передачи электрической энергии / Номер итоговой строки | B7: Наименование структурного подразделения сетевой организации | C7: Вид объекта: Кабельная линия (далее - КЛ), Воздушная линия (далее - ВЛ), Кабельно-воздушная линия (далее - КВЛ), Подстанция (далее - ПС), Трансформаторная подстанция (далее - ТП), Распределительный пункт (далее - РП) | D7: Диспетчерское наименование объекта электросетевого хозяйства сетевой организации, в результате отключения которой произошло прекращение передачи электроэнергии потребителям услуг | E7: Высший класс напряжения отключенного оборудования сетевой организации, кВ | F7: Время и дата начала прекращения передачи электрической энергии (часы, минуты, год, месяц, день) | G7: Время и дата восстановления режима потребления электрической энергии потребителей услуг (часы, минуты, год, месяц, день) | H7: Вид прекращения передачи электроэнергии (П, А, В) | I7: Продолжительность прекращения передачи электрической энергии, час | J7: Перечень объектов электросетевого хозяйства, отключение которых приивело к прекращению передачи электрической энергии потребителям услуг (ПС, ТП, РП, ВЛ, КЛ) | K7: Перечень потребителей 1-й и 2-й категорий надежности, в отношении которых произошло полное ограничение режима потребления электрической энергии | L7: Перечень потребителей 1-й и 2-й категорий надежности, в отношении которых произошло частичное ограничение режима потребления электрической энергии | M7: Количество точек поставки потребителей услуг сетевой организации, в отношении которых произошел перерыв электроснабжения, шт., в том числе: | V7: Суммарный объем фактической нагрузки (мощности) на присоединениях потребителей услуг, по которым произошло прекращение передачи электрической энергии на момент возникновения такого события, кВт
M8: ВСЕГО | N8: в разделении категорий надежности потребителей электрической энергии | Q8: в разделении уровней напряжения ЭПУ потребителя электрической энергии | U8: Смежные сетевые организации и производители электрической энергии | X8: Номер и дата акта расследования технологического нарушения, записи в оперативном журнале | Y8: Код организационной причины аварии | Z8: Код технической причины повреждения оборудования
N9: 1-я категория надежности | O9: 2-я категория надежности | P9: 3-я категория надежности | Q9: ВН (110 кВ и выше) | R9: СН1 (27,5- 60 кВ) | S9: СН2 (1-20 кВ) | T9: НН (до 1 кВ)
A10: 1 | B10: 2 | C10: 3 | D10: 4 | E10: 5 | F10: 6 | G10: 7 | H10: 8 | I10: 9 | J10: 10 | K10: 11 | L10: 12 | M10: 13 | N10: 14 | O10: 15 | P10: 16 | Q10: 17 | R10: 18 | S10: 19 | T10: 20 | U10: 21 | V10: 22 | W10: 23 | X10: 24 | Y10: 25 | Z10: 26 | AA10: 27 | AB10: время В | AC10: время В1 | AE10: фидера В | AF10: фидера В1 | AH10: потребители без повторов для В | AI10: потребители без повторов для В1 | AK10: мощность В | AL10: мощность В1 | AN10: количество точек отключения | AP10: форма 1.3 п2 | AQ10: п3 | AS10: форма1.4 | AU10: повторы по СН-2 для итога В | AV10: повторы по СН-2 для итога В1
A11: 1 | B11: АО "Дальневосточная ресурсоснабжающая компания" | C11: ВЛ | D11: Ф-31 пс Славянка | E11: 10 (10.5) | F11: 08,00 2023.01.20 | G11: 08,40 2023.01.20 | H11: В | I11: 0.67 | J11: ТП 10 (10.5) кВ(Все ЛЭП ТП) | K11: 0 | L11: 0 | M11: 277 | N11: 0 | O11: 0 | P11: 277 | Q11: 0 | R11: 0 | S11: 32 | T11: 245 | U11: 0 | V11: 1300 | X11: запись в оперативном журнале | Y11: 3.4.8 | Z11: 4.11 | AA11: 0 | AB11: =IF(AA11=0,I11,0) -> 0.67 | AC11: =IF(AA11=1,I11,0) -> 0 | AE11: =IF(AA11=0,D11,0) -> Ф-31 пс Славянка | AF11: =IF(AA11=1,D11,0) -> 0 | AH11: =IF(AE11=0,0,IF(COUNTIF(AE10,AE11)=0,P11,0)) -> 277 | AI11: =IF(AF11=0,0,P11) -> 0 | AK11: =IF(AA11=0,V11,0) -> 1300 | AL11: =IF(AA11=1,V11,0) -> 0 | AN11: =M11 -> 277 | AP11: =IF(AA11=1,I11,0)*M11 -> 0 | AQ11: =IF(AA11=1,M11,0) -> 0 | AS11: =IF(AA11=1,I11,0)*V11 -> 0 | AU11: =IF(AE11=0,0,IF(COUNTIF(AE10,AE11)=0,S11,0)) -> 32 | AV11: =IF(AF11=0,0,S11) -> 0 | AX11: =IF(R11>0,I11*R11*AA11,0) -> 0 | AY11: =IF(R11>0,R11*AA11,0) -> 0 | BA11: =IF(S11>0,I11*S11*AA11,0) -> 0 | BB11: =IF(S11>0,S11*AA11,0) -> 0 | BD11: =IF(T11>0,I11*T11*AA11,0) -> 0 | BE11: =IF(T11>0,T11*AA11,0) -> 0 | BG11: =AX11+BA11+BD11 -> 0 | BH11: =AY11+BB11+BE11 -> 0
A12: 2 | B12: АО "Дальневосточная ресурсоснабжающая компания" | C12: ВЛ | D12: пс славянка ф12 | E12: 10 (10.5) | F12: 16,10 2023.02.28 | G12: 17,55 2023.02.28 | H12: В | I12: 1.75 | J12: ВЛ 10 (10.5) кВ тп;ТП 10 (10.5) кВ(Все ЛЭП ТП) | K12: 0 | L12: 0 | M12: 290 | N12: 0 | O12: 0 | P12: 290 | Q12: 0 | R12: 0 | S12: 28 | T12: 262 | U12: 0 | V12: 150 | X12: запись в оперативном журнале | Y12: 3.4.8 | Z12: 4.13 | AA12: 0 | AB12: =IF(AA12=0,I12,0) -> 1.75 | AC12: =IF(AA12=1,I12,0) -> 0 | AE12: =IF(AA12=0,D12,0) -> пс славянка ф12 | AF12: =IF(AA12=1,D12,0) -> 0 | AH12: =IF(AE12=0,0,IF(COUNTIF($AE11:AE$11,AE12)=0,P12,0)) -> 290 | AI12: =IF(AF12=0,0,IF(COUNTIF($AF11:AF$11,AF12)=0,P12,0)) -> 0 | AK12: =IF(AA12=0,V12,0) -> 150 | AL12: =IF(AA12=1,V12,0) -> 0 | AN12: =IF(COUNTIF($D$11:D11,D12)=0,M12,0) -> 290 | AP12: =IF(AA12=1,I12,0)*M12 -> 0 | AQ12: =IF(AA12=1,M12,0) -> 0 | AS12: =IF(AA12=1,I12,0)*V12 -> 0 | AU12: =IF(AE12=0,0,IF(COUNTIF($AE11:AE$11,AE12)=0,S12,0)) -> 28 | AV12: =IF(AF12=0,0,S12) -> 0 | AX12: =IF(R12>0,I12*R12*AA12,0) -> 0 | AY12: =IF(R12>0,R12*AA12,0) -> 0 | BA12: =IF(S12>0,I12*S12*AA12,0) -> 0 | BB12: =IF(S12>0,S12*AA12,0) -> 0 | BD12: =IF(T12>0,I12*T12*AA12,0) -> 0 | BE12: =IF(T12>0,T12*AA12,0) -> 0 | BG12: =AX12+BA12+BD12 -> 0 | BH12: =AY12+BB12+BE12 -> 0
A13: 3 | B13: АО "Дальневосточная ресурсоснабжающая компания" ОДС | C13: ВЛ | D13: Ф-31 пс Славянка | E13: 10 (10.5) | F13: 06,40 2023.03.06 | G13: 08,03 2023.03.06 | H13: В | I13: 1.38 | J13: ТП 10 (10.5) кВ вл(Все ЛЭП ТП) | K13: 0 | L13: 0 | M13: 277 | N13: 0 | O13: 0 | P13: 277 | Q13: 0 | R13: 0 | S13: 32 | T13: 245 | U13: 0 | V13: 230 | X13: запись в оперативном журнале | Y13: 3.4.8 | Z13: 4.4 | AA13: 0 | AB13: =IF(AA13=0,I13,0) -> 1.38 | AC13: =IF(AA13=1,I13,0) -> 0 | AE13: =IF(AA13=0,D13,0) -> Ф-31 пс Славянка | AF13: =IF(AA13=1,D13,0) -> 0 | AH13: =IF(AE13=0,0,IF(COUNTIF($AE$11:AE12,AE13)=0,P13,0)) -> 0 | AI13: =IF(AF13=0,0,IF(COUNTIF($AF$11:AF12,AF13)=0,P13,0)) -> 0 | AK13: =IF(AA13=0,V13,0) -> 230 | AL13: =IF(AA13=1,V13,0) -> 0 | AN13: =IF(COUNTIF($D$11:D12,D13)=0,M13,0) -> 0 | AP13: =IF(AA13=1,I13,0)*M13 -> 0 | AQ13: =IF(AA13=1,M13,0) -> 0 | AS13: =IF(AA13=1,I13,0)*V13 -> 0 | AU13: =IF(AE13=0,0,IF(COUNTIF($AE$11:AE12,AE13)=0,S13,0)) -> 0 | AV13: =IF(AF13=0,0,S13) -> 0 | AX13: =IF(R13>0,I13*R13*AA13,0) -> 0 | AY13: =IF(R13>0,R13*AA13,0) -> 0 | BA13: =IF(S13>0,I13*S13*AA13,0) -> 0 | BB13: =IF(S13>0,S13*AA13,0) -> 0 | BD13: =IF(T13>0,I13*T13*AA13,0) -> 0 | BE13: =IF(T13>0,T13*AA13,0) -> 0 | BG13: =AX13+BA13+BD13 -> 0 | BH13: =AY13+BB13+BE13 -> 0
A14: 4 | B14: АО "Дальневосточная ресурсоснабжающая компания" ОДС | C14: ТП | D14: Ф-31 пс Славянка | E14: 10 (10.5) | F14: 00,40 2023.03.07 | G14: 01,35 2023.03.07 | H14: В | I14: 0.92 | J14: ТП 10 (10.5) кВ кл10кв(Все ЛЭП ТП) | M14: 277 | N14: 0 | O14: 0 | P14: 277 | Q14: 0 | R14: 0 | S14: 32 | T14: 245 | U14: 0 | V14: 215 | X14: записи в оперативном журнале от 07.03.2023 | Y14: 3.4.8.5 | Z14: 4.21 | AA14: 0 | AB14: =IF(AA14=0,I14,0) -> 0.92 | AC14: =IF(AA14=1,I14,0) -> 0 | AE14: =IF(AA14=0,D14,0) -> Ф-31 пс Славянка | AF14: =IF(AA14=1,D14,0) -> 0 | AH14: =IF(AE14=0,0,IF(COUNTIF($AE$11:AE13,AE14)=0,P14,0)) -> 0 | AI14: =IF(AF14=0,0,IF(COUNTIF($AF$11:AF13,AF14)=0,P14,0)) -> 0 | AK14: =IF(AA14=0,V14,0) -> 215 | AL14: =IF(AA14=1,V14,0) -> 0 | AN14: =IF(COUNTIF($D$11:D13,D14)=0,M14,0) -> 0 | AP14: =IF(AA14=1,I14,0)*M14 -> 0 | AQ14: =IF(AA14=1,M14,0) -> 0 | AS14: =IF(AA14=1,I14,0)*V14 -> 0 | AU14: =IF(AE14=0,0,IF(COUNTIF($AE$11:AE13,AE14)=0,S14,0)) -> 0 | AV14: =IF(AF14=0,0,S14) -> 0 | AX14: =IF(R14>0,I14*R14*AA14,0) -> 0 | AY14: =IF(R14>0,R14*AA14,0) -> 0 | BA14: =IF(S14>0,I14*S14*AA14,0) -> 0 | BB14: =IF(S14>0,S14*AA14,0) -> 0 | BD14: =IF(T14>0,I14*T14*AA14,0) -> 0 | BE14: =IF(T14>0,T14*AA14,0) -> 0 | BG14: =AX14+BA14+BD14 -> 0 | BH14: =AY14+BB14+BE14 -> 0
A15: 5 | B15: АО "Дальневосточная ресурсоснабжающая компания" ОДС | C15: ВЛ | D15: ПС "Тавричанка" Ф-16 | E15: 6 (6.3) | F15: 08,32 2023.03.12 | G15: 09,52 2023.03.12 | H15: В | I15: 1.33 | J15: ТП 6 (6.3) кВ(Все ЛЭП ТП) | M15: 392 | N15: 0 | O15: 0 | P15: 392 | Q15: 0 | R15: 0 | S15: 10 | T15: 382 | U15: 0 | V15: 250 | X15: записи в оперативном журнале от12.03.2023 | Y15: 3.4.8.5 | Z15: 4.21 | AA15: 0 | AB15: =IF(AA15=0,I15,0) -> 1.33 | AC15: =IF(AA15=1,I15,0) -> 0 | AE15: =IF(AA15=0,D15,0) -> ПС "Тавричанка" Ф-16 | AF15: =IF(AA15=1,D15,0) -> 0 | AH15: =IF(AE15=0,0,IF(COUNTIF($AE$11:AE14,AE15)=0,P15,0)) -> 392 | AI15: =IF(AF15=0,0,IF(COUNTIF($AF$11:AF14,AF15)=0,P15,0)) -> 0 | AK15: =IF(AA15=0,V15,0) -> 250 | AL15: =IF(AA15=1,V15,0) -> 0 | AN15: =IF(COUNTIF($D$11:D14,D15)=0,M15,0) -> 392 | AP15: =IF(AA15=1,I15,0)*M15 -> 0 | AQ15: =IF(AA15=1,M15,0) -> 0 | AS15: =IF(AA15=1,I15,0)*V15 -> 0 | AU15: =IF(AE15=0,0,IF(COUNTIF($AE$11:AE14,AE15)=0,S15,0)) -> 10 | AV15: =IF(AF15=0,0,S15) -> 0 | AX15: =IF(R15>0,I15*R15*AA15,0) -> 0 | AY15: =IF(R15>0,R15*AA15,0) -> 0 | BA15: =IF(S15>0,I15*S15*AA15,0) -> 0 | BB15: =IF(S15>0,S15*AA15,0) -> 0 | BD15: =IF(T15>0,I15*T15*AA15,0) -> 0 | BE15: =IF(T15>0,T15*AA15,0) -> 0 | BG15: =AX15+BA15+BD15 -> 0 | BH15: =AY15+BB15+BE15 -> 0
A16: 6 | B16: АО "Дальневосточная ресурсоснабжающая компания" ОДС | C16: ВЛ | D16: ПС "Давыдовка" Ф-12 | E16: 6 (6.3) | F16: 13,36 2023.03.13 | G16: 16,21 2023.03.13 | H16: В | I16: 2.75 | J16: ТП 6 (6.3) кВ(Все ЛЭП ТП) | M16: 234 | N16: 0 | O16: 0 | P16: 234 | Q16: 0 | R16: 0 | S16: 7 | T16: 227 | U16: 0 | V16: 50 | X16: записи в оперативном журнале от13.03.2023 | Y16: 3.4.8.5 | Z16: 4.21 | AA16: 0 | AB16: =IF(AA16=0,I16,0) -> 2.75 | AC16: =IF(AA16=1,I16,0) -> 0 | AE16: =IF(AA16=0,D16,0) -> ПС "Давыдовка" Ф-12 | AF16: =IF(AA16=1,D16,0) -> 0 | AH16: =IF(AE16=0,0,IF(COUNTIF($AE$11:AE15,AE16)=0,P16,0)) -> 234 | AI16: =IF(AF16=0,0,IF(COUNTIF($AF$11:AF15,AF16)=0,P16,0)) -> 0 | AK16: =IF(AA16=0,V16,0) -> 50 | AL16: =IF(AA16=1,V16,0) -> 0 | AN16: =IF(COUNTIF($D$11:D15,D16)=0,M16,0) -> 234 | AP16: =IF(AA16=1,I16,0)*M16 -> 0 | AQ16: =IF(AA16=1,M16,0) -> 0 | AS16: =IF(AA16=1,I16,0)*V16 -> 0 | AU16: =IF(AE16=0,0,IF(COUNTIF($AE$11:AE15,AE16)=0,S16,0)) -> 7 | AV16: =IF(AF16=0,0,S16) -> 0 | AX16: =IF(R16>0,I16*R16*AA16,0) -> 0 | AY16: =IF(R16>0,R16*AA16,0) -> 0 | BA16: =IF(S16>0,I16*S16*AA16,0) -> 0 | BB16: =IF(S16>0,S16*AA16,0) -> 0 | BD16: =IF(T16>0,I16*T16*AA16,0) -> 0 | BE16: =IF(T16>0,T16*AA16,0) -> 0 | BG16: =AX16+BA16+BD16 -> 0 | BH16: =AY16+BB16+BE16 -> 0
A17: 7 | B17: АО "Дальневосточная ресурсоснабжающая компания" ОДС | C17: ВЛ | D17: ПС "Славянка" Ф-19 | E17: 10 (10.5) | F17: 08,35 2023.03.26 | G17: 09,10 2023.03.26 | H17: В | I17: 0.58 | J17: ВЛ 10 (10.5) кВ;КЛ 10 (10.5) кВ;ТП 10 (10.5) кВ(Все ЛЭП ТП) | K17: 0 | L17: 0 | M17: 191 | N17: 0 | O17: 0 | P17: 191 | Q17: 0 | R17: 0 | S17: 12 | T17: 179 | U17: 0 | V17: 987 | X17: записи в оперативном журнале 2023-03-26 | Y17: 3.4.10 | Z17: 4.21 | AA17: 0 | AB17: =IF(AA17=0,I17,0) -> 0.58 | AC17: =IF(AA17=1,I17,0) -> 0 | AE17: =IF(AA17=0,D17,0) -> ПС "Славянка" Ф-19 | AF17: =IF(AA17=1,D17,0) -> 0 | AH17: =IF(AE17=0,0,IF(COUNTIF($AE$11:AE16,AE17)=0,P17,0)) -> 191 | AI17: =IF(AF17=0,0,IF(COUNTIF($AF$11:AF16,AF17)=0,P17,0)) -> 0 | AK17: =IF(AA17=0,V17,0) -> 987 | AL17: =IF(AA17=1,V17,0) -> 0 | AN17: =IF(COUNTIF($D$11:D16,D17)=0,M17,0) -> 191 | AP17: =IF(AA17=1,I17,0)*M17 -> 0 | AQ17: =IF(AA17=1,M17,0) -> 0 | AS17: =IF(AA17=1,I17,0)*V17 -> 0 | AU17: =IF(AE17=0,0,IF(COUNTIF($AE$11:AE16,AE17)=0,S17,0)) -> 12 | AV17: =IF(AF17=0,0,S17) -> 0 | AX17: =IF(R17>0,I17*R17*AA17,0) -> 0 | AY17: =IF(R17>0,R17*AA17,0) -> 0 | BA17: =IF(S17>0,I17*S17*AA17,0) -> 0 | BB17: =IF(S17>0,S17*AA17,0) -> 0 | BD17: =IF(T17>0,I17*T17*AA17,0) -> 0 | BE17: =IF(T17>0,T17*AA17,0) -> 0 | BG17: =AX17+BA17+BD17 -> 0 | BH17: =AY17+BB17+BE17 -> 0
A18: 8 | B18: АО "Дальневосточная ресурсоснабжающая компания" ОДС | C18: ВЛ | D18: ПС "Славянка" Ф-19 | E18: 10 (10.5) | F18: 14,25 2023.03.29 | G18: 15,10 2023.03.29 | H18: В | I18: 0.75 | J18: ТП 10 (10.5) кВ(Все ЛЭП ТП) | M18: 191 | N18: 0 | O18: 0 | P18: 191 | Q18: 0 | R18: 0 | S18: 12 | T18: 179 | U18: 0 | V18: 970 | X18: записи в оперативном журнале от 29.03.2023 | Y18: 3.4.8.5 | Z18: 4.21 | AA18: 0 | AB18: =IF(AA18=0,I18,0) -> 0.75 | AC18: =IF(AA18=1,I18,0) -> 0 | AE18: =IF(AA18=0,D18,0) -> ПС "Славянка" Ф-19 | AF18: =IF(AA18=1,D18,0) -> 0 | AH18: =IF(AE18=0,0,IF(COUNTIF($AE$11:AE17,AE18)=0,P18,0)) -> 0 | AI18: =IF(AF18=0,0,IF(COUNTIF($AF$11:AF17,AF18)=0,P18,0)) -> 0 | AK18: =IF(AA18=0,V18,0) -> 970 | AL18: =IF(AA18=1,V18,0) -> 0 | AN18: =IF(COUNTIF($D$11:D17,D18)=0,M18,0) -> 0 | AP18: =IF(AA18=1,I18,0)*M18 -> 0 | AQ18: =IF(AA18=1,M18,0) -> 0 | AS18: =IF(AA18=1,I18,0)*V18 -> 0 | AU18: =IF(AE18=0,0,IF(COUNTIF($AE$11:AE17,AE18)=0,S18,0)) -> 0 | AV18: =IF(AF18=0,0,S18) -> 0 | AX18: =IF(R18>0,I18*R18*AA18,0) -> 0 | AY18: =IF(R18>0,R18*AA18,0) -> 0 | BA18: =IF(S18>0,I18*S18*AA18,0) -> 0 | BB18: =IF(S18>0,S18*AA18,0) -> 0 | BD18: =IF(T18>0,I18*T18*AA18,0) -> 0 | BE18: =IF(T18>0,T18*AA18,0) -> 0 | BG18: =AX18+BA18+BD18 -> 0 | BH18: =AY18+BB18+BE18 -> 0
A19: 9 | B19: АО "Дальневосточная ресурсоснабжающая компания" ОДС | C19: ВЛ | D19: псТроица Ф-18 | E19: 10 (10.5) | F19: 11,25 2023.04.03 | G19: 12,15 2023.04.03 | H19: В | I19: 0.83 | J19: ВЛ 10 (10.5) кВ;КЛ 10 (10.5) кВ;ТП 10 (10.5) кВ(Все ЛЭП ТП) | K19: 0 | L19: 0 | M19: 370 | N19: 0 | O19: 0 | P19: 370 | Q19: 0 | R19: 0 | S19: 4 | T19: 366 | U19: 0 | V19: 1025 | X19: записи в оперативном журнале 2023-04-03 | Y19: 3.4.10 | Z19: 4.21 | AA19: 0 | AB19: =IF(AA19=0,I19,0) -> 0.83 | AC19: =IF(AA19=1,I19,0) -> 0 | AE19: =IF(AA19=0,D19,0) -> псТроица Ф-18 | AF19: =IF(AA19=1,D19,0) -> 0 | AH19: =IF(AE19=0,0,IF(COUNTIF($AE$11:AE18,AE19)=0,P19,0)) -> 370 | AI19: =IF(AF19=0,0,IF(COUNTIF($AF$11:AF18,AF19)=0,P19,0)) -> 0 | AK19: =IF(AA19=0,V19,0) -> 1025 | AL19: =IF(AA19=1,V19,0) -> 0 | AN19: =IF(COUNTIF($D$11:D18,D19)=0,M19,0) -> 370 | AP19: =IF(AA19=1,I19,0)*M19 -> 0 | AQ19: =IF(AA19=1,M19,0) -> 0 | AS19: =IF(AA19=1,I19,0)*V19 -> 0 | AU19: =IF(AE19=0,0,IF(COUNTIF($AE$11:AE18,AE19)=0,S19,0)) -> 4 | AV19: =IF(AF19=0,0,S19) -> 0 | AX19: =IF(R19>0,I19*R19*AA19,0) -> 0 | AY19: =IF(R19>0,R19*AA19,0) -> 0 | BA19: =IF(S19>0,I19*S19*AA19,0) -> 0 | BB19: =IF(S19>0,S19*AA19,0) -> 0 | BD19: =IF(T19>0,I19*T19*AA19,0) -> 0 | BE19: =IF(T19>0,T19*AA19,0) -> 0 | BG19: =AX19+BA19+BD19 -> 0 | BH19: =AY19+BB19+BE19 -> 0
A20: 10 | B20: АО "Дальневосточная ресурсоснабжающая компания" ОДС | C20: КЛ | D20: Ф-31 пс Славянка | E20: 10 (10.5) | F20: 06,30 2023.04.13 | G20: 07,00 2023.04.13 | H20: В | I20: 0.5 | J20: ТП 10 (10.5) кВ(Все ЛЭП ТП) | K20: 0 | L20: 0 | M20: 171 | N20: 0 | O20: 0 | P20: 171 | Q20: 0 | R20: 0 | S20: 23 | T20: 148 | U20: 0 | V20: 828 | X20: записи в оперативном журнале | Y20: 3.4.10 | Z20: 4.21 | AA20: 0 | AB20: =IF(AA20=0,I20,0) -> 0.5 | AC20: =IF(AA20=1,I20,0) -> 0 | AE20: =IF(AA20=0,D20,0) -> Ф-31 пс Славянка | AF20: =IF(AA20=1,D20,0) -> 0 | AH20: =IF(AE20=0,0,IF(COUNTIF($AE$11:AE19,AE20)=0,P20,0)) -> 0 | AI20: =IF(AF20=0,0,IF(COUNTIF($AF$11:AF19,AF20)=0,P20,0)) -> 0 | AK20: =IF(AA20=0,V20,0) -> 828 | AL20: =IF(AA20=1,V20,0) -> 0 | AN20: =IF(COUNTIF($D$11:D19,D20)=0,M20,0) -> 0 | AP20: =IF(AA20=1,I20,0)*M20 -> 0 | AQ20: =IF(AA20=1,M20,0) -> 0 | AS20: =IF(AA20=1,I20,0)*V20 -> 0 | AU20: =IF(AE20=0,0,IF(COUNTIF($AE$11:AE19,AE20)=0,S20,0)) -> 0 | AV20: =IF(AF20=0,0,S20) -> 0 | AX20: =IF(R20>0,I20*R20*AA20,0) -> 0 | AY20: =IF(R20>0,R20*AA20,0) -> 0 | BA20: =IF(S20>0,I20*S20*AA20,0) -> 0 | BB20: =IF(S20>0,S20*AA20,0) -> 0 | BD20: =IF(T20>0,I20*T20*AA20,0) -> 0 | BE20: =IF(T20>0,T20*AA20,0) -> 0 | BG20: =AX20+BA20+BD20 -> 0 | BH20: =AY20+BB20+BE20 -> 0
A21: 11 | B21: АО "Дальневосточная ресурсоснабжающая компания" ОДС | C21: ВЛ | D21: ПС "Посьет" Ф-3 | E21: 10 (10.5) | F21: 07,15 2023.05.18 | G21: 08,45 2023.05.18 | H21: В | I21: 1.5 | J21: ТП 0.38 кВ(Все ЛЭП ТП) | K21: 0 | L21: 0 | M21: 139 | N21: 0 | O21: 0 | P21: 139 | Q21: 0 | R21: 0 | S21: 9 | T21: 130 | U21: 0 | V21: 182 | X21: запись в оперативном журнале | Y21: 3.4.8 | Z21: 4.14 | AA21: 0 | AB21: =IF(AA21=0,I21,0) -> 1.5 | AC21: =IF(AA21=1,I21,0) -> 0 | AE21: =IF(AA21=0,D21,0) -> ПС "Посьет" Ф-3 | AF21: =IF(AA21=1,D21,0) -> 0 | AH21: =IF(AE21=0,0,IF(COUNTIF($AE$11:AE20,AE21)=0,P21,0)) -> 139 | AI21: =IF(AF21=0,0,IF(COUNTIF($AF$11:AF20,AF21)=0,P21,0)) -> 0 | AK21: =IF(AA21=0,V21,0) -> 182 | AL21: =IF(AA21=1,V21,0) -> 0 | AN21: =IF(COUNTIF($D$11:D20,D21)=0,M21,0) -> 139 | AP21: =IF(AA21=1,I21,0)*M21 -> 0 | AQ21: =IF(AA21=1,M21,0) -> 0 | AS21: =IF(AA21=1,I21,0)*V21 -> 0 | AU21: =IF(AE21=0,0,IF(COUNTIF($AE$11:AE20,AE21)=0,S21,0)) -> 9 | AV21: =IF(AF21=0,0,S21) -> 0 | AX21: =IF(R21>0,I21*R21*AA21,0) -> 0 | AY21: =IF(R21>0,R21*AA21,0) -> 0 | BA21: =IF(S21>0,I21*S21*AA21,0) -> 0 | BB21: =IF(S21>0,S21*AA21,0) -> 0 | BD21: =IF(T21>0,I21*T21*AA21,0) -> 0 | BE21: =IF(T21>0,T21*AA21,0) -> 0 | BG21: =AX21+BA21+BD21 -> 0 | BH21: =AY21+BB21+BE21 -> 0
A22: 12 | B22: АО "Дальневосточная ресурсоснабжающая компания" ОДС | C22: ВЛ | D22: ПС "Тавричанка" Ф-16 | E22: 6 (6.3) | F22: 07,55 2023.05.18 | G22: 08,45 2023.05.18 | H22: В | I22: 0.83 | J22: ВЛ 6 (6.3) кВ | K22: 0 | L22: 0 | M22: 392 | N22: 0 | O22: 0 | P22: 392 | Q22: 0 | R22: 0 | S22: 10 | T22: 382 | U22: 0 | V22: 286 | X22: запись в оперативном журнале | Y22: 3.4.8 | Z22: 4.1 | AA22: 0 | AB22: =IF(AA22=0,I22,0) -> 0.83 | AC22: =IF(AA22=1,I22,0) -> 0 | AE22: =IF(AA22=0,D22,0) -> ПС "Тавричанка" Ф-16 | AF22: =IF(AA22=1,D22,0) -> 0 | AH22: =IF(AE22=0,0,IF(COUNTIF($AE$11:AE21,AE22)=0,P22,0)) -> 0 | AI22: =IF(AF22=0,0,IF(COUNTIF($AF$11:AF21,AF22)=0,P22,0)) -> 0 | AK22: =IF(AA22=0,V22,0) -> 286 | AL22: =IF(AA22=1,V22,0) -> 0 | AN22: =IF(COUNTIF($D$11:D21,D22)=0,M22,0) -> 0 | AP22: =IF(AA22=1,I22,0)*M22 -> 0 | AQ22: =IF(AA22=1,M22,0) -> 0 | AS22: =IF(AA22=1,I22,0)*V22 -> 0 | AU22: =IF(AE22=0,0,IF(COUNTIF($AE$11:AE21,AE22)=0,S22,0)) -> 0 | AV22: =IF(AF22=0,0,S22) -> 0 | AX22: =IF(R22>0,I22*R22*AA22,0) -> 0 | AY22: =IF(R22>0,R22*AA22,0) -> 0 | BA22: =IF(S22>0,I22*S22*AA22,0) -> 0 | BB22: =IF(S22>0,S22*AA22,0) -> 0 | BD22: =IF(T22>0,I22*T22*AA22,0) -> 0 | BE22: =IF(T22>0,T22*AA22,0) -> 0 | BG22: =AX22+BA22+BD22 -> 0 | BH22: =AY22+BB22+BE22 -> 0
A23: 13 | B23: АО "Дальневосточная ресурсоснабжающая компания" ОДС | C23: ВЛ | D23: Ф-31 пс Славянка | E23: 10 (10.5) | F23: 05,00 2023.06.09 | G23: 06,15 2023.06.09 | H23: В | I23: 1.25 | J23: ВЛ 10 (10.5) кВ;КЛ 10 (10.5) кВ;ТП 10 (10.5) кВ(Все ЛЭП ТП) | K23: 0 | L23: 0 | M23: 277 | N23: 0 | O23: 0 | P23: 277 | Q23: 0 | R23: 0 | S23: 32 | T23: 245 | U23: 0 | V23: 1050 | X23: записи в оперативном журнале 2023-06-09 | Y23: 3.4.10 | Z23: 4.21 | AA23: 0 | AB23: =IF(AA23=0,I23,0) -> 1.25 | AC23: =IF(AA23=1,I23,0) -> 0 | AE23: =IF(AA23=0,D23,0) -> Ф-31 пс Славянка | AF23: =IF(AA23=1,D23,0) -> 0 | AH23: =IF(AE23=0,0,IF(COUNTIF($AE$11:AE22,AE23)=0,P23,0)) -> 0 | AI23: =IF(AF23=0,0,IF(COUNTIF($AF$11:AF22,AF23)=0,P23,0)) -> 0 | AK23: =IF(AA23=0,V23,0) -> 1050 | AL23: =IF(AA23=1,V23,0) -> 0 | AN23: =IF(COUNTIF($D$11:D22,D23)=0,M23,0) -> 0 | AP23: =IF(AA23=1,I23,0)*M23 -> 0 | AQ23: =IF(AA23=1,M23,0) -> 0 | AS23: =IF(AA23=1,I23,0)*V23 -> 0 | AU23: =IF(AE23=0,0,IF(COUNTIF($AE$11:AE22,AE23)=0,S23,0)) -> 0 | AV23: =IF(AF23=0,0,S23) -> 0 | AX23: =IF(R23>0,I23*R23*AA23,0) -> 0 | AY23: =IF(R23>0,R23*AA23,0) -> 0 | BA23: =IF(S23>0,I23*S23*AA23,0) -> 0 | BB23: =IF(S23>0,S23*AA23,0) -> 0 | BD23: =IF(T23>0,I23*T23*AA23,0) -> 0 | BE23: =IF(T23>0,T23*AA23,0) -> 0 | BG23: =AX23+BA23+BD23 -> 0 | BH23: =AY23+BB23+BE23 -> 0
A24: 14 | B24: АО "Дальневосточная ресурсоснабжающая компания" ОДС | C24: ВЛ | D24: ПС "Славянка" Ф-12 | E24: 10 (10.5) | F24: 06,40 2023.06.22 | G24: 09,50 2023.06.22 | H24: В | I24: 3.17 | J24: ТП 0.38 кВ(Все ЛЭП ТП) | K24: 0 | L24: 0 | M24: 290 | N24: 0 | O24: 0 | P24: 290 | Q24: 0 | R24: 0 | S24: 28 | T24: 262 | U24: 0 | V24: 452 | X24: запись в оперативном журнале | Y24: 3.4.8.5 | Z24: 4.21 | AA24: 0 | AB24: =IF(AA24=0,I24,0) -> 3.17 | AC24: =IF(AA24=1,I24,0) -> 0 | AE24: =IF(AA24=0,D24,0) -> ПС "Славянка" Ф-12 | AF24: =IF(AA24=1,D24,0) -> 0 | AH24: =IF(AE24=0,0,IF(COUNTIF($AE$11:AE23,AE24)=0,P24,0)) -> 290 | AI24: =IF(AF24=0,0,IF(COUNTIF($AF$11:AF23,AF24)=0,P24,0)) -> 0 | AK24: =IF(AA24=0,V24,0) -> 452 | AL24: =IF(AA24=1,V24,0) -> 0 | AN24: =IF(COUNTIF($D$11:D23,D24)=0,M24,0) -> 290 | AP24: =IF(AA24=1,I24,0)*M24 -> 0 | AQ24: =IF(AA24=1,M24,0) -> 0 | AS24: =IF(AA24=1,I24,0)*V24 -> 0 | AU24: =IF(AE24=0,0,IF(COUNTIF($AE$11:AE23,AE24)=0,S24,0)) -> 28 | AV24: =IF(AF24=0,0,S24) -> 0 | AX24: =IF(R24>0,I24*R24*AA24,0) -> 0 | AY24: =IF(R24>0,R24*AA24,0) -> 0 | BA24: =IF(S24>0,I24*S24*AA24,0) -> 0 | BB24: =IF(S24>0,S24*AA24,0) -> 0 | BD24: =IF(T24>0,I24*T24*AA24,0) -> 0 | BE24: =IF(T24>0,T24*AA24,0) -> 0 | BG24: =AX24+BA24+BD24 -> 0 | BH24: =AY24+BB24+BE24 -> 0
A25: 15 | B25: АО "Дальневосточная ресурсоснабжающая компания" ОДС | C25: ВЛ | D25: ПС "Надеждинская" Ф-19 | E25: 6 (6.3) | F25: 06,49 2023.06.26 | G25: 07,09 2023.06.26 | H25: В | I25: 0.33 | J25: ТП 6 (6.3) кВ(Все ЛЭП ТП) | K25: 0 | L25: 0 | M25: 924 | N25: 0 | O25: 0 | P25: 924 | Q25: 0 | R25: 0 | S25: 19 | T25: 905 | U25: 0 | V25: 950 | X25: запись в оперативном журнале | Y25: 3.4.8.5 | Z25: 4.21 | AA25: 0 | AB25: =IF(AA25=0,I25,0) -> 0.33 | AC25: =IF(AA25=1,I25,0) -> 0 | AE25: =IF(AA25=0,D25,0) -> ПС "Надеждинская" Ф-19 | AF25: =IF(AA25=1,D25,0) -> 0 | AH25: =IF(AE25=0,0,IF(COUNTIF($AE$11:AE24,AE25)=0,P25,0)) -> 924 | AI25: =IF(AF25=0,0,IF(COUNTIF($AF$11:AF24,AF25)=0,P25,0)) -> 0 | AK25: =IF(AA25=0,V25,0) -> 950 | AL25: =IF(AA25=1,V25,0) -> 0 | AN25: =IF(COUNTIF($D$11:D24,D25)=0,M25,0) -> 924 | AP25: =IF(AA25=1,I25,0)*M25 -> 0 | AQ25: =IF(AA25=1,M25,0) -> 0 | AS25: =IF(AA25=1,I25,0)*V25 -> 0 | AU25: =IF(AE25=0,0,IF(COUNTIF($AE$11:AE24,AE25)=0,S25,0)) -> 19 | AV25: =IF(AF25=0,0,S25) -> 0 | AX25: =IF(R25>0,I25*R25*AA25,0) -> 0 | AY25: =IF(R25>0,R25*AA25,0) -> 0 | BA25: =IF(S25>0,I25*S25*AA25,0) -> 0 | BB25: =IF(S25>0,S25*AA25,0) -> 0 | BD25: =IF(T25>0,I25*T25*AA25,0) -> 0 | BE25: =IF(T25>0,T25*AA25,0) -> 0 | BG25: =AX25+BA25+BD25 -> 0 | BH25: =AY25+BB25+BE25 -> 0
A26: 16 | B26: АО "Дальневосточная ресурсоснабжающая компания" ОДС | C26: ВЛ | D26: ПС "Славянка" Ф-12 | E26: 10 (10.5) | F26: 16,11 2023.07.02 | G26: 16,52 2023.07.02 | H26: В | I26: 0.68 | J26: ТП 10 (10.5) кВ;ВЛ 10 (10.5) кВ | M26: 290 | N26: 0 | O26: 0 | P26: 290 | Q26: 0 | R26: 0 | S26: 28 | T26: 262 | U26: 0 | V26: 250 | X26: записи в оперативном журнале | Y26: 3.4.8.5 | Z26: 4.21 | AA26: 0 | AB26: =IF(AA26=0,I26,0) -> 0.68 | AC26: =IF(AA26=1,I26,0) -> 0 | AE26: =IF(AA26=0,D26,0) -> ПС "Славянка" Ф-12 | AF26: =IF(AA26=1,D26,0) -> 0 | AH26: =IF(AE26=0,0,IF(COUNTIF($AE$11:AE25,AE26)=0,P26,0)) -> 0 | AI26: =IF(AF26=0,0,IF(COUNTIF($AF$11:AF25,AF26)=0,P26,0)) -> 0 | AK26: =IF(AA26=0,V26,0) -> 250 | AL26: =IF(AA26=1,V26,0) -> 0 | AN26: =IF(COUNTIF($D$11:D25,D26)=0,M26,0) -> 0 | AP26: =IF(AA26=1,I26,0)*M26 -> 0 | AQ26: =IF(AA26=1,M26,0) -> 0 | AS26: =IF(AA26=1,I26,0)*V26 -> 0 | AU26: =IF(AE26=0,0,IF(COUNTIF($AE$11:AE25,AE26)=0,S26,0)) -> 0 | AV26: =IF(AF26=0,0,S26) -> 0 | AX26: =IF(R26>0,I26*R26*AA26,0) -> 0 | AY26: =IF(R26>0,R26*AA26,0) -> 0 | BA26: =IF(S26>0,I26*S26*AA26,0) -> 0 | BB26: =IF(S26>0,S26*AA26,0) -> 0 | BD26: =IF(T26>0,I26*T26*AA26,0) -> 0 | BE26: =IF(T26>0,T26*AA26,0) -> 0 | BG26: =AX26+BA26+BD26 -> 0 | BH26: =AY26+BB26+BE26 -> 0
A27: 17 | B27: АО "Дальневосточная ресурсоснабжающая компания" ОДС | C27: ВЛ | D27: ПС "Раздольное-1" Ф-17 | E27: 10 (10.5) | F27: 09,00 2023.07.24 | G27: 15,00 2023.07.24 | H27: В | I27: 6 | J27: ВЛ 10 (10.5) кВ | K27: 0 | L27: 0 | M27: 67 | N27: 0 | O27: 0 | P27: 67 | Q27: 0 | R27: 0 | S27: 5 | T27: 62 | U27: 0 | V27: 230 | X27: запись в оперативном журнале | Y27: 3.4.8 | Z27: 4.21 | AA27: 0 | AB27: =IF(AA27=0,I27,0) -> 6 | AC27: =IF(AA27=1,I27,0) -> 0 | AE27: =IF(AA27=0,D27,0) -> ПС "Раздольное-1" Ф-17 | AF27: =IF(AA27=1,D27,0) -> 0 | AH27: =IF(AE27=0,0,IF(COUNTIF($AE$11:AE26,AE27)=0,P27,0)) -> 67 | AI27: =IF(AF27=0,0,IF(COUNTIF($AF$11:AF26,AF27)=0,P27,0)) -> 0 | AK27: =IF(AA27=0,V27,0) -> 230 | AL27: =IF(AA27=1,V27,0) -> 0 | AN27: =IF(COUNTIF($D$11:D26,D27)=0,M27,0) -> 67 | AP27: =IF(AA27=1,I27,0)*M27 -> 0 | AQ27: =IF(AA27=1,M27,0) -> 0 | AS27: =IF(AA27=1,I27,0)*V27 -> 0 | AU27: =IF(AE27=0,0,IF(COUNTIF($AE$11:AE26,AE27)=0,S27,0)) -> 5 | AV27: =IF(AF27=0,0,S27) -> 0 | AX27: =IF(R27>0,I27*R27*AA27,0) -> 0 | AY27: =IF(R27>0,R27*AA27,0) -> 0 | BA27: =IF(S27>0,I27*S27*AA27,0) -> 0 | BB27: =IF(S27>0,S27*AA27,0) -> 0 | BD27: =IF(T27>0,I27*T27*AA27,0) -> 0 | BE27: =IF(T27>0,T27*AA27,0) -> 0 | BG27: =AX27+BA27+BD27 -> 0 | BH27: =AY27+BB27+BE27 -> 0
A28: 18 | B28: АО "Дальневосточная ресурсоснабжающая компания" ОДС | C28: ВЛ | D28: ПС "Славянка" Ф-16 | E28: 10 (10.5) | F28: 17,02 2023.07.26 | G28: 17,42 2023.07.26 | H28: В | I28: 0.67 | J28: ТП 10 (10.5) кВ(Все ЛЭП ТП) | M28: 12 | N28: 0 | O28: 0 | P28: 12 | Q28: 0 | R28: 0 | S28: 3 | T28: 9 | U28: 0 | V28: 70 | X28: записи в оперативном журнале от 26.07.2023 | Y28: 3.4.14 | Z28: 4.14 | AA28: 1 | AB28: =IF(AA28=0,I28,0) -> 0 | AC28: =IF(AA28=1,I28,0) -> 0.67 | AE28: =IF(AA28=0,D28,0) -> 0 | AF28: =IF(AA28=1,D28,0) -> ПС "Славянка" Ф-16 | AH28: =IF(AE28=0,0,IF(COUNTIF($AE$11:AE27,AE28)=0,P28,0)) -> 0 | AI28: =IF(AF28=0,0,IF(COUNTIF($AF$11:AF27,AF28)=0,P28,0)) -> 12 | AK28: =IF(AA28=0,V28,0) -> 0 | AL28: =IF(AA28=1,V28,0) -> 70 | AN28: =IF(COUNTIF($D$11:D27,D28)=0,M28,0) -> 12 | AP28: =IF(AA28=1,I28,0)*M28 -> 8.04 | AQ28: =IF(AA28=1,M28,0) -> 12 | AS28: =IF(AA28=1,I28,0)*V28 -> 46.9 | AU28: =IF(AE28=0,0,IF(COUNTIF($AE$11:AE27,AE28)=0,S28,0)) -> 0 | AV28: =IF(AF28=0,0,S28) -> 3 | AX28: =IF(R28>0,I28*R28*AA28,0) -> 0 | AY28: =IF(R28>0,R28*AA28,0) -> 0 | BA28: =IF(S28>0,I28*S28*AA28,0) -> 2.01 | BB28: =IF(S28>0,S28*AA28,0) -> 3 | BD28: =IF(T28>0,I28*T28*AA28,0) -> 6.03 | BE28: =IF(T28>0,T28*AA28,0) -> 9 | BG28: =AX28+BA28+BD28 -> 8.04 | BH28: =AY28+BB28+BE28 -> 12
A29: 19 | B29: АО "Дальневосточная ресурсоснабжающая компания" ОДС | C29: КЛ | D29: ПС "Славянка" Ф-31 | E29: 10 (10.5) | F29: 12,20 2023.08.04 | G29: 13,30 2023.08.04 | H29: В | I29: 1.17 | J29: КЛ 10 (10.5) кВ тп 10кв | M29: 277 | N29: 0 | O29: 0 | P29: 277 | Q29: 0 | R29: 0 | S29: 32 | T29: 245 | U29: 0 | V29: 150 | X29: записи в оперативном журнале | Y29: 3.4.8.5 | Z29: 4.21,4.16 | AA29: 0 | AB29: =IF(AA29=0,I29,0) -> 1.17 | AC29: =IF(AA29=1,I29,0) -> 0 | AE29: =IF(AA29=0,D29,0) -> ПС "Славянка" Ф-31 | AF29: =IF(AA29=1,D29,0) -> 0 | AH29: =IF(AE29=0,0,IF(COUNTIF($AE$11:AE28,AE29)=0,P29,0)) -> 277 | AI29: =IF(AF29=0,0,IF(COUNTIF($AF$11:AF28,AF29)=0,P29,0)) -> 0 | AK29: =IF(AA29=0,V29,0) -> 150 | AL29: =IF(AA29=1,V29,0) -> 0 | AN29: =IF(COUNTIF($D$11:D28,D29)=0,M29,0) -> 277 | AP29: =IF(AA29=1,I29,0)*M29 -> 0 | AQ29: =IF(AA29=1,M29,0) -> 0 | AS29: =IF(AA29=1,I29,0)*V29 -> 0 | AU29: =IF(AE29=0,0,IF(COUNTIF($AE$11:AE28,AE29)=0,S29,0)) -> 32 | AV29: =IF(AF29=0,0,S29) -> 0 | AX29: =IF(R29>0,I29*R29*AA29,0) -> 0 | AY29: =IF(R29>0,R29*AA29,0) -> 0 | BA29: =IF(S29>0,I29*S29*AA29,0) -> 0 | BB29: =IF(S29>0,S29*AA29,0) -> 0 | BD29: =IF(T29>0,I29*T29*AA29,0) -> 0 | BE29: =IF(T29>0,T29*AA29,0) -> 0 | BG29: =AX29+BA29+BD29 -> 0 | BH29: =AY29+BB29+BE29 -> 0
A30: 20 | B30: АО "Дальневосточная ресурсоснабжающая компания" ОДС | C30: ВЛ | D30: ПС "Краскино" Ф-6 | E30: 10 (10.5) | F30: 16,38 2023.09.05 | G30: 21,22 2023.09.05 | H30: В | I30: 4.73 | J30: ТП 10 (10.5) кВ(Все ЛЭП ТП) | K30: 0 | L30: 0 | M30: 296 | N30: 0 | O30: 0 | P30: 296 | Q30: 0 | R30: 0 | S30: 10 | T30: 286 | U30: 0 | V30: 987 | X30: записи в оперативном журнале 2023-09-05 | Y30: 3.4.10 | Z30: 4.21 | AA30: 0 | AB30: =IF(AA30=0,I30,0) -> 4.73 | AC30: =IF(AA30=1,I30,0) -> 0 | AE30: =IF(AA30=0,D30,0) -> ПС "Краскино" Ф-6 | AF30: =IF(AA30=1,D30,0) -> 0 | AH30: =IF(AE30=0,0,IF(COUNTIF($AE$11:AE29,AE30)=0,P30,0)) -> 296 | AI30: =IF(AF30=0,0,IF(COUNTIF($AF$11:AF29,AF30)=0,P30,0)) -> 0 | AK30: =IF(AA30=0,V30,0) -> 987 | AL30: =IF(AA30=1,V30,0) -> 0 | AN30: =IF(COUNTIF($D$11:D29,D30)=0,M30,0) -> 296 | AP30: =IF(AA30=1,I30,0)*M30 -> 0 | AQ30: =IF(AA30=1,M30,0) -> 0 | AS30: =IF(AA30=1,I30,0)*V30 -> 0 | AU30: =IF(AE30=0,0,IF(COUNTIF($AE$11:AE29,AE30)=0,S30,0)) -> 10 | AV30: =IF(AF30=0,0,S30) -> 0 | AX30: =IF(R30>0,I30*R30*AA30,0) -> 0 | AY30: =IF(R30>0,R30*AA30,0) -> 0 | BA30: =IF(S30>0,I30*S30*AA30,0) -> 0 | BB30: =IF(S30>0,S30*AA30,0) -> 0 | BD30: =IF(T30>0,I30*T30*AA30,0) -> 0 | BE30: =IF(T30>0,T30*AA30,0) -> 0 | BG30: =AX30+BA30+BD30 -> 0 | BH30: =AY30+BB30+BE30 -> 0
A31: 21 | B31: АО "Дальневосточная ресурсоснабжающая компания" ОДС | C31: ВЛ | D31: ПС "Славянка" Ф-12 | E31: 10 (10.5) | F31: 04,10 2023.09.24 | G31: 05,15 2023.09.24 | H31: В | I31: 1.08 | J31: ТП 10 (10.5) кВ(Все ЛЭП ТП) | M31: 290 | N31: 0 | O31: 0 | P31: 290 | Q31: 0 | R31: 0 | S31: 28 | T31: 262 | U31: 0 | V31: 40 | X31: записи в оперативном журнале | Y31: 3.4.8.5 | Z31: 4.21 | AA31: 0 | AB31: =IF(AA31=0,I31,0) -> 1.08 | AC31: =IF(AA31=1,I31,0) -> 0 | AE31: =IF(AA31=0,D31,0) -> ПС "Славянка" Ф-12 | AF31: =IF(AA31=1,D31,0) -> 0 | AH31: =IF(AE31=0,0,IF(COUNTIF($AE$11:AE30,AE31)=0,P31,0)) -> 0 | AI31: =IF(AF31=0,0,IF(COUNTIF($AF$11:AF30,AF31)=0,P31,0)) -> 0 | AK31: =IF(AA31=0,V31,0) -> 40 | AL31: =IF(AA31=1,V31,0) -> 0 | AN31: =IF(COUNTIF($D$11:D30,D31)=0,M31,0) -> 0 | AP31: =IF(AA31=1,I31,0)*M31 -> 0 | AQ31: =IF(AA31=1,M31,0) -> 0 | AS31: =IF(AA31=1,I31,0)*V31 -> 0 | AU31: =IF(AE31=0,0,IF(COUNTIF($AE$11:AE30,AE31)=0,S31,0)) -> 0 | AV31: =IF(AF31=0,0,S31) -> 0 | AX31: =IF(R31>0,I31*R31*AA31,0) -> 0 | AY31: =IF(R31>0,R31*AA31,0) -> 0 | BA31: =IF(S31>0,I31*S31*AA31,0) -> 0 | BB31: =IF(S31>0,S31*AA31,0) -> 0 | BD31: =IF(T31>0,I31*T31*AA31,0) -> 0 | BE31: =IF(T31>0,T31*AA31,0) -> 0 | BG31: =AX31+BA31+BD31 -> 0 | BH31: =AY31+BB31+BE31 -> 0
A32: 22 | B32: АО "Дальневосточная ресурсоснабжающая компания" вл | C32: ВЛ | D32: ПС "Надеждинская" Ф-19 | E32: 6 (6.3) | F32: 13,56 2023.10.05 | G32: 14,30 2023.10.05 | H32: В | I32: 0.57 | J32: ВЛ 6 (6.3) кВ | K32: 0 | L32: 0 | M32: 924 | N32: 0 | O32: 0 | P32: 924 | Q32: 0 | R32: 0 | S32: 19 | T32: 905 | U32: 0 | V32: 285 | X32: запись в оперативном журнале | Y32: 3.4.14 | Z32: 4.14 | AA32: 1 | AB32: =IF(AA32=0,I32,0) -> 0 | AC32: =IF(AA32=1,I32,0) -> 0.57 | AE32: =IF(AA32=0,D32,0) -> 0 | AF32: =IF(AA32=1,D32,0) -> ПС "Надеждинская" Ф-19 | AH32: =IF(AE32=0,0,IF(COUNTIF($AE$11:AE31,AE32)=0,P32,0)) -> 0 | AI32: =IF(AF32=0,0,IF(COUNTIF($AF$11:AF31,AF32)=0,P32,0)) -> 924 | AK32: =IF(AA32=0,V32,0) -> 0 | AL32: =IF(AA32=1,V32,0) -> 285 | AN32: =IF(COUNTIF($D$11:D31,D32)=0,M32,0) -> 0 | AP32: =IF(AA32=1,I32,0)*M32 -> 526.68 | AQ32: =IF(AA32=1,M32,0) -> 924 | AS32: =IF(AA32=1,I32,0)*V32 -> 162.45 | AU32: =IF(AE32=0,0,IF(COUNTIF($AE$11:AE31,AE32)=0,S32,0)) -> 0 | AV32: =IF(AF32=0,0,S32) -> 19 | AX32: =IF(R32>0,I32*R32*AA32,0) -> 0 | AY32: =IF(R32>0,R32*AA32,0) -> 0 | BA32: =IF(S32>0,I32*S32*AA32,0) -> 10.83 | BB32: =IF(S32>0,S32*AA32,0) -> 19 | BD32: =IF(T32>0,I32*T32*AA32,0) -> 515.85 | BE32: =IF(T32>0,T32*AA32,0) -> 905 | BG32: =AX32+BA32+BD32 -> 526.68 | BH32: =AY32+BB32+BE32 -> 924
A33: 23 | B33: АО "Дальневосточная ресурсоснабжающая компания" ОДС | C33: ВЛ | D33: ПС "Раздольное-1" Ф-17 | E33: 10 (10.5) | F33: 16,20 2023.10.06 | G33: 16,45 2023.10.06 | H33: В | I33: 0.42 | J33: ТП 10 (10.5) кВ(Все ЛЭП ТП) | K33: 0 | L33: 0 | M33: 67 | N33: 0 | O33: 0 | P33: 67 | Q33: 0 | R33: 0 | S33: 5 | T33: 62 | U33: 0 | V33: 194 | X33: записи в оперативном журнале от 06.10 2023 | Y33: 3.4.8.5 | Z33: 4.21 | AA33: 0 | AB33: =IF(AA33=0,I33,0) -> 0.42 | AC33: =IF(AA33=1,I33,0) -> 0 | AE33: =IF(AA33=0,D33,0) -> ПС "Раздольное-1" Ф-17 | AF33: =IF(AA33=1,D33,0) -> 0 | AH33: =IF(AE33=0,0,IF(COUNTIF($AE$11:AE32,AE33)=0,P33,0)) -> 0 | AI33: =IF(AF33=0,0,IF(COUNTIF($AF$11:AF32,AF33)=0,P33,0)) -> 0 | AK33: =IF(AA33=0,V33,0) -> 194 | AL33: =IF(AA33=1,V33,0) -> 0 | AN33: =IF(COUNTIF($D$11:D32,D33)=0,M33,0) -> 0 | AP33: =IF(AA33=1,I33,0)*M33 -> 0 | AQ33: =IF(AA33=1,M33,0) -> 0 | AS33: =IF(AA33=1,I33,0)*V33 -> 0 | AU33: =IF(AE33=0,0,IF(COUNTIF($AE$11:AE32,AE33)=0,S33,0)) -> 0 | AV33: =IF(AF33=0,0,S33) -> 0 | AX33: =IF(R33>0,I33*R33*AA33,0) -> 0 | AY33: =IF(R33>0,R33*AA33,0) -> 0 | BA33: =IF(S33>0,I33*S33*AA33,0) -> 0 | BB33: =IF(S33>0,S33*AA33,0) -> 0 | BD33: =IF(T33>0,I33*T33*AA33,0) -> 0 | BE33: =IF(T33>0,T33*AA33,0) -> 0 | BG33: =AX33+BA33+BD33 -> 0 | BH33: =AY33+BB33+BE33 -> 0
A34: 24 | B34: АО "Дальневосточная ресурсоснабжающая компания" | C34: ВЛ | D34: ПС "Тавричанка" Ф-13 | E34: 6 (6.3) | F34: 18,03 2023.11.17 | G34: 19,35 2023.11.17 | H34: В | I34: 1.53 | J34: ТП | K34: 0 | L34: 0 | M34: 650 | N34: 0 | O34: 0 | P34: 650 | Q34: 0 | R34: 0 | S34: 9 | T34: 641 | U34: 0 | V34: 253 | X34: запись в оперативном журнале | Y34: 3.4.8.5 | Z34: 4.21,4.18 | AA34: 0 | AB34: =IF(AA34=0,I34,0) -> 1.53 | AC34: =IF(AA34=1,I34,0) -> 0 | AE34: =IF(AA34=0,D34,0) -> ПС "Тавричанка" Ф-13 | AF34: =IF(AA34=1,D34,0) -> 0 | AH34: =IF(AE34=0,0,IF(COUNTIF($AE$11:AE33,AE34)=0,P34,0)) -> 650 | AI34: =IF(AF34=0,0,IF(COUNTIF($AF$11:AF33,AF34)=0,P34,0)) -> 0 | AK34: =IF(AA34=0,V34,0) -> 253 | AL34: =IF(AA34=1,V34,0) -> 0 | AN34: =IF(COUNTIF($D$11:D33,D34)=0,M34,0) -> 650 | AP34: =IF(AA34=1,I34,0)*M34 -> 0 | AQ34: =IF(AA34=1,M34,0) -> 0 | AS34: =IF(AA34=1,I34,0)*V34 -> 0 | AU34: =IF(AE34=0,0,IF(COUNTIF($AE$11:AE33,AE34)=0,S34,0)) -> 9 | AV34: =IF(AF34=0,0,S34) -> 0 | AX34: =IF(R34>0,I34*R34*AA34,0) -> 0 | AY34: =IF(R34>0,R34*AA34,0) -> 0 | BA34: =IF(S34>0,I34*S34*AA34,0) -> 0 | BB34: =IF(S34>0,S34*AA34,0) -> 0 | BD34: =IF(T34>0,I34*T34*AA34,0) -> 0 | BE34: =IF(T34>0,T34*AA34,0) -> 0 | BG34: =AX34+BA34+BD34 -> 0 | BH34: =AY34+BB34+BE34 -> 0
A35: ИТОГО по всем прекращениям передачи электрической энергии за отчетный период: | H35: И | I35: =I38+I39 -> 35.39 | J35: х | K35: х | L35: х | M35: =SUM(AN11:AN34) -> 4409 | N35: 0 | O35: 0 | P35: =SUM(AN11:AN34) -> 4409 | Q35: 0 | R35: 0 | S35: =S38+S39 -> 227 | T35: =P35-S35 -> 4182 | U35: 0 | V35: =V38+V39 -> 11384 | X35: х | Y35: х | Z35: х | AA35: 0, 1 | AH35: Примечание: формулы столбца не действуют на 0,4 кв | AO35: сумма | AP35: =SUM(AP11:AP34) -> 534.72 | AQ35: =SUM(AQ11:AQ34) -> 936 | AS35: =SUM(AS11:AS34) -> 209.35 | AT35: =SUM(AT11:AT34) -> 0 | AU35: =SUM(AU11:AU34) -> 205 | AV35: =SUM(AV11:AV34) -> 22 | AX35: =IF('1.3.1.'!BF11=0,0,SUM(AX11:AX34)/'1.3.1.'!BF11) -> 0 | AY35: =IF('1.3.1.'!BF11=0,0,SUM(AY11:AY34)/'1.3.1.'!BF11) -> 0 | BA35: =SUM(BA11:BA34)/'1.3.1.'!BF12 -> 0.039875776 | BB35: =SUM(BB11:BB34)/'1.3.1.'!BF12 -> 0.068322981 | BD35: =SUM(BD11:BD34)/'1.3.1.'!BF13 -> 0.041643792 | BE35: =SUM(BE11:BE34)/'1.3.1.'!BF13 -> 0.072933291 | BG35: =SUM(BG11:BG34)/'1.3.1.'!BF8 -> 0.041599502 | BH35: =SUM(BH11:BH34)/'1.3.1.'!BF8 -> 0.0728178
A36: - по ограничениям, связанным с проведением ремонтных работ | H36: П | I36: - | J36: х | K36: х | L36: х | M36: - | N36: - | O36: - | P36: - | Q36: - | R36: - | S36: - | T36: - | U36: - | V36: - | W36: - | X36: х | Y36: х | Z36: х | AA36: 0 | AX36: ПsaidiСН1 | AY36: ПsaifiСН1 | BA36: ПsaidiСН2 | BB36: ПsaifiСН2 | BD36: ПsaidiНН | BE36: ПsaifiНН | BG36: Пsaidi | BH36: Пsaifi
A37: - по аварийным ограничениям | H37: А | I37: - | J37: х | K37: х | L37: х | M37: - | N37: - | O37: - | P37: - | Q37: - | R37: - | S37: - | T37: - | U37: - | V37: - | W37: - | X37: х | Y37: х | Z37: х | AA37: 0
A38: - по внерегламентным отключениям | H38: В | I38: =SUM(AB11:AB34) -> 34.15 | J38: х | K38: х | L38: х | M38: =SUM(AH11:AH34) -> 4397 | N38: 0 | O38: 0 | P38: =SUM(AH11:AH34) -> 4397 | Q38: 0 | R38: 0 | S38: =AU35 -> 205 | T38: =P38-S38 -> 4192 | U38: 0 | V38: =SUM(AK11:AK34) -> 11029 | X38: х | Y38: х | Z38: х | AA38: 0
A39: - по внерегламентным отключениям, учитываемым при расчете индикативных показателей надежности | H39: В1 | I39: =SUM(AC11:AC34) -> 1.24 | J39: х | K39: х | L39: х | M39: =SUM(AI11:AI34) -> 936 | N39: 0 | O39: 0 | P39: =SUM(AI11:AI34) -> 936 | Q39: 0 | R39: 0 | S39: =AV35 -> 22 | T39: =P39-S39 -> 914 | U39: 0 | V39: =SUM(AL11:AL34) -> 355 | W39: - | X39: х | Y39: х | Z39: х | AA39: 1
F41: Ведущий инженер ПТС | L41: Шевелев Д.С.
F42: Должность | L42: Ф.И.О. | R42: Подпись

Sheet 8.1. 2022
A2: Форма 8.1. - Журнал учёта данных первичной информации по всем прекращениям передачи электрической энергии, произошедших на объектах электросетевых организаций за | Q2: декабрь | R2: месяц | S2: 2022 | T2: года
A3: АО "Дальневосточная ресурсоснабжающая компания"
A4: наименование электросетевой организации
A6: Данные о факте прекращения передачи электрической энергии (если восстановление режима потребления электрической энергии потребителей услуг в рамках одного прекращения передачи электрической энергии происходило в разное время, то форма заполняется отдельно по каждому такому восстановлению) | J6: Данные о масштабе прекращения передачи электрической энергии в сетевой организации | W6: Перечень смежных сетевых организаций, затронутых прекращением передачи электрической энергии | X6: Данные о причинах прекращения передачи электрической энергии и их расследовании | AA6: Учет в показателях надежности, в т.ч. индикативных показателях наджености (0 - нет, 1 - да)
A7: Номер прекращения передачи электрической энергии / Номер итоговой строки | B7: Наименование структурного подразделения сетевой организации | C7: Вид объекта: Кабельная линия (далее - КЛ), Воздушная линия (далее - ВЛ), Кабельно-воздушная линия (далее - КВЛ), Подстанция (далее - ПС), Трансформаторная подстанция (далее - ТП), Распределительный пункт (далее - РП) | D7: Диспетчерское наименование объекта электросетевого хозяйства сетевой организации, в результате отключения которой произошло прекращение передачи электроэнергии потребителям услуг | E7: Высший класс напряжения отключенного оборудования сетевой организации, кВ | F7: Время и дата начала прекращения передачи электрической энергии (часы, минуты, год, месяц, день) | G7: Время и дата восстановления режима потребления электрической энергии потребителей услуг (часы, минуты, год, месяц, день) | H7: Вид прекращения передачи электроэнергии (П, А, В) | I7: Продолжительность прекращения передачи электрической энергии, час | J7: Перечень объектов электросетевого хозяйства, отключение которых приивело к прекращению передачи электрической энергии потребителям услуг (ПС, ТП, РП, ВЛ, КЛ) | K7: Перечень потребителей 1-й и 2-й категорий надежности, в отношении которых произошло полное ограничение режима потребления электрической энергии | L7: Перечень потребителей 1-й и 2-й категорий надежности, в отношении которых произошло частичное ограничение режима потребления электрической энергии | M7: Количество точек поставки потребителей услуг сетевой организации, в отношении которых произошел перерыв электроснабжения, шт., в том числе: | V7: Суммарный объем фактической нагрузки (мощности) на присоединениях потребителей услуг, по которым произошло прекращение передачи электрической энергии на момент возникновения такого события, кВт
M8: ВСЕГО | N8: в разделении категорий надежности потребителей электрической энергии | Q8: в разделении уровней напряжения ЭПУ потребителя электрической энергии | U8: Смежные сетевые организации и производители электрической энергии | X8: Номер и дата акта расследования технологического нарушения, записи в оперативном журнале | Y8: Код организационной причины аварии | Z8: Код технической причины повреждения оборудования
N9: 1-я категория надежности | O9: 2-я категория надежности | P9: 3-я категория надежности | Q9: ВН (110 кВ и выше) | R9: СН1 (27,5- 60 кВ) | S9: СН2 (1-20 кВ) | T9: НН (до 1 кВ)
A10: 1 | B10: 2 | C10: 3 | D10: 4 | E10: 5 | F10: 6 | G10: 7 | H10: 8 | I10: 9 | J10: 10 | K10: 11 | L10: 12 | M10: 13 | N10: 14 | O10: 15 | P10: 16 | Q10: 17 | R10: 18 | S10: 19 | T10: 20 | U10: 21 | V10: 22 | W10: 23 | X10: 24 | Y10: 25 | Z10: 26 | AA10: 27 | AB10: время В | AC10: время В1 | AE10: фидера В | AF10: фидера В1 | AH10: потребители без повторов для В | AI10: потребители без повторов для В1 | AK10: мощность В | AL10: мощность В1 | AN10: количество точек отключения | AP10: форма 1.3 п2 | AQ10: п3 | AS10: форма1.4 | AU10: повторы по СН-2 для итога В | AV10: повторы по СН-2 для итога В1
A11: 1 | B11: АО "Дальневосточная ресурсоснабжающая компания" | C11: ВЛ | D11: пс давыдовка ф8 | E11: 6 (6.3) | F11: 10,40 2022.04.01 | G11: 11,50 2022.04.01 | H11: В | I11: 1.17 | J11: ВЛ 6 (6.3) кВ;ТП 6 (6.3) кВ(Все ЛЭП ТП) | K11: 0 | L11: 0 | M11: 713 | N11: 0 | O11: 0 | P11: 713 | Q11: 0 | R11: 0 | S11: 3 | T11: 710 | U11: 0 | V11: 9690 | X11: запись в журнале одс | Y11: 3.4.8.5 | Z11: 4.21 | AA11: 0 | AB11: =IF(AA11=0,I11,0) -> 1.17 | AC11: =IF(AA11=1,I11,0) -> 0 | AE11: =IF(AA11=0,D11,0) -> пс давыдовка ф8 | AF11: =IF(AA11=1,D11,0) -> 0 | AH11: =IF(AE11=0,0,IF(COUNTIF(AE10,AE11)=0,P11,0)) -> 713 | AI11: =IF(AF11=0,0,P11) -> 0 | AK11: =IF(AA11=0,V11,0) -> 9690 | AL11: =IF(AA11=1,V11,0) -> 0 | AN11: =M11 -> 713 | AP11: =IF(AA11=1,I11,0)*M11 -> 0 | AQ11: =IF(AA11=1,M11,0) -> 0 | AS11: =IF(AA11=1,I11,0)*V11 -> 0 | AU11: =IF(AE11=0,0,IF(COUNTIF(AE10,AE11)=0,S11,0)) -> 3 | AV11: =IF(AF11=0,0,S11) -> 0 | AX11: =IF(R11>0,I11*R11*AA11,0) -> 0 | AY11: =IF(R11>0,R11*AA11,0) -> 0 | BA11: =IF(S11>0,I11*S11*AA11,0) -> 0 | BB11: =IF(S11>0,S11*AA11,0) -> 0 | BD11: =IF(T11>0,I11*T11*AA11,0) -> 0 | BE11: =IF(T11>0,T11*AA11,0) -> 0 | BG11: =AX11+BA11+BD11 -> 0 | BH11: =AY11+BB11+BE11 -> 0
A12: 2 | B12: АО "Дальневосточная ресурсоснабжающая компания" | C12: ВЛ | D12: пс Посьет Ф-10 | E12: 10 (10.5) | F12: 13,42 2022.04.02 | G12: 17,20 2022.04.02 | H12: В | I12: 3.63 | J12: ВЛ 10 (10.5) кВ;КЛ 10 (10.5) кВ;ТП 10 (10.5) кВ(Все ЛЭП ТП) | K12: 0 | L12: 0 | M12: 166 | N12: 0 | O12: 0 | P12: 166 | Q12: 0 | R12: 0 | S12: 24 | T12: 142 | U12: 0 | V12: 975 | X12: записи в оперативном журнале 2022-04-02 | Y12: 3.4.14 | Z12: 4.21 | AA12: 1 | AB12: =IF(AA12=0,I12,0) -> 0 | AC12: =IF(AA12=1,I12,0) -> 3.63 | AE12: =IF(AA12=0,D12,0) -> 0 | AF12: =IF(AA12=1,D12,0) -> пс Посьет Ф-10 | AH12: =IF(AE12=0,0,IF(COUNTIF($AE11:AE$11,AE12)=0,P12,0)) -> 0 | AI12: =IF(AF12=0,0,IF(COUNTIF($AF11:AF$11,AF12)=0,P12,0)) -> 166 | AK12: =IF(AA12=0,V12,0) -> 0 | AL12: =IF(AA12=1,V12,0) -> 975 | AN12: =IF(COUNTIF($D$11:D11,D12)=0,M12,0) -> 166 | AP12: =IF(AA12=1,I12,0)*M12 -> 602.58 | AQ12: =IF(AA12=1,M12,0) -> 166 | AS12: =IF(AA12=1,I12,0)*V12 -> 3539.25 | AU12: =IF(AE12=0,0,IF(COUNTIF($AE11:AE$11,AE12)=0,S12,0)) -> 0 | AV12: =IF(AF12=0,0,S12) -> 24 | AX12: =IF(R12>0,I12*R12*AA12,0) -> 0 | AY12: =IF(R12>0,R12*AA12,0) -> 0 | BA12: =IF(S12>0,I12*S12*AA12,0) -> 87.12 | BB12: =IF(S12>0,S12*AA12,0) -> 24 | BD12: =IF(T12>0,I12*T12*AA12,0) -> 515.46 | BE12: =IF(T12>0,T12*AA12,0) -> 142 | BG12: =AX12+BA12+BD12 -> 602.58 | BH12: =AY12+BB12+BE12 -> 166
A13: 3 | B13: АО "Дальневосточная ресурсоснабжающая компания" ОДС | C13: ВЛ | D13: ПС "Раздольное-1" Ф-17 | E13: 10 (10.5) | F13: 06,00 2022.04.06 | G13: 08,00 2022.04.06 | H13: В | I13: 2 | J13: ВЛ 10 (10.5) кВ ТП | K13: 0 | L13: 0 | M13: 67 | N13: 0 | O13: 0 | P13: 67 | Q13: 0 | R13: 0 | S13: 0 | T13: 67 | U13: 0 | V13: 1200 | X13: запись в оперативном журнале | Y13: 3.4.8.5 | Z13: 4.4 | AA13: 0 | AB13: =IF(AA13=0,I13,0) -> 2 | AC13: =IF(AA13=1,I13,0) -> 0 | AE13: =IF(AA13=0,D13,0) -> ПС "Раздольное-1" Ф-17 | AF13: =IF(AA13=1,D13,0) -> 0 | AH13: =IF(AE13=0,0,IF(COUNTIF($AE$11:AE12,AE13)=0,P13,0)) -> 67 | AI13: =IF(AF13=0,0,IF(COUNTIF($AF$11:AF12,AF13)=0,P13,0)) -> 0 | AK13: =IF(AA13=0,V13,0) -> 1200 | AL13: =IF(AA13=1,V13,0) -> 0 | AN13: =IF(COUNTIF($D$11:D12,D13)=0,M13,0) -> 67 | AP13: =IF(AA13=1,I13,0)*M13 -> 0 | AQ13: =IF(AA13=1,M13,0) -> 0 | AS13: =IF(AA13=1,I13,0)*V13 -> 0 | AU13: =IF(AE13=0,0,IF(COUNTIF($AE$11:AE12,AE13)=0,S13,0)) -> 0 | AV13: =IF(AF13=0,0,S13) -> 0 | AX13: =IF(R13>0,I13*R13*AA13,0) -> 0 | AY13: =IF(R13>0,R13*AA13,0) -> 0 | BA13: =IF(S13>0,I13*S13*AA13,0) -> 0 | BB13: =IF(S13>0,S13*AA13,0) -> 0 | BD13: =IF(T13>0,I13*T13*AA13,0) -> 0 | BE13: =IF(T13>0,T13*AA13,0) -> 0 | BG13: =AX13+BA13+BD13 -> 0 | BH13: =AY13+BB13+BE13 -> 0
A14: 4 | B14: АО "Дальневосточная ресурсоснабжающая компания" ОДС | C14: ВЛ | D14: ПС "Славянка" Ф-12 | E14: 10 (10.5) | F14: 18,55 2022.04.10 | G14: 19,20 2022.04.10 | H14: В | I14: 0.42 | J14: ВЛ 10 (10.5) кВ;КЛ 10 (10.5) кВ;ТП 10 (10.5) кВ(Все ЛЭП ТП) | K14: 0 | L14: 0 | M14: 269 | N14: 0 | O14: 0 | P14: 269 | Q14: 0 | R14: 0 | S14: 25 | T14: 244 | U14: 0 | V14: 987 | X14: записи в оперативном журнале 2022-04-10 | Y14: 3.4.10 | Z14: 4.21 | AA14: 0 | AB14: =IF(AA14=0,I14,0) -> 0.42 | AC14: =IF(AA14=1,I14,0) -> 0 | AE14: =IF(AA14=0,D14,0) -> ПС "Славянка" Ф-12 | AF14: =IF(AA14=1,D14,0) -> 0 | AH14: =IF(AE14=0,0,IF(COUNTIF($AE$11:AE13,AE14)=0,P14,0)) -> 269 | AI14: =IF(AF14=0,0,IF(COUNTIF($AF$11:AF13,AF14)=0,P14,0)) -> 0 | AK14: =IF(AA14=0,V14,0) -> 987 | AL14: =IF(AA14=1,V14,0) -> 0 | AN14: =IF(COUNTIF($D$11:D13,D14)=0,M14,0) -> 269 | AP14: =IF(AA14=1,I14,0)*M14 -> 0 | AQ14: =IF(AA14=1,M14,0) -> 0 | AS14: =IF(AA14=1,I14,0)*V14 -> 0 | AU14: =IF(AE14=0,0,IF(COUNTIF($AE$11:AE13,AE14)=0,S14,0)) -> 25 | AV14: =IF(AF14=0,0,S14) -> 0 | AX14: =IF(R14>0,I14*R14*AA14,0) -> 0 | AY14: =IF(R14>0,R14*AA14,0) -> 0 | BA14: =IF(S14>0,I14*S14*AA14,0) -> 0 | BB14: =IF(S14>0,S14*AA14,0) -> 0 | BD14: =IF(T14>0,I14*T14*AA14,0) -> 0 | BE14: =IF(T14>0,T14*AA14,0) -> 0 | BG14: =AX14+BA14+BD14 -> 0 | BH14: =AY14+BB14+BE14 -> 0
A15: 5 | B15: АО "Дальневосточная ресурсоснабжающая компания" ОДС | C15: ВЛ | D15: ПС "Славянка" Ф-12 | E15: 10 (10.5) | F15: 03,30 2022.04.27 | G15: 04,22 2022.04.27 | H15: В | I15: 0.87 | J15: ВЛ 10 (10.5) кВ т;ТП 10 (10.5) кВ(Все ЛЭП ТП) | K15: 0 | L15: 0 | M15: 269 | N15: 0 | O15: 0 | P15: 269 | Q15: 0 | R15: 0 | S15: 25 | T15: 244 | U15: 0 | V15: 2300 | X15: запись в оперативном журнале | Y15: 3.4.10 | Z15: 4.21 | AA15: 0 | AB15: =IF(AA15=0,I15,0) -> 0.87 | AC15: =IF(AA15=1,I15,0) -> 0 | AE15: =IF(AA15=0,D15,0) -> ПС "Славянка" Ф-12 | AF15: =IF(AA15=1,D15,0) -> 0 | AH15: =IF(AE15=0,0,IF(COUNTIF($AE$11:AE14,AE15)=0,P15,0)) -> 0 | AI15: =IF(AF15=0,0,IF(COUNTIF($AF$11:AF14,AF15)=0,P15,0)) -> 0 | AK15: =IF(AA15=0,V15,0) -> 2300 | AL15: =IF(AA15=1,V15,0) -> 0 | AN15: =IF(COUNTIF($D$11:D14,D15)=0,M15,0) -> 0 | AP15: =IF(AA15=1,I15,0)*M15 -> 0 | AQ15: =IF(AA15=1,M15,0) -> 0 | AS15: =IF(AA15=1,I15,0)*V15 -> 0 | AU15: =IF(AE15=0,0,IF(COUNTIF($AE$11:AE14,AE15)=0,S15,0)) -> 0 | AV15: =IF(AF15=0,0,S15) -> 0 | AX15: =IF(R15>0,I15*R15*AA15,0) -> 0 | AY15: =IF(R15>0,R15*AA15,0) -> 0 | BA15: =IF(S15>0,I15*S15*AA15,0) -> 0 | BB15: =IF(S15>0,S15*AA15,0) -> 0 | BD15: =IF(T15>0,I15*T15*AA15,0) -> 0 | BE15: =IF(T15>0,T15*AA15,0) -> 0 | BG15: =AX15+BA15+BD15 -> 0 | BH15: =AY15+BB15+BE15 -> 0
A16: 6 | B16: АО "Дальневосточная ресурсоснабжающая компания" ОДС | C16: ВЛ | D16: пс Славянка Ф-5 | E16: 10 (10.5) | F16: 12,30 2022.04.27 | G16: 14,45 2022.04.27 | H16: В | I16: 2.25 | J16: ВЛ 10 (10.5) кВ;КЛ 10 (10.5) кВ;ТП 10 (10.5) кВ(Все ЛЭП ТП) | K16: 0 | L16: 0 | M16: 171 | N16: 0 | O16: 0 | P16: 171 | Q16: 0 | R16: 0 | S16: 14 | T16: 157 | U16: 0 | V16: 567 | X16: записи в оперативном журнале 2022-04-27 | Y16: 3.4.14 | Z16: 4.21 | AA16: 1 | AB16: =IF(AA16=0,I16,0) -> 0 | AC16: =IF(AA16=1,I16,0) -> 2.25 | AE16: =IF(AA16=0,D16,0) -> 0 | AF16: =IF(AA16=1,D16,0) -> пс Славянка Ф-5 | AH16: =IF(AE16=0,0,IF(COUNTIF($AE$11:AE15,AE16)=0,P16,0)) -> 0 | AI16: =IF(AF16=0,0,IF(COUNTIF($AF$11:AF15,AF16)=0,P16,0)) -> 171 | AK16: =IF(AA16=0,V16,0) -> 0 | AL16: =IF(AA16=1,V16,0) -> 567 | AN16: =IF(COUNTIF($D$11:D15,D16)=0,M16,0) -> 171 | AP16: =IF(AA16=1,I16,0)*M16 -> 384.75 | AQ16: =IF(AA16=1,M16,0) -> 171 | AS16: =IF(AA16=1,I16,0)*V16 -> 1275.75 | AU16: =IF(AE16=0,0,IF(COUNTIF($AE$11:AE15,AE16)=0,S16,0)) -> 0 | AV16: =IF(AF16=0,0,S16) -> 14 | AX16: =IF(R16>0,I16*R16*AA16,0) -> 0 | AY16: =IF(R16>0,R16*AA16,0) -> 0 | BA16: =IF(S16>0,I16*S16*AA16,0) -> 31.5 | BB16: =IF(S16>0,S16*AA16,0) -> 14 | BD16: =IF(T16>0,I16*T16*AA16,0) -> 353.25 | BE16: =IF(T16>0,T16*AA16,0) -> 157 | BG16: =AX16+BA16+BD16 -> 384.75 | BH16: =AY16+BB16+BE16 -> 171
